Felt | Verdi |
AlreadyApplied | True |
Aperture | 1.8 |
ApertureValue | 1.8 |
AutoLateralCA | 1 |
AutoWhiteVersion | 134348800 |
BitsPerSample | 8 |
Blacks2012 | -19 |
BlueHue | 0 |
BlueSaturation | 0 |
BrightnessValue | -1.04140625 |
CameraProfile | Adobe Standard |
CircleOfConfusion | 0.030 mm |
Clarity2012 | +19 |
ColorComponents | 3 |
ColorNoiseReduction | 25 |
ColorNoiseReductionDetail | 50 |
ColorNoiseReductionSmoothness | 50 |
ColorTemperature | 2800 |
Contrast | High |
Contrast2012 | +10 |
ConvertToGrayscale | False |
CreateDate | 2014:03:12 19:23:49 |
CreatorTool | Adobe Photoshop Lightroom 5.3 (Windows) |
CropAngle | 0 |
CropBottom | 0.946236 |
CropConstrainToWarp | 0 |
CropLeft | 0.040323 |
CropRight | 0.959677 |
CropTop | 0.026882 |
CustomRendered | Normal |
DateCreated (1) | 2014:03:12 |
DateCreated | 2014:03:12 19:23:49 |
DateTimeOriginal | 2014:03:12 19:23:49 |
DefringeGreenAmount | 0 |
DefringeGreenHueHi | 60 |
DefringeGreenHueLo | 40 |
DefringePurpleAmount | 0 |
DefringePurpleHueHi | 70 |
DefringePurpleHueLo | 30 |
DigitalZoomRatio | 1 |
Exposure2012 | +0.48 |
ExposureCompensation | 0 |
ExposureMode | Manual |
ExposureProgram | Manual |
ExposureTime | 1/125 |
Flash | Off, Did not fire |
FNumber | 1.8 |
FocalLength | 55.0 mm |
FocalLength35efl | 55.0 mm (35 mm equivalent: 55.0 mm) |
FocalLengthIn35mmFormat | 55 mm |
Format | image/jpeg |
FOV | 36.2 deg |
GrainAmount | 0 |
GreenHue | 0 |
GreenSaturation | 0 |
HasCrop | True |
HasSettings | True |
Highlights2012 | -17 |
HueAdjustmentAqua | +15 |
HueAdjustmentBlue | +5 |
HueAdjustmentGreen | +5 |
HueAdjustmentMagenta | 0 |
HueAdjustmentOrange | 0 |
HueAdjustmentPurple | +30 |
HueAdjustmentRed | +10 |
HueAdjustmentYellow | -8 |
HyperfocalDistance | 55.93 m |
ImageHeight | 5515 |
ImageSize | 3677x5515 |
ImageWidth | 3677 |
ISO | 1600 |
Lens | FE 55mm F1.8 ZA |
LensDistortInfo | 1070501537/1073741824 14599277/1073741824 -14902930/1073741824 -3922009/1073741824 |
LensInfo | 55mm f/1.8 |
LensManualDistortionAmount | 0 |
LensModel | FE 55mm F1.8 ZA |
LensProfileChromaticAberrationScale | 100 |
LensProfileDistortionScale | 100 |
LensProfileEnable | 1 |
LensProfileFilename | SONY (Sony FE 55mm F1.8 ZA) - RAW.lcp |
LensProfileName | Adobe (Sony FE 55mm F1.8 ZA) |
LensProfileSetup | Custom |
LensProfileVignettingScale | 100 |
LightSource | Tungsten (Incandescent) |
LightValue | 4.7 |
LuminanceAdjustmentAqua | -10 |
LuminanceAdjustmentBlue | -20 |
LuminanceAdjustmentGreen | -10 |
LuminanceAdjustmentMagenta | -15 |
LuminanceAdjustmentOrange | -12 |
LuminanceAdjustmentPurple | +5 |
LuminanceAdjustmentRed | -20 |
LuminanceAdjustmentYellow | -20 |
LuminanceNoiseReductionContrast | 100 |
LuminanceNoiseReductionDetail | 61 |
LuminanceSmoothing | 25 |
Make | SONY |
MaxApertureValue | 1.8 |
Megapixels | 20.3 |
MeteringMode | Center-weighted average |
Model | ILCE-7 |
ModifyDate (1) | 2014:03:13 00:10:37+01:00 |
ModifyDate | 2014:03:13 00:10:37 |
ParametricDarks | +10 |
ParametricHighlights | 0 |
ParametricHighlightSplit | 75 |
ParametricLights | +10 |
ParametricMidtoneSplit | 50 |
ParametricShadows | -5 |
ParametricShadowSplit | 20 |
PerspectiveAspect | 0 |
PerspectiveHorizontal | 0 |
PerspectiveRotate | 0.0 |
PerspectiveScale | 100 |
PerspectiveUpright | 1 |
PerspectiveVertical | 0 |
PostCropVignetteAmount | 0 |
ProcessVersion | 6.7 |
ProfileDescription | sRGB IEC61966-2.1 |
Rating | 3 |
RecommendedExposureIndex | 1600 |
RedHue | 0 |
RedSaturation | 0 |
Saturation (1) | -5 |
Saturation | High |
SaturationAdjustmentAqua | -45 |
SaturationAdjustmentBlue | +10 |
SaturationAdjustmentGreen | -40 |
SaturationAdjustmentMagenta | -40 |
SaturationAdjustmentOrange | +8 |
SaturationAdjustmentPurple | -40 |
SaturationAdjustmentRed | -30 |
SaturationAdjustmentYellow | 0 |
ScaleFactor35efl | 1.0 |
SceneCaptureType | Standard |
SceneType | Directly photographed |
SensitivityType | Recommended Exposure Index |
Shadows2012 | -12 |
ShadowTint | 0 |
SharpenDetail | 14 |
SharpenEdgeMasking | 83 |
SharpenRadius | +1.2 |
Sharpness (1) | 41 |
Sharpness | Hard |
ShutterSpeed | 1/125 |
ShutterSpeedValue | 1/125 |
Software | Adobe Photoshop Lightroom 5.3 (Windows) |
SplitToningBalance | 0 |
SplitToningHighlightHue | 0 |
SplitToningHighlightSaturation | 0 |
SplitToningShadowHue | 0 |
SplitToningShadowSaturation | 0 |
Tint | +5 |
ToneCurveName2012 | Custom |
ToneCurvePV2012 | 0, 0, 26, 27, 128, 128, 255, 255 |
ToneCurvePV2012Blue | 0, 0, 44, 31, 116, 124, 179, 200, 255, 255 |
ToneCurvePV2012Green | 0, 0, 45, 31, 114, 122, 178, 200, 255, 255 |
ToneCurvePV2012Red | 0, 0, 46, 29, 115, 123, 179, 200, 255, 255 |
Version | 8.3 |
Vibrance | 0 |
VignetteAmount | 0 |
WhiteBalance (1) | Custom |
WhiteBalance | Manual |
Whites2012 | -7 |