Felt | Verdi |
AlreadyApplied | True |
Aperture | 22.0 |
ApertureValue | 22.0 |
ApproximateFocusDistance | 11.5 |
Artist | OysteinNordas |
AutoLateralCA | 0 |
BitsPerSample (1) | 8 8 8 |
BitsPerSample | 8 |
Blacks2012 | -52 |
BlueHue | 0 |
BlueSaturation | 0 |
By-line | OysteinNordas |
CameraProfile | Adobe Standard |
CircleOfConfusion | 0.010 mm |
Clarity2012 | -100 |
ColorComponents | 1 |
ColorMode | RGB |
ColorNoiseReduction | 25 |
ColorNoiseReductionDetail | 50 |
ColorSpace | sRGB |
ColorTemperature | 4262 |
Contrast2012 | +100 |
ConvertToGrayscale | False |
Copyright | Tel+4795702237 OysteinNordas@gmail.com |
CopyrightNotice | Tel+4795702237 OysteinNordas@gmail.com |
CreateDate | 2013:07:11 08:19:27 |
Creator | OysteinNordas |
CreatorTool | Adobe Photoshop Lightroom 4.4 (Windows) |
CropAngle | 0 |
CropBottom | 0.549708 |
CropConstrainToWarp | 0 |
CropHeight | 1333 |
CropLeft | 0.307017 |
CropRight | 0.692983 |
CropTop | 0.163743 |
CropUnit | pixels |
CropWidth | 2000 |
CustomRendered | Normal |
DateCreated (1) | 2013:07:11 |
DateCreated | 2013:07:11 08:19:27 |
DateTimeOriginal | 2013:07:11 08:19:27 |
DefringeGreenAmount | 0 |
DefringeGreenHueHi | 60 |
DefringeGreenHueLo | 40 |
DefringePurpleAmount | 0 |
DefringePurpleHueHi | 70 |
DefringePurpleHueLo | 30 |
DOF | 17.26 m (7.49 - 24.75 m) |
ExifImageHeight | 1333 |
ExifImageWidth | 2000 |
Exposure2012 | -0.24 |
ExposureCompensation | +1/3 |
ExposureMode | Auto |
ExposureProgram | Aperture-priority AE |
ExposureTime | 1/20 |
Firmware | 1.1.3 |
Flash | Off, Did not fire |
FlashCompensation | 0 |
FNumber | 22.0 |
FocalLength | 70.0 mm |
FocalLength35efl | 70.0 mm (35 mm equivalent: 201.6 mm) |
Format | image/jpeg |
FOV | 10.2 deg |
GradientBasedCorrActive | true |
GradientBasedCorrAmount | 1.000000 |
GradientBasedCorrBrightness | 0.000000 |
GradientBasedCorrClarity2012 (1) | 0.011490 |
GradientBasedCorrClarity2012 | 0.632180 |
GradientBasedCorrContrast2012 | 0.000000 |
GradientBasedCorrDefringe | 0.000000 |
GradientBasedCorrExposure2012 (1) | 0.310250 |
GradientBasedCorrExposure2012 | 0.195500 |
GradientBasedCorrHighlights2012 (1) | 0.000000 |
GradientBasedCorrHighlights2012 | 0.287360 |
GradientBasedCorrHue | 0.000000 |
GradientBasedCorrLuminanceNoise | 0.000000 |
GradientBasedCorrMaskFullX (1) | 0.486355 |
GradientBasedCorrMaskFullX | 0.516858 |
GradientBasedCorrMaskFullY (1) | 0.969071 |
GradientBasedCorrMaskFullY | 0.560485 |
GradientBasedCorrMaskValue | 1.000000 |
GradientBasedCorrMaskWhat | Mask/Gradient |
GradientBasedCorrMaskZeroX (1) | 0.489649 |
GradientBasedCorrMaskZeroX | 0.515218 |
GradientBasedCorrMaskZeroY (1) | 0.447723 |
GradientBasedCorrMaskZeroY | 0.172690 |
GradientBasedCorrMoire | 0.000000 |
GradientBasedCorrSaturation (3) | 0.011490 |
GradientBasedCorrSaturation | 0.000000 |
GradientBasedCorrShadows2012 (1) | 0.000000 |
GradientBasedCorrShadows2012 | -0.287360 |
GradientBasedCorrSharpness (1) | 0.034480 |
GradientBasedCorrSharpness | 1.000000 |
GradientBasedCorrTemperature | 0.000000 |
GradientBasedCorrTint | 0.000000 |
GradientBasedCorrWhat | Correction |
GrainAmount | 0 |
GreenHue | 0 |
GreenSaturation | 0 |
HasCrop | True |
HasSettings | True |
Highlights2012 | -100 |
HueAdjustmentAqua | 0 |
HueAdjustmentBlue | 0 |
HueAdjustmentGreen | 0 |
HueAdjustmentMagenta | 0 |
HueAdjustmentOrange | 0 |
HueAdjustmentPurple | 0 |
HueAdjustmentRed | 0 |
HueAdjustmentYellow | 0 |
HyperfocalDistance | 21.35 m |
ICCProfileName | sRGB IEC61966-2.1 |
ImageHeight | 1333 |
ImageNumber | 0 |
ImageSize | 2000x1333 |
ImageWidth | 2000 |
ISO | 200 |
Lens | EF24-70mm f/2.8L II USM |
LensID (1) | 495 |
LensID | Canon EF 24-70mm f/2.8L II USM |
LensInfo | 24-70mm f/? |
LensManualDistortionAmount | 0 |
LensModel | EF24-70mm f/2.8L II USM |
LensProfileEnable | 0 |
LensProfileSetup | LensDefaults |
LensSerialNumber | 0225006965 |
LightValue | 12.2 |
LuminanceAdjustmentAqua | 0 |
LuminanceAdjustmentBlue | 0 |
LuminanceAdjustmentGreen | 0 |
LuminanceAdjustmentMagenta | 0 |
LuminanceAdjustmentOrange | 0 |
LuminanceAdjustmentPurple | 0 |
LuminanceAdjustmentRed | 0 |
LuminanceAdjustmentYellow | 0 |
LuminanceNoiseReductionContrast | 0 |
LuminanceNoiseReductionDetail | 50 |
LuminanceSmoothing | 18 |
Make | Canon |
MaxApertureValue | 2.8 |
Megapixels | 2.7 |
MeteringMode | Multi-segment |
Model | Canon EOS 5D Mark III |
ModifyDate (1) | 2013:07:11 13:02:47+02:00 |
ModifyDate | 2013:07:11 13:02:47 |
Orientation | Horizontal (normal) |
ParametricDarks | 0 |
ParametricHighlights | 0 |
ParametricHighlightSplit | 75 |
ParametricLights | 0 |
ParametricMidtoneSplit | 50 |
ParametricShadows | 0 |
ParametricShadowSplit | 25 |
PerspectiveHorizontal | 0 |
PerspectiveRotate | 0.0 |
PerspectiveScale | 100 |
PerspectiveVertical | 0 |
PhotometricInterpretation | RGB |
PostCropVignetteAmount | 0 |
ProcessVersion | 6.7 |
ProfileDescription | sRGB IEC61966-2.1 |
RecommendedExposureIndex | 200 |
RedHue | 0 |
RedSaturation | 0 |
Rights | Tel+4795702237 OysteinNordas@gmail.com |
Saturation | -100 |
SaturationAdjustmentAqua | 0 |
SaturationAdjustmentBlue | 0 |
SaturationAdjustmentGreen | 0 |
SaturationAdjustmentMagenta | 0 |
SaturationAdjustmentOrange | 0 |
SaturationAdjustmentPurple | 0 |
SaturationAdjustmentRed | 0 |
SaturationAdjustmentYellow | 0 |
ScaleFactor35efl | 2.9 |
SceneCaptureType | Standard |
SensitivityType | Recommended Exposure Index |
SerialNumber | 053024008418 |
Shadows2012 | 0 |
ShadowTint | 0 |
SharpenDetail | 25 |
SharpenEdgeMasking | 0 |
SharpenRadius | +1.0 |
Sharpness | 95 |
ShutterSpeed | 1/20 |
ShutterSpeedValue | 1/20 |
Software | Adobe Photoshop CS6 (Windows) |
SplitToningBalance | 0 |
SplitToningHighlightHue | 0 |
SplitToningHighlightSaturation | 0 |
SplitToningShadowHue | 0 |
SplitToningShadowSaturation | 0 |
Tint | +1 |
ToneCurveName2012 | Linear |
ToneCurvePV2012 | 0, 0, 255, 255 |
ToneCurvePV2012Blue | 0, 0, 255, 255 |
ToneCurvePV2012Green | 0, 0, 255, 255 |
ToneCurvePV2012Red | 0, 0, 255, 255 |
URL_List | |
Version | 7.4 |
Vibrance | 0 |
VignetteAmount | 0 |
WhiteBalance (1) | Custom |
WhiteBalance | Auto |
Whites2012 | -100 |