Felt | Verdi |
AlreadyApplied | True |
Aperture | 1.8 |
ApertureValue | 1.8 |
ApproximateFocusDistance | 3.96 |
AutoLateralCA | 0 |
BitsPerSample | 8 |
Blacks2012 | +25 |
BlueHue | -15 |
BlueSaturation | 0 |
Brightness | +50 |
CameraProfile | Adobe Standard |
CircleOfConfusion | 0.019 mm |
Clarity | 0 |
Clarity2012 | 0 |
ColorComponents | 3 |
ColorNoiseReduction | 25 |
ColorNoiseReductionDetail | 50 |
ColorTemperature | 7100 |
Contrast | +25 |
Contrast2012 | 0 |
ConvertToGrayscale | False |
CreateDate (1) | 2012:12:25 15:20:01.45 |
CreateDate | 2012:12:25 15:20:01 |
CreatorTool | Adobe Photoshop Lightroom 4.0 (Macintosh) |
CropAngle | 0.459971 |
CropBottom | 0.945468 |
CropConstrainToWarp | 0 |
CropHeight | 667 |
CropLeft | 0.012194 |
CropRight | 0.937183 |
CropTop | 0.004303 |
CropUnit | pixels |
CropWidth | 1000 |
CustomRendered | Normal |
DateCreated (1) | 2012:12:25 |
DateCreated | 2012:12:25 15:20:01.45 |
DateTimeOriginal | 2012:12:25 15:20:01 |
Defringe | 0 |
DOF | 1.22 m (3.44 - 4.66 m) |
Exposure | 0.00 |
Exposure2012 | 0.00 |
ExposureCompensation | 0 |
ExposureMode | Manual |
ExposureProgram | Manual |
ExposureTime | 1/160 |
FillLight | 0 |
Firmware | 1.0.5 |
Flash | Off, Did not fire |
FlashCompensation | 0 |
FNumber | 1.8 |
FocalLength | 30.0 mm |
FocalLength35efl | 30.0 mm (35 mm equivalent: 47.2 mm) |
Format | image/jpeg |
FOV | 41.8 deg |
GrainAmount | 0 |
GreenHue | 0 |
GreenSaturation | 0 |
HasCrop | True |
HasSettings | True |
HighlightRecovery | 0 |
Highlights2012 | -20 |
HueAdjustmentAqua | +30 |
HueAdjustmentBlue | 0 |
HueAdjustmentGreen | +20 |
HueAdjustmentMagenta | +46 |
HueAdjustmentOrange | 0 |
HueAdjustmentPurple | +60 |
HueAdjustmentRed | +20 |
HueAdjustmentYellow | +10 |
HyperfocalDistance | 26.17 m |
ImageHeight | 667 |
ImageNumber | 0 |
ImageSize | 1000x667 |
ImageWidth | 1000 |
ISO | 400 |
Lens | 30mm |
LensID (1) | 169 |
LensID | Sigma 30mm f/1.4 EX DC HSM |
LensInfo | 30mm f/? |
LensManualDistortionAmount | 0 |
LensModel | 30mm |
LensProfileChromaticAberrationScale | 100 |
LensProfileDistortionScale | 100 |
LensProfileEnable | 1 |
LensProfileFilename | Canon (Sigma_30mm_F1.4_EX_DC_HSM ) - RAW.lcp |
LensProfileName | Adobe (SIGMA 30mm F1.4 EX DC / HSM, Canon) |
LensProfileSetup | LensDefaults |
LensProfileVignettingScale | 100 |
LensSerialNumber | 0000000000 |
LightValue | 7.0 |
LuminanceAdjustmentAqua | -40 |
LuminanceAdjustmentBlue | -40 |
LuminanceAdjustmentGreen | -15 |
LuminanceAdjustmentMagenta | +30 |
LuminanceAdjustmentOrange | -5 |
LuminanceAdjustmentPurple | +25 |
LuminanceAdjustmentRed | 0 |
LuminanceAdjustmentYellow | 0 |
LuminanceSmoothing | 0 |
Make | Canon |
MaxApertureValue | 1.4 |
Megapixels | 0.667 |
MeteringMode | Spot |
Model | Canon EOS 60D |
ModifyDate (1) | 2013:02:15 18:26:01+01:00 |
ModifyDate | 2013:02:15 18:26:01 |
ParametricDarks | -55 |
ParametricHighlights | -25 |
ParametricHighlightSplit | 70 |
ParametricLights | +35 |
ParametricMidtoneSplit | 40 |
ParametricShadows | 0 |
ParametricShadowSplit | 20 |
PerspectiveHorizontal | 0 |
PerspectiveRotate | 0.0 |
PerspectiveScale | 100 |
PerspectiveVertical | 0 |
PostCropVignetteAmount | 0 |
ProcessVersion | 6.7 |
ProfileDescription | sRGB IEC61966-2.1 |
RecommendedExposureIndex | 400 |
RedHue | +25 |
RedSaturation | -15 |
Saturation | 0 |
SaturationAdjustmentAqua | -36 |
SaturationAdjustmentBlue | 0 |
SaturationAdjustmentGreen | -60 |
SaturationAdjustmentMagenta | -30 |
SaturationAdjustmentOrange | -10 |
SaturationAdjustmentPurple | -60 |
SaturationAdjustmentRed | -20 |
SaturationAdjustmentYellow | -10 |
ScaleFactor35efl | 1.6 |
SceneCaptureType | Standard |
SensitivityType | Recommended Exposure Index |
SerialNumber | 0480250859 |
Shadows | 5 |
Shadows2012 | +25 |
ShadowTint | 0 |
SharpenDetail | 25 |
SharpenEdgeMasking | 0 |
SharpenRadius | +1.0 |
Sharpness | 25 |
ShutterSpeed | 1/160 |
ShutterSpeedValue | 1/160 |
Software | Adobe Photoshop Lightroom 4.0 (Macintosh) |
SplitToningBalance | 0 |
SplitToningHighlightHue | 0 |
SplitToningHighlightSaturation | 0 |
SplitToningShadowHue | 0 |
SplitToningShadowSaturation | 0 |
Tint | +4 |
ToneCurve | 0, 0, 255, 255 |
ToneCurveBlue | 0, 0, 255, 255 |
ToneCurveGreen | 0, 0, 255, 255 |
ToneCurveName | Linear |
ToneCurveName2012 | Fuji FP-100c Neg - - |
ToneCurvePV2012 | 0, 18, 37, 55, 82, 91, 157, 148, 224, 221, 255, 253 |
ToneCurvePV2012Blue | 0, 0, 27, 16, 54, 47, 97, 117, 144, 168, 175, 189, 228, 217, 255, 244 |
ToneCurvePV2012Green | 0, 11, 28, 21, 57, 47, 99, 119, 134, 163, 172, 195, 217, 224, 255, 246 |
ToneCurvePV2012Red | 0, 0, 33, 13, 58, 48, 98, 121, 161, 192, 210, 227, 255, 255 |
ToneCurveRed | 0, 0, 255, 255 |
Version | 7.0 |
Vibrance | 0 |
VignetteAmount | 0 |
WhiteBalance (1) | As Shot |
WhiteBalance | Auto |
Whites2012 | -10 |