Felt | Verdi |
AlreadyApplied | True |
BitsPerSample | 8 |
BlueHue | 0 |
BlueSaturation | 0 |
Brightness | 0 |
CameraProfile | Embedded |
ChromaticAberrationB | 0 |
ChromaticAberrationR | 0 |
Clarity | +100 |
ColorComponents | 3 |
ColorMode | RGB |
ColorNoiseReduction | 0 |
Contrast | +20 |
ConvertToGrayscale | False |
CopyrightFlag | True |
CreateDate | 2011:08:05 15:54:47 |
Creator | Frederick P N Howard |
CreatorTool | Adobe Photoshop Lightroom |
CreatorWorkEmail | howard@stormfilms.no |
CropAngle | 0 |
CropBottom | 0.916742 |
CropConstrainToWarp | 0 |
CropHeight | 2371 |
CropLeft | 0 |
CropRight | 0.814332 |
CropTop | 0.10241 |
CropUnit | pixels |
CropWidth | 3557 |
DateCreated | 2011:08:05 15:54:47 |
Defringe | 0 |
Exposure | 0.00 |
FillLight | 65 |
Firmware | 1.0.1 |
FlashCompensation | 0 |
Format | image/tiff |
GrainAmount | 0 |
GreenHue | 0 |
GreenSaturation | 0 |
HasCrop | True |
HasSettings | True |
HighlightRecovery | 65 |
HueAdjustmentAqua | 0 |
HueAdjustmentBlue | 0 |
HueAdjustmentGreen | 0 |
HueAdjustmentMagenta | 0 |
HueAdjustmentOrange | 0 |
HueAdjustmentPurple | 0 |
HueAdjustmentRed | 0 |
HueAdjustmentYellow | 0 |
ICCProfileName | sRGB IEC61966-2.1 |
ImageHeight | 2371 |
ImageNumber | 11 |
ImageSize | 3557x2371 |
ImageWidth | 3557 |
IncrementalTemperature | 0 |
IncrementalTint | 0 |
Label | Red |
Lens | EF100-400mm f/4.5-5.6L IS USM |
LensID | 183 |
LensInfo | 100-400mm f/? |
LensManualDistortionAmount | 0 |
LensProfileEnable | 0 |
LensProfileSetup | LensDefaults |
LuminanceAdjustmentAqua | 0 |
LuminanceAdjustmentBlue | -30 |
LuminanceAdjustmentGreen | 0 |
LuminanceAdjustmentMagenta | 0 |
LuminanceAdjustmentOrange | 0 |
LuminanceAdjustmentPurple | 0 |
LuminanceAdjustmentRed | 0 |
LuminanceAdjustmentYellow | 0 |
LuminanceSmoothing | 0 |
Marked | True |
Megapixels | 8.4 |
ModifyDate | 2012:10:05 23:26:28+02:00 |
ParametricDarks | -8 |
ParametricHighlights | +39 |
ParametricHighlightSplit | 75 |
ParametricLights | 0 |
ParametricMidtoneSplit | 50 |
ParametricShadows | -28 |
ParametricShadowSplit | 25 |
PerspectiveHorizontal | 0 |
PerspectiveRotate | 0.0 |
PerspectiveScale | 100 |
PerspectiveVertical | 0 |
PostCropVignetteAmount | 0 |
ProcessVersion | 5.7 |
ProfileDescription | sRGB IEC61966-2.1 |
Rating | 3 |
RedHue | 0 |
RedSaturation | 0 |
Rights | © Frederick Howard |
Saturation | -50 |
SaturationAdjustmentAqua | -100 |
SaturationAdjustmentBlue | +57 |
SaturationAdjustmentGreen | +67 |
SaturationAdjustmentMagenta | -100 |
SaturationAdjustmentOrange | -45 |
SaturationAdjustmentPurple | -100 |
SaturationAdjustmentRed | +25 |
SaturationAdjustmentYellow | -100 |
SerialNumber | 630300022 |
Shadows | 9 |
ShadowTint | 0 |
SharpenDetail | 25 |
SharpenEdgeMasking | 0 |
SharpenRadius | +1.0 |
Sharpness | 0 |
SplitToningBalance | -85 |
SplitToningHighlightHue | 0 |
SplitToningHighlightSaturation | 24 |
SplitToningShadowHue | 54 |
SplitToningShadowSaturation | 24 |
Subject | 2011, henriette og frederick, london, nettside, sommerferie, webserie |
ToneCurve | 0, 0, 255, 255 |
ToneCurveName | Linear |
URL_List | |
UsageTerms | All rightes reserved. No use without permission |
Version | 6.1 |
Vibrance | 0 |
VignetteAmount | 0 |
WhiteBalance | As Shot |