Felt | Verdi |
AlreadyApplied | True |
Aperture | 8.0 |
ApertureValue | 8.0 |
AutoLateralCA | 0 |
BitsPerSample | 8 |
Blacks2012 | -100 |
BlueHue | 0 |
BlueSaturation | 0 |
Brightness | 0 |
CameraProfile | Embedded |
CircleOfConfusion | 0.031 mm |
Clarity | 0 |
Clarity2012 | -64 |
ColorComponents | 1 |
ColorNoiseReduction | 0 |
Contrast | 0 |
Contrast2012 | +77 |
ConvertToGrayscale | True |
CopyrightFlag | False |
CreateDate | 2012:01:16 13:15:28.08 |
CreatorTool | Snapseed |
CropAngle | 0 |
CropBottom | 0.985781 |
CropConstrainToWarp | 0 |
CropHeight | 1967 |
CropLeft | 0.018389 |
CropRight | 0.950558 |
CropTop | 0.062076 |
CropUnit | pixels |
CropWidth | 1985 |
DateCreated (1) | 2012:01:16 |
DateCreated | 2012:01:16 13:15:28.08 |
DateTimeOriginal | 2012:01:16 13:15:28 |
Defringe | 0 |
ExifImageHeight | 1967 |
ExifImageWidth | 1985 |
Exposure | 0.00 |
Exposure2012 | -1.95 |
ExposureCompensation | 0 |
ExposureMode | Manual |
ExposureProgram | Manual |
ExposureTime | 25 |
FillLight | 0 |
Flash | Off, Did not fire |
FNumber | 8.0 |
FocalLength | 32.0 mm |
FocalLength35efl | 32.0 mm (35 mm equivalent: 31.2 mm) |
Format | image/jpeg |
FOV | 59.9 deg |
GrainAmount | 0 |
GrayMixerAqua | -20 |
GrayMixerBlue | +7 |
GrayMixerGreen | -27 |
GrayMixerMagenta | +5 |
GrayMixerOrange | -8 |
GrayMixerPurple | +15 |
GrayMixerRed | -8 |
GrayMixerYellow | +43 |
GreenHue | 0 |
GreenSaturation | 0 |
HasCrop | True |
HasSettings | True |
HighlightRecovery | 0 |
Highlights2012 | -53 |
HyperfocalDistance | 4.16 m |
ImageHeight | 1967 |
ImageSize | 1985x1967 |
ImageWidth | 1985 |
IncrementalTemperature | -92 |
IncrementalTint | 0 |
ISO | 100 |
LensManualDistortionAmount | +15 |
LensProfileEnable | 0 |
LensProfileSetup | LensDefaults |
LightValue | 1.4 |
LuminanceSmoothing | 0 |
Make | Canon |
Megapixels | 3.9 |
MeteringMode | Spot |
Model | Canon EOS 5D Mark II |
ModifyDate (1) | 2012:03:20 21:07:54+01:00 |
ModifyDate | 2012:03:20 21:07:54 |
Orientation | Horizontal (normal) |
ParametricDarks | 0 |
ParametricHighlights | 0 |
ParametricHighlightSplit | 75 |
ParametricLights | 0 |
ParametricMidtoneSplit | 50 |
ParametricShadows | 0 |
ParametricShadowSplit | 25 |
PerspectiveHorizontal | -7 |
PerspectiveRotate | +0.8 |
PerspectiveScale | 100 |
PerspectiveVertical | +5 |
PostCropVignetteAmount | 0 |
ProcessVersion | 6.7 |
ProfileDescription | sRGB IEC61966-2.1 |
RedHue | 0 |
RedSaturation | 0 |
ScaleFactor35efl | 1.0 |
SceneCaptureType | Standard |
Shadows | 0 |
Shadows2012 | +50 |
ShadowTint | 0 |
SharpenDetail | 25 |
SharpenEdgeMasking | 56 |
SharpenRadius | +1.0 |
Sharpness | 26 |
ShutterSpeed | 25 |
ShutterSpeedValue | 25 |
Software | Snapseed |
SplitToningBalance | 0 |
SplitToningHighlightHue | 0 |
SplitToningHighlightSaturation | 0 |
SplitToningShadowHue | 0 |
SplitToningShadowSaturation | 0 |
ToneCurve | 0, 0, 255, 255 |
ToneCurveBlue | 0, 0, 255, 255 |
ToneCurveGreen | 0, 0, 255, 255 |
ToneCurveName | Linear |
ToneCurveName2012 | Linear |
ToneCurvePV2012 | 0, 0, 255, 255 |
ToneCurvePV2012Blue | 0, 0, 255, 255 |
ToneCurvePV2012Green | 0, 0, 255, 255 |
ToneCurvePV2012Red | 0, 0, 255, 255 |
ToneCurveRed | 0, 0, 255, 255 |
Version | 7.0 |
VignetteAmount | +25 |
VignetteMidpoint | 50 |
WhiteBalance (1) | Custom |
WhiteBalance | Auto |
Whites2012 | 0 |