Felt | Verdi |
AlreadyApplied | True |
Aperture | 22.0 |
ApertureValue | 22.0 |
ApproximateFocusDistance | 2.11 |
BitsPerSample | 8 |
BlueHue | 0 |
BlueSaturation | 0 |
Brightness | +27 |
CameraProfile | Adobe Standard |
CFAPattern | [Blue,Green][Green,Red] |
ChromaticAberrationB | 0 |
ChromaticAberrationR | 0 |
CircleOfConfusion | 0.020 mm |
Clarity | +77 |
ColorComponents | 1 |
ColorNoiseReduction | 100 |
ColorNoiseReductionDetail | 20 |
ColorTemperature | 7500 |
Contrast (1) | 0 |
Contrast | Normal |
ConvertToGrayscale | True |
CreateDate (1) | 2012:03:18 15:01:46.10 |
CreateDate | 2012:03:18 15:01:46 |
CreatorTool | Adobe Photoshop Lightroom 3.6 (Macintosh) |
CropAngle | -4.09752 |
CropBottom | 0.793132 |
CropConstrainToWarp | 0 |
CropHeight | 3375 |
CropLeft | 0.204131 |
CropRight | 0.94902 |
CropTop | 0.108212 |
CropUnit | pixels |
CropWidth | 4724 |
CustomRendered | Normal |
DateCreated (1) | 2012:03:18 |
DateCreated | 2012:03:18 15:01:46.10 |
DateTimeOriginal | 2012:03:18 15:01:46 |
Defringe | 0 |
DigitalZoomRatio | 1 |
DOF | inf (0.55 m - inf) |
Exposure | +0.05 |
ExposureCompensation | 0 |
ExposureMode | Manual |
ExposureProgram | Manual |
ExposureTime | 1/15 |
FillLight | 5 |
Flash | No Flash |
FNumber | 22.0 |
FocalLength | 18.0 mm |
FocalLength35efl | 18.0 mm (35 mm equivalent: 27.0 mm) |
FocalLengthIn35mmFormat | 27 mm |
Format | image/jpeg |
FOV | 67.4 deg |
GainControl | None |
GradientBasedCorrActive | true |
GradientBasedCorrAmount | 1.000000 |
GradientBasedCorrBrightness | 0.000000 |
GradientBasedCorrClarity | 0.000000 |
GradientBasedCorrContrast | 0.000000 |
GradientBasedCorrExposure | -0.080460 |
GradientBasedCorrHue | 240.000000 |
GradientBasedCorrMaskFullX (1) | 0.573272 |
GradientBasedCorrMaskFullX (2) | 0.500898 |
GradientBasedCorrMaskFullX (3) | 0.979962 |
GradientBasedCorrMaskFullX (4) | 1.126990 |
GradientBasedCorrMaskFullX | 0.558661 |
GradientBasedCorrMaskFullY (1) | 0.053554 |
GradientBasedCorrMaskFullY (2) | 0.064366 |
GradientBasedCorrMaskFullY (3) | 0.493018 |
GradientBasedCorrMaskFullY (4) | 0.631793 |
GradientBasedCorrMaskFullY | 0.061465 |
GradientBasedCorrMaskValue | 1.000000 |
GradientBasedCorrMaskWhat | Mask/Gradient |
GradientBasedCorrMaskZeroX (1) | 0.593873 |
GradientBasedCorrMaskZeroX (2) | 0.542514 |
GradientBasedCorrMaskZeroX (3) | 0.456956 |
GradientBasedCorrMaskZeroX (4) | 1.024680 |
GradientBasedCorrMaskZeroX | 0.599404 |
GradientBasedCorrMaskZeroY (1) | 1.052590 |
GradientBasedCorrMaskZeroY (2) | 1.074080 |
GradientBasedCorrMaskZeroY (3) | 0.541936 |
GradientBasedCorrMaskZeroY (4) | 0.580234 |
GradientBasedCorrMaskZeroY | 1.056730 |
GradientBasedCorrSaturation | 0.000000 |
GradientBasedCorrSharpness | 0.000000 |
GradientBasedCorrWhat | Correction |
GrainAmount | 0 |
GrayMixerAqua | -17 |
GrayMixerBlue | +14 |
GrayMixerGreen | -28 |
GrayMixerMagenta | +4 |
GrayMixerOrange | -21 |
GrayMixerPurple | +19 |
GrayMixerRed | -11 |
GrayMixerYellow | -25 |
GreenHue | 0 |
GreenSaturation | 0 |
HasCrop | True |
HasSettings | True |
HighlightRecovery | 50 |
HyperfocalDistance | 0.74 m |
ImageHeight | 3375 |
ImageNumber | 5555 |
ImageSize | 4724x3375 |
ImageWidth | 4724 |
ISO | 200 |
Lens | 18.0-55.0 mm f/3.5-5.6 |
LensID (1) | 148 |
LensID | AF-S DX Zoom-Nikkor 18-55mm f/3.5-5.6G ED II |
LensInfo | 18-55mm f/3.5-5.6 |
LensManualDistortionAmount | 0 |
LensModel | 18.0-55.0 mm f/3.5-5.6 |
LensProfileChromaticAberrationScale | 97 |
LensProfileDistortionScale | 40 |
LensProfileEnable | 1 |
LensProfileFilename | NIKON D90 (Nikon AF-S DX Zoom-NIKKOR 18-55mm f3.5-5.6G ED II) - RAW.lcp |
LensProfileName | Adobe (Nikon AF-S DX Zoom-NIKKOR 18-55mm f/3.5-5.6G ED II) |
LensProfileSetup | Custom |
LensProfileVignettingScale | 100 |
LightSource | Unknown |
LightValue | 11.8 |
LuminanceNoiseReductionContrast | 0 |
LuminanceNoiseReductionDetail | 58 |
LuminanceSmoothing | 82 |
Make | NIKON CORPORATION |
MaxApertureValue | 3.5 |
Megapixels | 15.9 |
MeteringMode | Center-weighted average |
Model | NIKON D40 |
ModifyDate (1) | 2012:04:22 20:47:25+02:00 |
ModifyDate | 2012:04:22 20:47:25 |
ParametricDarks | -15 |
ParametricHighlights | +8 |
ParametricHighlightSplit | 75 |
ParametricLights | +15 |
ParametricMidtoneSplit | 50 |
ParametricShadows | -30 |
ParametricShadowSplit | 25 |
PerspectiveHorizontal | 0 |
PerspectiveRotate | 0.0 |
PerspectiveScale | 100 |
PerspectiveVertical | 0 |
PostCropVignetteAmount | -22 |
PostCropVignetteFeather | 50 |
PostCropVignetteHighlightContrast | 0 |
PostCropVignetteMidpoint | 0 |
PostCropVignetteRoundness | +40 |
PostCropVignetteStyle | 1 |
ProcessVersion | 5.7 |
ProfileDescription | sRGB IEC61966-2.1 |
RedHue | 0 |
RedSaturation | 0 |
Saturation | Normal |
ScaleFactor35efl | 1.5 |
SceneCaptureType | Standard |
SceneType | Directly photographed |
SensingMethod | One-chip color area |
SerialNumber | 7489255 |
Shadows | 20 |
ShadowTint | 0 |
SharpenDetail | 35 |
SharpenEdgeMasking | 85 |
SharpenRadius | +2.4 |
Sharpness (1) | 150 |
Sharpness | Normal |
ShutterSpeed | 1/15 |
ShutterSpeedValue | 1/15 |
Software | Adobe Photoshop Lightroom 3.6 (Macintosh) |
SplitToningBalance | 0 |
SplitToningHighlightHue | 0 |
SplitToningHighlightSaturation | 0 |
SplitToningShadowHue | 0 |
SplitToningShadowSaturation | 0 |
SubjectDistance | 2.11 m |
SubjectDistanceRange | Unknown |
Tint | +2 |
ToneCurve | 0, 0, 32, 22, 64, 56, 128, 128, 192, 196, 255, 255 |
ToneCurveName | Medium Contrast |
Version | 6.6 |
VignetteAmount | 0 |
WhiteBalance | Auto |