Felt | Verdi |
AlreadyApplied | True |
Aperture | 4.5 |
ApertureValue | 4.5 |
ApproximateFocusDistance | 5.62 |
BitsPerSample | 8 |
BlueHue | 0 |
BlueSaturation | 0 |
Brightness | +50 |
CameraProfile | Adobe Standard |
CFAPattern | [Green,Red][Blue,Green] |
ChromaticAberrationB | 0 |
ChromaticAberrationR | 0 |
CircleOfConfusion | 0.020 mm |
Clarity | 0 |
ColorComponents | 1 |
ColorMode | RGB |
ColorNoiseReduction | 20 |
ColorNoiseReductionDetail | 39 |
ColorSpace | sRGB |
ColorTemperature | 12500 |
Contrast (1) | +46 |
Contrast | Normal |
ConvertToGrayscale | True |
CreateDate (1) | 2011:04:17 11:10:53.57+02:00 |
CreateDate | 2011:04:17 11:10:53 |
CreatorTool | Ver.2.01 |
CropAngle | 0 |
CropBottom | 0.860801 |
CropConstrainToWarp | 1 |
CropLeft | 0.091005 |
CropRight | 1 |
CropTop | 0 |
CustomRendered | Normal |
DateCreated (1) | 2011:04:17 |
DateCreated | 2011:04:17 11:10:53.057+02:00 |
DateTimeOriginal | 2011:04:17 11:10:53 |
Defringe | 0 |
DigitalZoomRatio | 1 |
DOF | 8.28 m (3.67 - 11.96 m) |
ExifImageHeight | 2231 |
ExifImageWidth | 3520 |
Exposure | +1.65 |
ExposureCompensation | 0 |
ExposureMode | Manual |
ExposureProgram | Manual |
ExposureTime | 1/250 |
FillLight | 35 |
Flash | No Flash |
FNumber | 4.5 |
FocalLength | 31.0 mm |
FocalLength35efl | 31.0 mm (35 mm equivalent: 46.0 mm) |
FocalLengthIn35mmFormat | 46 mm |
Format | image/jpeg |
FOV | 42.7 deg |
GainControl | None |
GrainAmount | 0 |
GrayMixerAqua | -19 |
GrayMixerBlue | +8 |
GrayMixerGreen | -26 |
GrayMixerMagenta | +4 |
GrayMixerOrange | -18 |
GrayMixerPurple | +15 |
GrayMixerRed | -9 |
GrayMixerYellow | -22 |
GreenHue | 0 |
GreenSaturation | 0 |
HasCrop | True |
HasSettings | True |
HighlightRecovery | 28 |
HyperfocalDistance | 10.55 m |
ICCProfileName | sRGB IEC61966-2.1 |
ImageHeight | 2231 |
ImageNumber | 9443 |
ImageSize | 3520x2231 |
ImageWidth | 3520 |
ISO | 200 |
Lens | 15.0-31.0 mm f/3.5-4.5 |
LensID (1) | 38 |
LensID | Sigma 15-30mm F3.5-4.5 EX DG Aspherical DF |
LensInfo | 15-31mm f/3.5-4.5 |
LensManualDistortionAmount | 0 |
LensModel | 15.0-31.0 mm f/3.5-4.5 |
LensProfileEnable | 0 |
LensProfileSetup | LensDefaults |
LightSource | Unknown |
LightValue | 11.3 |
LuminanceNoiseReductionContrast | 43 |
LuminanceNoiseReductionDetail | 61 |
LuminanceSmoothing | 29 |
Make | NIKON CORPORATION |
MaxApertureValue | 4.4 |
Megapixels | 7.9 |
MeteringMode | Multi-segment |
Model | NIKON D200 |
ModifyDate (1) | 2012:01:29 19:03:47+01:00 |
ModifyDate | 2012:01:29 19:03:47 |
Orientation | Horizontal (normal) |
ParametricDarks | -7 |
ParametricHighlights | +10 |
ParametricHighlightSplit | 75 |
ParametricLights | +5 |
ParametricMidtoneSplit | 50 |
ParametricShadows | -9 |
ParametricShadowSplit | 25 |
PerspectiveHorizontal | 0 |
PerspectiveRotate | 0.0 |
PerspectiveScale | 100 |
PerspectiveVertical | 0 |
PostCropVignetteAmount | 0 |
ProcessVersion | 5.7 |
ProfileDescription | sRGB IEC61966-2.1 |
Rating | 0 |
RawFileName | _DSC9434.NEF |
RedHue | 0 |
RedSaturation | 0 |
Saturation | Normal |
ScaleFactor35efl | 1.5 |
SceneCaptureType | Standard |
SceneType | Directly photographed |
SensingMethod | One-chip color area |
Shadows | 11 |
ShadowTint | 0 |
SharpenDetail | 60 |
SharpenEdgeMasking | 79 |
SharpenRadius | +1.2 |
Sharpness (1) | 78 |
Sharpness | Normal |
ShutterSpeed | 1/250 |
ShutterSpeedValue | 1/250 |
Software | Adobe Photoshop CS5.1 Windows |
SplitToningBalance | 0 |
SplitToningHighlightHue | 0 |
SplitToningHighlightSaturation | 0 |
SplitToningShadowHue | 0 |
SplitToningShadowSaturation | 0 |
SubjectDistance | 5.62 m |
SubjectDistanceRange | Unknown |
Tint | +15 |
ToneCurve | 0, 0, 32, 22, 64, 56, 128, 128, 192, 196, 255, 255 |
ToneCurveName | Medium Contrast |
URL_List | |
Version | 6.4.1 |
VignetteAmount | 0 |
WhiteBalance (1) | Custom |
WhiteBalance | Auto |