Felt | Verdi |
AlreadyApplied | True |
Aperture | 4.0 |
ApertureValue | 4.0 |
ApproximateFocusDistance | 2.81 |
BitsPerSample | 8 |
BlueHue | 0 |
BlueSaturation | 0 |
Brightness | +50 |
CameraProfile | Adobe Standard |
ChromaticAberrationB | 0 |
ChromaticAberrationR | 0 |
CircleOfConfusion | 0.006 mm |
Clarity | 0 |
ColorComponents | 3 |
ColorMode | RGB |
ColorNoiseReduction | 25 |
ColorNoiseReductionDetail | 50 |
ColorSpace | sRGB |
ColorTemperature | 5750 |
Contrast | +25 |
ConvertToGrayscale | False |
CreateDate | 2011:04:17 03:08:43 |
CustomRendered | Normal |
DateCreated (1) | 2011:04:17 |
DateCreated | 2011:04:17 03:08:43 |
DateTimeOriginal | 2011:04:17 03:08:43 |
Defringe | 0 |
DigitalZoomRatio | 1 |
DOF | inf (0.93 m - inf) |
ExifImageHeight | 2736 |
ExifImageWidth | 3648 |
Exposure | -0.10 |
ExposureCompensation | 0 |
ExposureMode | Auto |
ExposureTime | 1/200 |
FillLight | 0 |
Firmware | 1.00 |
Flash | Off, Did not fire |
FlashCompensation | 0 |
FNumber | 4.0 |
FocalLength | 6.0 mm |
FocalLength35efl | 6.0 mm (35 mm equivalent: 28.0 mm) |
Format | image/jpeg |
FOV | 65.5 deg |
GrainAmount | 0 |
GreenHue | 0 |
GreenSaturation | 0 |
HasCrop | False |
HasSettings | True |
HighlightRecovery | 0 |
HueAdjustmentAqua | 0 |
HueAdjustmentBlue | +33 |
HueAdjustmentGreen | +36 |
HueAdjustmentMagenta | 0 |
HueAdjustmentOrange | 0 |
HueAdjustmentPurple | 0 |
HueAdjustmentRed | -36 |
HueAdjustmentYellow | 0 |
HyperfocalDistance | 1.40 m |
ICCProfileName | sRGB IEC61966-2.1 |
ImageHeight | 2736 |
ImageSize | 3648x2736 |
ImageWidth | 3648 |
ISO | 100 |
Lens | 6.0-22.5 mm |
LensInfo | 6-22.5mm f/? |
LensManualDistortionAmount | 0 |
LensModel | 6.0-22.5 mm |
LensProfileEnable | 0 |
LensProfileSetup | LensDefaults |
LightValue | 11.6 |
LuminanceAdjustmentAqua | 0 |
LuminanceAdjustmentBlue | 0 |
LuminanceAdjustmentGreen | 0 |
LuminanceAdjustmentMagenta | 0 |
LuminanceAdjustmentOrange | 0 |
LuminanceAdjustmentPurple | 0 |
LuminanceAdjustmentRed | 0 |
LuminanceAdjustmentYellow | 0 |
LuminanceSmoothing | 0 |
Make | Canon |
MaxApertureValue | 2.0 |
Megapixels | 10.0 |
MeteringMode | Multi-segment |
Model | Canon PowerShot S95 |
ModifyDate (1) | 2011:10:02 03:18:36+02:00 |
ModifyDate | 2011:10:02 03:18:36 |
Orientation | Horizontal (normal) |
PaintCorrectionActive | true |
PaintCorrectionAmount | 1.000000 |
PaintCorrectionBrightness | 0.065000 |
PaintCorrectionClarity | 0.500000 |
PaintCorrectionContrast | 0.120000 |
PaintCorrectionExposure | 0.662500 |
PaintCorrectionHue | 0.000000 |
PaintCorrectionMaskCenterWeight | 0.143200 |
PaintCorrectionMaskFlow | 0.884876 |
PaintCorrectionMaskRadius | 0.061724 |
PaintCorrectionMaskValue | 0.300000 |
PaintCorrectionMaskWhat | Mask/Paint |
PaintCorrectionSaturation (1) | -0.030000 |
PaintCorrectionSaturation | 0.000000 |
PaintCorrectionSharpness | 0.520000 |
PaintCorrectionWhat | Correction |
ParametricDarks | -15 |
ParametricHighlights | +26 |
ParametricHighlightSplit | 75 |
ParametricLights | +11 |
ParametricMidtoneSplit | 50 |
ParametricShadows | -19 |
ParametricShadowSplit | 25 |
PerspectiveHorizontal | 0 |
PerspectiveRotate | 0.0 |
PerspectiveScale | 100 |
PerspectiveVertical | 0 |
PostCropVignetteAmount | 0 |
ProcessVersion | 5.7 |
ProfileDescription | sRGB IEC61966-2.1 |
Rating | 0 |
RawFileName | IMG_0496.CR2 |
RedHue | 0 |
RedSaturation | 0 |
Saturation | 0 |
SaturationAdjustmentAqua | 0 |
SaturationAdjustmentBlue | 0 |
SaturationAdjustmentGreen | 0 |
SaturationAdjustmentMagenta | 0 |
SaturationAdjustmentOrange | 0 |
SaturationAdjustmentPurple | 0 |
SaturationAdjustmentRed | 0 |
SaturationAdjustmentYellow | 0 |
ScaleFactor35efl | 4.7 |
SceneCaptureType | Standard |
SensingMethod | One-chip color area |
SensitivityType | Standard Output Sensitivity and Recommended Exposure Index |
Shadows | 5 |
ShadowTint | 0 |
SharpenDetail | 73 |
SharpenEdgeMasking | 0 |
SharpenRadius | +1.2 |
Sharpness | 25 |
ShutterSpeed | 1/200 |
ShutterSpeedValue | 1/200 |
Software | Adobe Photoshop CS5.1 Windows |
SplitToningBalance | 0 |
SplitToningHighlightHue | 0 |
SplitToningHighlightSaturation | 0 |
SplitToningShadowHue | 248 |
SplitToningShadowSaturation | 0 |
SubjectDistance | 2.81 m |
Tint | +15 |
ToneCurve | 0, 0, 32, 22, 64, 56, 128, 128, 192, 196, 255, 255 |
ToneCurveName | Medium Contrast |
URL_List | |
Version | 6.4.1 |
Vibrance | 0 |
VignetteAmount | 0 |
WhiteBalance (1) | As Shot |
WhiteBalance | Auto |