Felt | Verdi |
AlreadyApplied | True |
Aperture | 5.6 |
ApertureValue | 5.6 |
BitsPerSample | 8 |
BlueHue | 0 |
BlueSaturation | 0 |
Brightness | 0 |
CameraProfile | Embedded |
CFAPattern | [Red,Green][Green,Blue] |
ChromaticAberrationB | 0 |
ChromaticAberrationR | 0 |
CircleOfConfusion | 0.020 mm |
Clarity | 0 |
ColorComponents | 3 |
ColorMode | RGB |
ColorNoiseReduction | 0 |
ColorSpace | sRGB |
Contrast (2) | 0 |
Contrast | Normal |
ConvertToGrayscale | True |
CreateDate (1) | 2011:07:10 13:41:37.81+02:00 |
CreateDate | 2011:07:10 13:41:37 |
CreatorTool | Ver.1.00 |
CustomRendered | Normal |
DateTimeDigitized | 2011:07:10 13:41:37.81+02:00 |
DateTimeOriginal (1) | 2011:07:10 13:41:37.81+02:00 |
DateTimeOriginal | 2011:07:10 13:41:37 |
Defringe | 0 |
DigitalZoomRatio | 1 |
DOF | 0.34 m (7.77 - 8.12 m) |
ExifImageHeight | 471 |
ExifImageWidth | 709 |
Exposure | +0.05 |
ExposureCompensation | 0 |
ExposureMode | Manual |
ExposureProgram | Manual |
ExposureTime | 1/1000 |
FillLight | 0 |
Flash | No Flash |
FlashFired | False |
FlashFunction | False |
FlashMode | Unknown |
FlashRedEyeMode | False |
FlashReturn | No return detection |
FNumber | 5.6 |
FocalLength | 200.0 mm |
FocalLength35efl | 200.0 mm (35 mm equivalent: 300.0 mm) |
FocalLengthIn35mmFormat | 300 mm |
Format | image/jpeg |
FOV | 6.9 deg |
GainControl | None |
GrainAmount | 0 |
GrayMixerAqua | +26 |
GrayMixerBlue | +3 |
GrayMixerGreen | -25 |
GrayMixerMagenta | -9 |
GrayMixerOrange | -18 |
GrayMixerPurple | +8 |
GrayMixerRed | +18 |
GrayMixerYellow | -5 |
GreenHue | 0 |
GreenSaturation | 0 |
HasCrop | False |
HasSettings | True |
HighlightRecovery | 0 |
HyperfocalDistance | 356.59 m |
ICCProfileName | sRGB IEC61966-2.1 |
ImageHeight | 471 |
ImageNumber | 3617 |
ImageSize | 709x471 |
ImageWidth | 709 |
IncrementalTemperature | 0 |
IncrementalTint | 0 |
ISO | 200 |
Lens | 18.0-200.0 mm f/3.5-5.6 |
LensID (1) | 139 |
LensID | AF-S DX VR Zoom-Nikkor 18-200mm f/3.5-5.6G IF-ED or AF-S DX VR Zoom-Nikkor 18-200mm f/3.5-5.6G IF-ED [II] |
LensInfo | 18-200mm f/3.5-5.6 |
LightSource | Unknown |
LightValue | 13.9 |
LuminanceSmoothing | 0 |
Make | NIKON CORPORATION |
MaxApertureValue | 5.7 |
Megapixels | 0.334 |
MeteringMode | Multi-segment |
Model | NIKON D300S |
ModifyDate (1) | 2011:08:29 20:54:07+02:00 |
ModifyDate | 2011:08:29 20:54:07 |
Orientation | Horizontal (normal) |
PaintCorrectionActive | true |
PaintCorrectionAmount | 1.000000 |
PaintCorrectionBrightness (1) | -0.085000 |
PaintCorrectionBrightness (2) | 0.105000 |
PaintCorrectionBrightness (3) | 0.085000 |
PaintCorrectionBrightness | -0.075000 |
PaintCorrectionClarity | 0.110000 |
PaintCorrectionContrast | 0.350000 |
PaintCorrectionExposure (1) | -0.112500 |
PaintCorrectionExposure (2) | 0.100000 |
PaintCorrectionExposure | -0.100000 |
PaintCorrectionHue | 0.000000 |
PaintCorrectionMaskCenterWeight (8) | 0.155617 |
PaintCorrectionMaskCenterWeight | 0.686802 |
PaintCorrectionMaskFlow (8) | 0.888889 |
PaintCorrectionMaskFlow | 0.637168 |
PaintCorrectionMaskRadius (2) | 0.030294 |
PaintCorrectionMaskRadius (7) | 0.007823 |
PaintCorrectionMaskRadius (8) | 0.005868 |
PaintCorrectionMaskRadius | 0.003585 |
PaintCorrectionMaskValue (8) | 0.000000 |
PaintCorrectionMaskValue | 0.340000 |
PaintCorrectionMaskWhat | Mask/Paint |
PaintCorrectionSaturation (7) | 0.160000 |
PaintCorrectionSaturation | 0.000000 |
PaintCorrectionSharpness | 0.120000 |
PaintCorrectionWhat | Correction |
ParametricDarks | -14 |
ParametricHighlights | 0 |
ParametricHighlightSplit | 75 |
ParametricLights | +8 |
ParametricMidtoneSplit | 50 |
ParametricShadows | -7 |
ParametricShadowSplit | 25 |
PostCropVignetteAmount | -23 |
PostCropVignetteFeather | 50 |
PostCropVignetteMidpoint | 57 |
PostCropVignetteRoundness | +3 |
PostCropVignetteStyle | 3 |
ProcessVersion | 5.0 |
ProfileDescription | sRGB IEC61966-2.1 |
Rating | 0 |
RawFileName | DSC_3523.jpg |
RedHue | 0 |
RedSaturation | 0 |
Saturation | Normal |
ScaleFactor35efl | 1.5 |
SceneCaptureType | Standard |
SceneType | Directly photographed |
SensingMethod | One-chip color area |
SerialNumber | 6017178 |
Shadows | 0 |
ShadowTint | 0 |
SharpenDetail | 25 |
SharpenEdgeMasking | 0 |
SharpenRadius | +1.0 |
Sharpness (2) | 0 |
Sharpness | Normal |
ShutterSpeed | 1/1000 |
ShutterSpeedValue | 1/1000 |
SidecarForExtension | NEF |
Software | Adobe Photoshop CS4 Windows |
SplitToningBalance | 0 |
SplitToningHighlightHue | 0 |
SplitToningHighlightSaturation | 0 |
SplitToningShadowHue | 0 |
SplitToningShadowSaturation | 0 |
SubjectDistance | 7.94 m |
SubjectDistanceRange | Unknown |
ToneCurve | 0, 0, 255, 255 |
ToneCurveName | Linear |
URL_List | |
Version | 5.7 |
VignetteAmount | -62 |
VignetteMidpoint | 50 |
WhiteBalance (2) | As Shot |
WhiteBalance | Auto |