Felt | Verdi |
AlreadyApplied | True |
Aperture | 13.0 |
ApertureValue | 13.0 |
BitsPerSample | 8 |
BlackClip | 0.030900 |
BlueHue | 0 |
BlueSaturation | 0 |
Brightness | 0 |
CameraProfile | Embedded |
ChromaticAberrationB | 0 |
ChromaticAberrationR | 0 |
Clarity | +42 |
ColorComponents | 3 |
ColorMode | RGB |
ColorNoiseReduction | 0 |
ColorSaturation | 56.0 |
ColorSpace | Uncalibrated |
ColorTemperature | -5.7 |
Contrast | +29 |
ConvertToGrayscale | False |
CreateDate | 2011:07:17 15:27:19+02:00 |
CropAngle | 0 |
CropBottom | 0.98826 |
CropConstrainToWarp | 1 |
CropLeft | 0 |
CropRight | 0.986506 |
CropTop | 0 |
Defringe | 0 |
ExifImageHeight | 800 |
ExifImageWidth | 1200 |
Exposure | 0.00 |
ExposureTime | 1/1000 |
FillLight | 0 |
FNumber | 13.0 |
FocalLength | 34.0 mm |
FocalLength35efl | 34.0 mm |
Format | image/jpeg |
Gamma | 1.0 |
GrainAmount | 0 |
GreenHue | 0 |
GreenSaturation | 0 |
HasCrop | True |
HasSettings | True |
HighlightRecovery | 0 |
HighlightsSmoothing | 13.0 |
HueAdjustmentAqua | 0 |
HueAdjustmentBlue | 0 |
HueAdjustmentGreen | 0 |
HueAdjustmentMagenta | 0 |
HueAdjustmentOrange | 0 |
HueAdjustmentPurple | 0 |
HueAdjustmentRed | 0 |
HueAdjustmentYellow | 0 |
ICCProfileName | Adobe RGB (1998) |
ImageHeight | 800 |
ImageSize | 1200x800 |
ImageWidth | 1200 |
IncrementalTemperature | -17 |
IncrementalTint | 0 |
ISO | 200 |
LensManualDistortionAmount | 0 |
LensProfileEnable | 0 |
LensProfileSetup | LensDefaults |
LightValue | 16.4 |
LuminanceAdjustmentAqua | 0 |
LuminanceAdjustmentBlue | 0 |
LuminanceAdjustmentGreen | 0 |
LuminanceAdjustmentMagenta | 0 |
LuminanceAdjustmentOrange | 0 |
LuminanceAdjustmentPurple | 0 |
LuminanceAdjustmentRed | 0 |
LuminanceAdjustmentYellow | 0 |
LuminanceNoiseReductionContrast | 5 |
LuminanceNoiseReductionDetail | 50 |
LuminanceSmoothing | 30 |
Luminosity | 4.5 |
Megapixels | 0.960 |
Method | Details Enhancer |
Microcontrast | 0.2 |
Microsmoothing | 2.0 |
ModifyDate (1) | 2011:07:17 15:35:12+02:00 |
ModifyDate | 2011:07:17 15:35:12 |
Orientation | Horizontal (normal) |
ParametricDarks | -3 |
ParametricHighlights | -1 |
ParametricHighlightSplit | 75 |
ParametricLights | +2 |
ParametricMidtoneSplit | 50 |
ParametricShadows | -9 |
ParametricShadowSplit | 25 |
PerspectiveHorizontal | 0 |
PerspectiveRotate | 0.0 |
PerspectiveScale | 100 |
PerspectiveVertical | 0 |
PostCropVignetteAmount | 0 |
ProcessVersion | 5.7 |
ProfileDescription | Adobe RGB (1998) |
Rating | 0 |
RawFileName | _DSC0149_50_51_tonemapped.tif |
RedHue | 0 |
RedSaturation | 0 |
Saturation | 0 |
SaturationAdjustmentAqua | +8 |
SaturationAdjustmentBlue | +48 |
SaturationAdjustmentGreen | +2 |
SaturationAdjustmentMagenta | -13 |
SaturationAdjustmentOrange | 0 |
SaturationAdjustmentPurple | -22 |
SaturationAdjustmentRed | -8 |
SaturationAdjustmentYellow | 0 |
SaturationHighlights | 0.0 |
SaturationShadows | 0.0 |
Shadows | 4 |
ShadowsClipping | 6.0 |
ShadowsSmoothing | 9.0 |
ShadowTint | 0 |
SharpenDetail | 25 |
SharpenEdgeMasking | 4 |
SharpenRadius | +1.0 |
Sharpness | 52 |
ShutterSpeed | 1/1000 |
ShutterSpeedValue | 1/1000 |
Smoothing | 4.4 |
SmoothingMode | Slider |
Software | Adobe Photoshop CS5 Windows |
SplitToningBalance | 0 |
SplitToningHighlightHue | 0 |
SplitToningHighlightSaturation | 0 |
SplitToningShadowHue | 0 |
SplitToningShadowSaturation | 0 |
Strength | 70.0 |
ToneCurve | 0, 0, 255, 255 |
ToneCurveName | Linear |
URL_List | |
Version (1) | 4.0 |
Version | 6.4.1 |
Vibrance | 0 |
VignetteAmount | -61 |
VignetteMidpoint | 50 |
WhiteBalance | Custom |
WhiteClip | 0.595150 |