Felt | Verdi |
AlreadyApplied | True |
Aperture | 11.0 |
ApertureValue | 11.0 |
ApproximateFocusDistance | 0.6 |
Artist | Photographer:Dirk Rosin |
BitsPerSample | 8 |
BlueHue | 0 |
BlueSaturation | 0 |
Brightness | 0 |
By-line | Photographer:Dirk Rosin |
CameraProfile | Embedded |
ChromaticAberrationB | 0 |
ChromaticAberrationR | 0 |
CircleOfConfusion | 0.019 mm |
Clarity | 0 |
ColorComponents | 3 |
ColorNoiseReduction | 0 |
Contrast | -25 |
ConvertToGrayscale | False |
Copyright | (C) 2010 Dirk Rosin |
CopyrightFlag | True |
CopyrightNotice | © 2010 Dirk Rosin |
CreateDate (1) | 2011:02:27 20:09:42.58+01:00 |
CreateDate | 2011:02:27 20:09:42 |
Creator | Photographer:Dirk Rosin |
CreatorCountry | Norway |
CreatorTool | Adobe Photoshop Lightroom 3.3 |
CreatorWorkEmail | dirkrosin@msn.com |
CreatorWorkURL | http://dirkrosin.blogspot.com |
CustomRendered | Normal |
DateCreated (1) | 2011:02:27 |
DateCreated | 2011:02:27 20:09:42.058 |
DateTimeDigitized | 2011:02:27 20:09:42.58+01:00 |
DateTimeOriginal (1) | 2011:02:27 20:09:42.58+01:00 |
DateTimeOriginal | 2011:02:27 20:09:42 |
Defringe | 0 |
DOF | 0.013 m (0.594 - 0.606 m) |
ExifImageHeight | 533 |
ExifImageWidth | 800 |
Exposure | 0.00 |
ExposureCompensation | 0 |
ExposureMode | Manual |
ExposureProgram | Manual |
ExposureTime | 1/15 |
FillLight | 0 |
Firmware | 1.0.7 |
Flash | On, Fired |
FlashCompensation | 0 |
FlashFired | True |
FlashFunction | False |
FlashMode | On |
FlashRedEyeMode | False |
FlashReturn | No return detection |
FNumber | 11.0 |
FocalLength | 100.0 mm |
FocalLength35efl | 100.0 mm (35 mm equivalent: 158.5 mm) |
Format | image/tiff |
FOV | 13.0 deg |
GrainAmount | 0 |
GreenHue | 0 |
GreenSaturation | 0 |
HasCrop | False |
HasSettings | True |
HierarchicalSubject | LR-bearbeitet, Makro, Sonstige|Ei, Spezial, cs5, gabel, tabletop |
HighlightRecovery | 0 |
HueAdjustmentAqua | 0 |
HueAdjustmentBlue | 0 |
HueAdjustmentGreen | 0 |
HueAdjustmentMagenta | 0 |
HueAdjustmentOrange | 0 |
HueAdjustmentPurple | 0 |
HueAdjustmentRed | 0 |
HueAdjustmentYellow | 0 |
HyperfocalDistance | 47.94 m |
ImageHeight | 533 |
ImageNumber | 0 |
ImageSize | 800x533 |
ImageWidth | 800 |
IncrementalTemperature | 0 |
IncrementalTint | 0 |
ISO | 100 |
Keywords | Ei, LR-bearbeitet, Makro, Sonstige, Spezial, cs5, gabel, tabletop |
Label | best fertig |
Lens | 100mm |
LensID (1) | 161 |
LensID | Unknown (161) 100mm |
LensInfo | 100mm f/? |
LensManualDistortionAmount | 0 |
LensModel | 100mm |
LensProfileEnable | 0 |
LensProfileSetup | LensDefaults |
LightValue | 10.8 |
LuminanceAdjustmentAqua | 0 |
LuminanceAdjustmentBlue | 0 |
LuminanceAdjustmentGreen | 0 |
LuminanceAdjustmentMagenta | 0 |
LuminanceAdjustmentOrange | 0 |
LuminanceAdjustmentPurple | 0 |
LuminanceAdjustmentRed | 0 |
LuminanceAdjustmentYellow | 0 |
LuminanceSmoothing | 0 |
Make | Canon |
Marked | True |
MaxApertureValue | 2.8 |
Megapixels | 0.426 |
MeteringMode | Spot |
Model | Canon EOS 50D |
ModifyDate (1) | 2011:02:27 21:09:11+01:00 |
ModifyDate | 2011:02:27 21:09:11 |
OwnerName | Dirk Rosin |
ParametricDarks | +23 |
ParametricHighlights | -14 |
ParametricHighlightSplit | 75 |
ParametricLights | -19 |
ParametricMidtoneSplit | 50 |
ParametricShadows | -6 |
ParametricShadowSplit | 25 |
PerspectiveHorizontal | 0 |
PerspectiveRotate | 0.0 |
PerspectiveScale | 100 |
PerspectiveVertical | 0 |
PLUSVersion | 1.2.0 |
PostCropVignetteAmount | 0 |
ProcessVersion | 5.7 |
ProfileDescription | sRGB IEC61966-2.1 |
Rating | 5 |
RedHue | 0 |
RedSaturation | 0 |
Rights | © 2010 Dirk Rosin |
Saturation | 0 |
SaturationAdjustmentAqua | 0 |
SaturationAdjustmentBlue | 0 |
SaturationAdjustmentGreen | 0 |
SaturationAdjustmentMagenta | 0 |
SaturationAdjustmentOrange | -8 |
SaturationAdjustmentPurple | 0 |
SaturationAdjustmentRed | -12 |
SaturationAdjustmentYellow | -3 |
ScaleFactor35efl | 1.6 |
SceneCaptureType | Standard |
SensitivityType | Unknown |
SerialNumber | 730401017 |
Shadows | 10 |
ShadowTint | 0 |
SharpenDetail | 25 |
SharpenEdgeMasking | 0 |
SharpenRadius | +1.0 |
Sharpness | 0 |
ShutterSpeed | 1/15 |
ShutterSpeedValue | 1/15 |
Software | Adobe Photoshop CS5 Windows |
SplitToningBalance | 0 |
SplitToningHighlightHue | 0 |
SplitToningHighlightSaturation | 0 |
SplitToningShadowHue | 0 |
SplitToningShadowSaturation | 0 |
Subject | Ei, LR-bearbeitet, Makro, Sonstige, Spezial, cs5, gabel, tabletop |
SubjectDistance | 0.6 m |
ToneCurve | 0, 0, 255, 255 |
ToneCurveName | Linear |
Version | 6.3 |
Vibrance | 0 |
VignetteAmount | 0 |
WhiteBalance (2) | As Shot |
WhiteBalance | Auto |