Felt | Verdi |
AlreadyApplied | True |
Aperture | 2.8 |
ApertureValue | 2.8 |
BitsPerSample | 8 |
BlueHue | -100 |
BlueSaturation | +5 |
Brightness | +43 |
CameraProfile | ACR 2.4 |
ChromaticAberrationB | 0 |
ChromaticAberrationR | 0 |
CircleOfConfusion | 0.019 mm |
Clarity | -10 |
ColorComponents | 1 |
ColorNoiseReduction | 25 |
Contrast | +25 |
ConvertToGrayscale | False |
CreateDate (1) | 2010:09:10 15:32:20.84+02:00 |
CreateDate | 2010:09:10 15:32:20 |
CreatorTool | Adobe Photoshop Lightroom |
CustomRendered | Normal |
DateCreated (1) | 2010:09:10 |
DateCreated | 2010:09:10 15:32:20.084 |
DateTimeDigitized | 2010:09:10 15:32:20.84+02:00 |
DateTimeOriginal (1) | 2010:09:10 15:32:20.84+02:00 |
DateTimeOriginal | 2010:09:10 15:32:20 |
Defringe | 0 |
DOF | 0.48 m (3.52 - 3.99 m) |
ExifImageHeight | 2848 |
ExifImageWidth | 4272 |
Exposure | +0.57 |
ExposureCompensation | 0 |
ExposureMode | Auto |
ExposureProgram | Aperture-priority AE |
ExposureTime | 1/160 |
FillLight | 8 |
Firmware | 1.1.0 |
Flash | Off, Did not fire |
FlashCompensation | 0 |
FlashFired | False |
FlashFunction | False |
FlashMode | Off |
FlashRedEyeMode | False |
FlashReturn | No return detection |
FNumber | 2.8 |
FocalLength | 55.0 mm |
FocalLength35efl | 55.0 mm (35 mm equivalent: 88.8 mm) |
Format | image/jpeg |
FOV | 22.9 deg |
GreenHue | +43 |
GreenSaturation | +100 |
HasCrop | False |
HasSettings | True |
HighlightRecovery | 20 |
HueAdjustmentAqua | 0 |
HueAdjustmentBlue | 0 |
HueAdjustmentGreen | 0 |
HueAdjustmentMagenta | 0 |
HueAdjustmentOrange | 0 |
HueAdjustmentPurple | 0 |
HueAdjustmentRed | 0 |
HueAdjustmentYellow | 0 |
HyperfocalDistance | 58.08 m |
ImageHeight | 2848 |
ImageNumber | 0 |
ImageSize | 4272x2848 |
ImageWidth | 4272 |
IncrementalTemperature | -11 |
IncrementalTint | -65 |
ISO | 100 |
Lens | EF-S17-55mm f/2.8 IS USM |
LensID (1) | 240 |
LensID | Canon EF-S 17-55mm f/2.8 IS USM |
LensInfo | 17-55mm f/? |
LightValue | 10.3 |
LuminanceAdjustmentAqua | 0 |
LuminanceAdjustmentBlue | 0 |
LuminanceAdjustmentGreen | 0 |
LuminanceAdjustmentMagenta | 0 |
LuminanceAdjustmentOrange | 0 |
LuminanceAdjustmentPurple | 0 |
LuminanceAdjustmentRed | 0 |
LuminanceAdjustmentYellow | 0 |
LuminanceSmoothing | 0 |
Make | Canon |
MaxApertureValue | 2.8 |
Megapixels | 12.2 |
MeteringMode | Multi-segment |
Model | Canon EOS 450D |
ModifyDate (1) | 2010:09:13 12:10:57+02:00 |
ModifyDate | 2010:09:13 12:10:57 |
ParametricDarks | -3 |
ParametricHighlights | 0 |
ParametricHighlightSplit | 75 |
ParametricLights | 0 |
ParametricMidtoneSplit | 50 |
ParametricShadows | -14 |
ParametricShadowSplit | 25 |
PostCropVignetteAmount | 0 |
ProfileDescription | sRGB IEC61966-2.1 |
RedHue | +100 |
RedSaturation | -25 |
Saturation | -100 |
SaturationAdjustmentAqua | 0 |
SaturationAdjustmentBlue | 0 |
SaturationAdjustmentGreen | 0 |
SaturationAdjustmentMagenta | 0 |
SaturationAdjustmentOrange | 0 |
SaturationAdjustmentPurple | 0 |
SaturationAdjustmentRed | 0 |
SaturationAdjustmentYellow | 0 |
ScaleFactor35efl | 1.6 |
SceneCaptureType | Standard |
SerialNumber | 1630308491 |
Shadows | 10 |
ShadowTint | -56 |
SharpenDetail | 25 |
SharpenEdgeMasking | 0 |
SharpenRadius | +1.0 |
Sharpness | 25 |
ShutterSpeed | 1/160 |
ShutterSpeedValue | 1/160 |
SidecarForExtension | CR2 |
Software | Adobe Photoshop CS5 Windows |
SplitToningBalance | 0 |
SplitToningHighlightHue | 0 |
SplitToningHighlightSaturation | 0 |
SplitToningShadowHue | 0 |
SplitToningShadowSaturation | 0 |
SubjectDistance | 3.74 m |
ToneCurve | 0, 0, 255, 255 |
ToneCurveName | Linear |
Version | 4.5 |
Vibrance | +10 |
VignetteAmount | -100 |
VignetteMidpoint | 25 |
WhiteBalance (2) | Custom |
WhiteBalance | Auto |