Felt | Verdi |
AlreadyApplied | True |
Aperture | 5.0 |
ApertureValue | 5.0 |
BitsPerSample | 8 |
BlueHue | 0 |
BlueSaturation | 0 |
Brightness | 0 |
CameraProfile | ACR 4.4 |
ChromaticAberrationB | 0 |
ChromaticAberrationR | 0 |
CircleOfConfusion | 0.020 mm |
Clarity | +64 |
ColorComponents | 3 |
ColorMode | RGB |
ColorNoiseReduction | 25 |
ColorSpace | sRGB |
ColorTemperature | 5850 |
Contrast (2) | +50 |
Contrast | High |
ConvertToGrayscale | False |
CopyrightFlag | False |
CreateDate (1) | 2010:04:25 21:58:41+02:00 |
CreateDate | 2010:04:25 19:02:05 |
CreatorTool | Adobe Photoshop Elements 7.0 Windows |
CustomRendered | Normal |
DateTimeDigitized | 2010:04:25 19:02:05+02:00 |
DateTimeOriginal (1) | 2010:04:25 19:02:05+02:00 |
DateTimeOriginal | 2010:04:25 19:02:05 |
Defringe | 0 |
ExifImageHeight | 853 |
ExifImageWidth | 1280 |
Exposure | +1.50 |
ExposureCompensation | 0 |
ExposureMode | Auto |
ExposureProgram | Aperture-priority AE |
ExposureTime | 1/1250 |
FillLight | 0 |
Flash | Off, Did not fire |
FlashFired | False |
FlashFunction | False |
FlashMode | Off |
FlashRedEyeMode | False |
FlashReturn | No return detection |
FNumber | 5.0 |
FocalLength | 300.0 mm |
FocalLength35efl | 300.0 mm (35 mm equivalent: 450.0 mm) |
FocalLengthIn35mmFormat | 450 mm |
Format | image/jpeg |
FOV | 4.6 deg |
GreenHue | 0 |
GreenSaturation | 0 |
HasCrop | False |
HasSettings | True |
HighlightRecovery | 0 |
HueAdjustmentAqua | 0 |
HueAdjustmentBlue | 0 |
HueAdjustmentGreen | 0 |
HueAdjustmentMagenta | 0 |
HueAdjustmentOrange | 0 |
HueAdjustmentPurple | 0 |
HueAdjustmentRed | 0 |
HueAdjustmentYellow | 0 |
HyperfocalDistance | 898.61 m |
ICCProfileName | sRGB IEC61966-2.1 |
ImageHeight | 853 |
ImageSize | 1280x853 |
ImageWidth | 1280 |
ISO | 200 |
Lens | smc PENTAX-F* 300mm F4.5 ED[IF] |
LensID (1) | 3 38 |
LensID | smc PENTAX-F* 300mm F4.5 ED[IF] |
LensInfo | 300mm f/4.5 |
LightValue | 13.9 |
LuminanceAdjustmentAqua | 0 |
LuminanceAdjustmentBlue | 0 |
LuminanceAdjustmentGreen | 0 |
LuminanceAdjustmentMagenta | 0 |
LuminanceAdjustmentOrange | 0 |
LuminanceAdjustmentPurple | 0 |
LuminanceAdjustmentRed | 0 |
LuminanceAdjustmentYellow | 0 |
LuminanceSmoothing | 62 |
Make | PENTAX |
Megapixels | 1.1 |
MeteringMode | Multi-segment |
Model | PENTAX K20D |
ModifyDate (1) | 2010:04:25 21:58:41+02:00 |
ModifyDate | 2010:04:25 21:58:41 |
Orientation | Horizontal (normal) |
ParametricDarks | 0 |
ParametricHighlights | 0 |
ParametricHighlightSplit | 75 |
ParametricLights | 0 |
ParametricMidtoneSplit | 50 |
ParametricShadows | 0 |
ParametricShadowSplit | 25 |
PostCropVignetteAmount | 0 |
ProfileDescription | sRGB IEC61966-2.1 |
Rating | 0 |
RawFileName | IMGP5775.DNG |
RedHue | 0 |
RedSaturation | 0 |
Saturation (2) | +7 |
Saturation | High |
SaturationAdjustmentAqua | 0 |
SaturationAdjustmentBlue | 0 |
SaturationAdjustmentGreen | 0 |
SaturationAdjustmentMagenta | 0 |
SaturationAdjustmentOrange | 0 |
SaturationAdjustmentPurple | 0 |
SaturationAdjustmentRed | 0 |
SaturationAdjustmentYellow | 0 |
ScaleFactor35efl | 1.5 |
SceneCaptureType | Standard |
SensingMethod | One-chip color area |
Shadows | 10 |
ShadowTint | 0 |
SharpenDetail | 54 |
SharpenEdgeMasking | 43 |
SharpenRadius | +1.4 |
Sharpness (2) | 126 |
Sharpness | Hard |
ShutterSpeed | 1/1250 |
ShutterSpeedValue | 1/1250 |
Software | Adobe Photoshop Elements 7.0 Windows |
SplitToningBalance | 0 |
SplitToningHighlightHue | 0 |
SplitToningHighlightSaturation | 0 |
SplitToningShadowHue | 0 |
SplitToningShadowSaturation | 0 |
SubjectDistanceRange | Distant |
Tint | 0 |
ToneCurve | 0, 0, 32, 22, 64, 56, 128, 128, 192, 196, 255, 255 |
ToneCurveName | Medium Contrast |
URL_List | |
Version | 4.5 |
Vibrance | +40 |
VignetteAmount | 0 |
WhiteBalance (2) | Custom |
WhiteBalance | Auto |