Felt | Verdi |
AlreadyApplied | True |
Aperture | 5.6 |
ApertureValue | 5.6 |
Artist | Ole Andreas Valdal |
BitsPerSample | 8 |
BlueHue | 0 |
BlueSaturation | 0 |
Brightness | 0 |
By-line | Ole Andreas Valdal |
CameraProfile | ACR 4.4 |
ChromaticAberrationB | 0 |
ChromaticAberrationR | 0 |
CircleOfConfusion | 0.019 mm |
Clarity | 0 |
ColorComponents | 1 |
ColorMode | RGB |
ColorNoiseReduction | 25 |
ColorSpace | sRGB |
ColorTemperature | 4700 |
Contrast | 0 |
ConvertToGrayscale | True |
Copyright | Fotograf Ole Valdal |
CopyrightFlag | True |
CopyrightNotice | Fotograf Ole Valdal |
CreateDate (1) | 2009:10:27 11:08:41+01:00 |
CreateDate | 2009:10:27 11:08:41 |
Creator | Ole Andreas Valdal |
CropAngle | 4.77 |
CropBottom | 1 |
CropLeft | 0.080343 |
CropRight | 0.919657 |
CropTop | 0 |
CustomRendered | Normal |
DateTimeDigitized | 2009:10:27 11:08:41+01:00 |
DateTimeOriginal (1) | 2009:10:27 11:08:41+01:00 |
DateTimeOriginal | 2009:10:27 11:08:41 |
Defringe | 0 |
ExifImageHeight | 600 |
ExifImageWidth | 900 |
Exposure | 0.00 |
ExposureCompensation | 0 |
ExposureMode | Auto |
ExposureProgram | Aperture-priority AE |
ExposureTime | 1/400 |
FillLight | 0 |
Firmware | 1.0.5 |
Flash | Off, Did not fire |
FlashCompensation | 0.666666666666667 |
FlashFired | False |
FlashFunction | False |
FlashMode | Off |
FlashRedEyeMode | False |
FlashReturn | No return detection |
FNumber | 5.6 |
FocalLength | 35.0 mm |
FocalLength35efl | 35.0 mm (35 mm equivalent: 56.1 mm) |
Format | image/jpeg |
FOV | 35.6 deg |
GrayMixerAqua | -18 |
GrayMixerBlue | +9 |
GrayMixerGreen | -27 |
GrayMixerMagenta | +4 |
GrayMixerOrange | -19 |
GrayMixerPurple | +16 |
GrayMixerRed | -10 |
GrayMixerYellow | -23 |
GreenHue | 0 |
GreenSaturation | 0 |
HasCrop | True |
HasSettings | True |
HighlightRecovery | 17 |
HyperfocalDistance | 11.66 m |
ICCProfileName | sRGB IEC61966-2.1 |
ImageHeight | 600 |
ImageNumber | 112 |
ImageSize | 900x600 |
ImageWidth | 900 |
ISO | 100 |
Lens | EF35mm f/2 |
LensInfo | 35mm f/? |
LightValue | 13.6 |
LuminanceSmoothing | 0 |
Make | Canon |
Marked | True |
MaxApertureValue | 2.0 |
Megapixels | 0.540 |
MeteringMode | Multi-segment |
Model | Canon EOS 30D |
ModifyDate (1) | 2009:10:27 14:06:23+01:00 |
ModifyDate | 2009:10:27 14:06:23 |
Orientation | Horizontal (normal) |
OwnerName | Ole Andreas Valdal |
ParametricDarks | -10 |
ParametricHighlights | 0 |
ParametricHighlightSplit | 75 |
ParametricLights | +60 |
ParametricMidtoneSplit | 50 |
ParametricShadows | -100 |
ParametricShadowSplit | 25 |
PostCropVignetteAmount | 0 |
ProfileDescription | sRGB IEC61966-2.1 |
Rating | 2 |
RawFileName | IMG_3031.CR2 |
RedHue | 0 |
RedSaturation | 0 |
Rights | Fotograf Ole Valdal |
ScaleFactor35efl | 1.6 |
SceneCaptureType | Standard |
SerialNumber | 1730906613 |
Shadows | 0 |
ShadowTint | 0 |
SharpenDetail | 25 |
SharpenEdgeMasking | 0 |
SharpenRadius | +1.0 |
Sharpness | 25 |
ShutterSpeed | 1/400 |
ShutterSpeedValue | 1/400 |
Software | Adobe Photoshop CS4 Windows |
SplitToningBalance | 0 |
SplitToningHighlightHue | 0 |
SplitToningHighlightSaturation | 0 |
SplitToningShadowHue | 0 |
SplitToningShadowSaturation | 0 |
Tint | 0 |
ToneCurve | 0, 0, 32, 22, 64, 56, 128, 128, 192, 196, 255, 255 |
ToneCurveName | Medium Contrast |
URL | http://www.olevaldal.no |
URL_List | |
Version | 5.5 |
VignetteAmount | 0 |
WebStatement | http://www.olevaldal.no |
WhiteBalance (2) | As Shot |
WhiteBalance | Auto |