Felt | Verdi |
AlreadyApplied | True |
Aperture | 2.2 |
ApertureValue | 2.2 |
BitsPerSample (1) | 16, 16, 16 |
BitsPerSample (2) | 16 16 16 |
BitsPerSample | 8 |
BlueHue | 0 |
BlueSaturation | 0 |
Brightness | +46 |
CameraProfile | Adobe Standard |
ChromaticAberrationB | 0 |
ChromaticAberrationR | 0 |
CircleOfConfusion | 0.031 mm |
Clarity | +5 |
ColorComponents | 3 |
ColorMode | RGB |
ColorNoiseReduction | 4 |
ColorSpace | sRGB |
ColorTemperature | 50000 |
Contrast | +39 |
ConvertToGrayscale | True |
CopyrightFlag | False |
CreateDate (1) | 2009:09:11 15:59:11+02:00 |
CreateDate | 2009:08:20 20:51:49 |
CreatorTool | Adobe Photoshop CS3 Windows |
CropAngle | 0 |
CropBottom | 1 |
CropHeight | 3031 |
CropLeft | 0.078714 |
CropRight | 0.863454 |
CropTop | 0.190362 |
CropUnit | pixels |
CropWidth | 4407 |
CustomRendered | Normal |
DateTimeDigitized | 2009:08:20 20:51:49.78+02:00 |
DateTimeOriginal (1) | 2009:08:20 20:51:49.78+02:00 |
DateTimeOriginal | 2009:08:20 20:51:49 |
Defringe | 0 |
ExifImageHeight | 716 |
ExifImageWidth | 1024 |
Exposure | -0.38 |
ExposureCompensation | 0 |
ExposureMode | Auto |
ExposureProgram | Aperture-priority AE |
ExposureTime | 1/200 |
FillLight | 0 |
Firmware | 1.1.0 |
Flash | On, Fired |
FlashCompensation | 0 |
FlashFired | True |
FlashFunction | False |
FlashMode | On |
FlashRedEyeMode | False |
FlashReturn | No return detection |
FNumber | 2.2 |
FocalLength | 85.0 mm |
FocalLength35efl | 85.0 mm (35 mm equivalent: 83.0 mm) |
Format | image/jpeg |
FOV | 24.5 deg |
GrayMixerAqua | -17 |
GrayMixerBlue | +14 |
GrayMixerGreen | -24 |
GrayMixerMagenta | +5 |
GrayMixerOrange | -14 |
GrayMixerPurple | +19 |
GrayMixerRed | -14 |
GrayMixerYellow | -24 |
GreenHue | 0 |
GreenSaturation | 0 |
HasCrop | True |
HasSettings | True |
HighlightRecovery | 0 |
HyperfocalDistance | 106.67 m |
ICCProfileName | sRGB IEC61966-2.1 |
ImageHeight (1) | 3031 |
ImageHeight | 716 |
ImageNumber | 0 |
ImageSize | 1024x716 |
ImageWidth (1) | 4335 |
ImageWidth | 1024 |
ISO | 200 |
Lens | EF85mm f/1.8 USM |
LensInfo | 85mm f/? |
LightValue | 8.9 |
LuminanceSmoothing | 20 |
Make | Canon |
MaxApertureValue | 1.8 |
Megapixels | 0.733 |
MeteringMode | Multi-segment |
Model | Canon EOS 5D Mark II |
ModifyDate (1) | 2009:09:11 15:59:11+02:00 |
ModifyDate | 2009:09:11 15:59:11 |
Orientation | Horizontal (normal) |
ParametricDarks | -10 |
ParametricHighlights | -5 |
ParametricHighlightSplit | 75 |
ParametricLights | -7 |
ParametricMidtoneSplit | 50 |
ParametricShadows | -5 |
ParametricShadowSplit | 25 |
PhotometricInterpretation | RGB |
PlanarConfiguration | Chunky |
PostCropVignetteAmount | 0 |
ProfileDescription | sRGB IEC61966-2.1 |
RedHue | 0 |
RedSaturation | 0 |
SamplesPerPixel | 3 |
ScaleFactor35efl | 1.0 |
SceneCaptureType | Standard |
SerialNumber | 530320270 |
Shadows | 5 |
ShadowTint | 0 |
SharpenDetail | 25 |
SharpenEdgeMasking | 0 |
SharpenRadius | +1.0 |
Sharpness | 68 |
ShutterSpeed | 1/200 |
ShutterSpeedValue | 1/200 |
Software | Adobe Photoshop CS3 Windows |
SplitToningBalance | 0 |
SplitToningHighlightHue | 0 |
SplitToningHighlightSaturation | 0 |
SplitToningShadowHue | 0 |
SplitToningShadowSaturation | 0 |
Tint | -150 |
ToneCurve | 0, 0, 32, 22, 64, 56, 128, 128, 192, 196, 255, 255 |
ToneCurveName | Medium Contrast |
URL_List | |
Version | 5.4 |
VignetteAmount | 0 |
WhiteBalance (2) | Custom |
WhiteBalance | Auto |