Felt | Verdi |
AlreadyApplied | True |
Aperture | 11.0 |
ApertureValue | 11.0 |
Artist | Stig Johannessen |
BitsPerSample | 8 |
BlueHue | 0 |
BlueSaturation | 0 |
Brightness | +50 |
By-line | Stig Johannessen |
CameraProfile | ACR 4.4 |
ChromaticAberrationB | -31 |
ChromaticAberrationR | -50 |
CircleOfConfusion | 0.019 mm |
Clarity | +40 |
ColorComponents | 3 |
ColorMode | RGB |
ColorNoiseReduction | 0 |
ColorSpace | sRGB |
ColorTemperature | 5750 |
Contrast | +50 |
ConvertToGrayscale | False |
Copyright | Stig Johannessen |
CopyrightFlag | True |
CopyrightNotice | Stig Johannessen |
CreateDate (1) | 2009:09:03 21:20:32+02:00 |
CreateDate | 2009:08:22 18:40:23 |
Creator | Stig Johannessen |
CreatorAddress | Lovisenbergveien 89 |
CreatorCity | Kragerø |
CreatorCountry | Norway |
CreatorPostalCode | NO-3770 |
CreatorTool | Adobe Photoshop CS3 Windows |
CreatorWorkEmail | stijohannessen@hotmail.com |
CreatorWorkTelephone | +47 95888434 |
CropAngle | 2.02 |
CropBottom | 1 |
CropHeight | 2703 |
CropLeft | 0.022332 |
CropRight | 0.977703 |
CropTop | 0 |
CropUnit | pixels |
CropWidth | 4180 |
CustomRendered | Normal |
DateTimeDigitized | 2009:08:22 18:40:23.03+02:00 |
DateTimeOriginal (1) | 2009:08:22 18:40:23.03+02:00 |
DateTimeOriginal | 2009:08:22 18:40:23 |
Defringe | 2 |
DerivedFrom | |
ExifImageHeight | 600 |
ExifImageWidth | 928 |
Exposure | -0.29 |
ExposureCompensation | 0 |
ExposureMode | Auto |
ExposureProgram | Aperture-priority AE |
ExposureTime | 1/500 |
FillLight | 13 |
Firmware | 1.0.4 |
Flash | Off, Did not fire |
FlashCompensation | 0 |
FlashFired | False |
FlashFunction | False |
FlashMode | Off |
FlashRedEyeMode | False |
FlashReturn | No return detection |
FNumber | 11.0 |
FocalLength | 18.0 mm |
FocalLength35efl | 18.0 mm (35 mm equivalent: 29.1 mm) |
Format | image/jpeg |
FOV | 63.5 deg |
GreenHue | 0 |
GreenSaturation | 0 |
HasCrop | True |
HasSettings | True |
HighlightRecovery | 21 |
HueAdjustmentAqua | 0 |
HueAdjustmentBlue | 0 |
HueAdjustmentGreen | 0 |
HueAdjustmentMagenta | 0 |
HueAdjustmentOrange | 0 |
HueAdjustmentPurple | 0 |
HueAdjustmentRed | 0 |
HueAdjustmentYellow | 0 |
HyperfocalDistance | 1.58 m |
ICCProfileName | sRGB IEC61966-2.1 |
ImageHeight (1) | 2703 |
ImageHeight | 600 |
ImageNumber | 0 |
ImageSize | 928x600 |
ImageWidth (1) | 4180 |
ImageWidth | 928 |
ISO | 100 |
Lens | EF-S18-55mm f/3.5-5.6 IS |
LensInfo | 18-55mm f/? |
LightValue | 15.9 |
LuminanceAdjustmentAqua | 0 |
LuminanceAdjustmentBlue | 0 |
LuminanceAdjustmentGreen | 0 |
LuminanceAdjustmentMagenta | 0 |
LuminanceAdjustmentOrange | 0 |
LuminanceAdjustmentPurple | 0 |
LuminanceAdjustmentRed | 0 |
LuminanceAdjustmentYellow | 0 |
LuminanceSmoothing | 40 |
Make | Canon |
Marked | True |
MaxApertureValue | 3.5 |
Megapixels | 0.557 |
MeteringMode | Multi-segment |
Model | Canon EOS 450D |
ModifyDate (1) | 2009:09:03 21:20:32+02:00 |
ModifyDate | 2009:09:03 21:20:32 |
Orientation | Horizontal (normal) |
ParametricDarks | 0 |
ParametricHighlights | 0 |
ParametricHighlightSplit | 75 |
ParametricLights | 0 |
ParametricMidtoneSplit | 50 |
ParametricShadows | 0 |
ParametricShadowSplit | 25 |
PostCropVignetteAmount | 0 |
ProfileDescription | sRGB IEC61966-2.1 |
RedHue | 0 |
RedSaturation | 0 |
Rights | Stig Johannessen |
Saturation | 0 |
SaturationAdjustmentAqua | 0 |
SaturationAdjustmentBlue | 0 |
SaturationAdjustmentGreen | 0 |
SaturationAdjustmentMagenta | 0 |
SaturationAdjustmentOrange | 0 |
SaturationAdjustmentPurple | 0 |
SaturationAdjustmentRed | 0 |
SaturationAdjustmentYellow | 0 |
ScaleFactor35efl | 1.6 |
SceneCaptureType | Standard |
SerialNumber | 630266831 |
Shadows | 5 |
ShadowTint | 0 |
SharpenDetail | 25 |
SharpenEdgeMasking | 14 |
SharpenRadius | +1.0 |
Sharpness | 15 |
ShutterSpeed | 1/500 |
ShutterSpeedValue | 1/500 |
Software | Adobe Photoshop CS3 Windows |
SplitToningBalance | 0 |
SplitToningHighlightHue | 0 |
SplitToningHighlightSaturation | 0 |
SplitToningShadowHue | 0 |
SplitToningShadowSaturation | 0 |
Tint | +6 |
ToneCurve | 0, 0, 32, 22, 64, 56, 128, 128, 192, 196, 255, 255 |
ToneCurveName | Medium Contrast |
URL_List | |
Version | 5.3 |
Vibrance | +21 |
VignetteAmount | -40 |
VignetteMidpoint | 50 |
WhiteBalance | Auto |