Felt | Verdi |
AlreadyApplied | True |
Aperture | 2.8 |
ApertureValue | 2.8 |
Artist | Ole Andreas Valdal |
BitsPerSample | 8 |
BlueHue | 0 |
BlueSaturation | 0 |
Brightness | +50 |
By-line | Ole Andreas Valdal |
CameraProfile | ACR 4.4 |
ChromaticAberrationB | 0 |
ChromaticAberrationR | 0 |
CircleOfConfusion | 0.019 mm |
Clarity | +50 |
ColorComponents | 1 |
ColorMode | RGB |
ColorNoiseReduction | 25 |
ColorSpace | sRGB |
ColorTemperature | 5750 |
Contrast | +60 |
ConvertToGrayscale | True |
Copyright | Fotograf Ole Valdal |
CopyrightFlag | True |
CopyrightNotice | Fotograf Ole Valdal |
CreateDate (1) | 2009:06:11 19:31:48+02:00 |
CreateDate | 2009:06:11 19:31:48 |
Creator | Ole Andreas Valdal |
CropAngle | 0 |
CropBottom | 1 |
CropLeft | 0.142983 |
CropRight | 0.75351 |
CropTop | 0.084209 |
CustomRendered | Normal |
DateTimeDigitized | 2009:06:11 19:31:48+02:00 |
DateTimeOriginal (1) | 2009:06:11 19:31:48+02:00 |
DateTimeOriginal | 2009:06:11 19:31:48 |
Defringe | 0 |
ExifImageHeight | 800 |
ExifImageWidth | 800 |
Exposure | +0.53 |
ExposureCompensation | 0 |
ExposureMode | Auto |
ExposureProgram | Aperture-priority AE |
ExposureTime | 1/1000 |
FillLight | 0 |
Firmware | 1.0.5 |
Flash | Off, Did not fire |
FlashCompensation | 1 |
FlashFired | False |
FlashFunction | False |
FlashMode | Off |
FlashRedEyeMode | False |
FlashReturn | No return detection |
FNumber | 2.8 |
FocalLength | 35.0 mm |
FocalLength35efl | 35.0 mm (35 mm equivalent: 56.1 mm) |
Format | image/jpeg |
FOV | 35.6 deg |
GrayMixerAqua | -17 |
GrayMixerBlue | +11 |
GrayMixerGreen | -27 |
GrayMixerMagenta | +3 |
GrayMixerOrange | -20 |
GrayMixerPurple | +16 |
GrayMixerRed | +10 |
GrayMixerYellow | -24 |
GreenHue | 0 |
GreenSaturation | 0 |
HasCrop | True |
HasSettings | True |
HighlightRecovery | 7 |
HyperfocalDistance | 23.32 m |
ICCProfileName | sRGB IEC61966-2.1 |
ImageHeight | 800 |
ImageNumber | 224 |
ImageSize | 800x800 |
ImageWidth | 800 |
ISO | 200 |
Lens | EF35mm f/2 |
LensInfo | 35mm f/? |
LightValue | 11.9 |
LuminanceSmoothing | 0 |
Make | Canon |
Marked | True |
MaxApertureValue | 2.0 |
Megapixels | 0.640 |
MeteringMode | Multi-segment |
Model | Canon EOS 30D |
ModifyDate (1) | 2009:06:13 23:50:56+02:00 |
ModifyDate | 2009:06:13 23:50:56 |
Orientation | Horizontal (normal) |
OwnerName | Ole Andreas Valdal |
ParametricDarks | -10 |
ParametricHighlights | 0 |
ParametricHighlightSplit | 75 |
ParametricLights | +42 |
ParametricMidtoneSplit | 50 |
ParametricShadows | -10 |
ParametricShadowSplit | 25 |
PostCropVignetteAmount | 0 |
ProfileDescription | sRGB IEC61966-2.1 |
Rating | 0 |
RawFileName | IMG_0158.CR2 |
RedHue | 0 |
RedSaturation | 0 |
Rights | Fotograf Ole Valdal |
ScaleFactor35efl | 1.6 |
SceneCaptureType | Standard |
SerialNumber | 1730906613 |
Shadows | 2 |
ShadowTint | 0 |
SharpenDetail | 25 |
SharpenEdgeMasking | 0 |
SharpenRadius | +1.0 |
Sharpness | 25 |
ShutterSpeed | 1/1000 |
ShutterSpeedValue | 1/1000 |
Software | Adobe Photoshop CS4 Windows |
SplitToningBalance | 0 |
SplitToningHighlightHue | 0 |
SplitToningHighlightSaturation | 0 |
SplitToningShadowHue | 0 |
SplitToningShadowSaturation | 0 |
Tint | -7 |
ToneCurve | 0, 0, 32, 22, 64, 56, 128, 128, 192, 196, 255, 255 |
ToneCurveName | Medium Contrast |
URL | http://www.valdal.org |
URL_List | |
Version | 5.2 |
VignetteAmount | 0 |
WebStatement | http://www.valdal.org |
WhiteBalance (2) | As Shot |
WhiteBalance | Auto |