Felt | Verdi |
AlreadyApplied | True |
Aperture | 4.5 |
ApertureValue | 4.5 |
BitsPerSample | 8 |
BlueHue | 0 |
BlueSaturation | 0 |
Brightness | +38 |
CameraProfile | ACR 4.4 |
ChromaticAberrationB | 0 |
ChromaticAberrationR | 0 |
CircleOfConfusion | 0.019 mm |
Clarity | +100 |
ColorComponents | 1 |
ColorNoiseReduction | 25 |
ColorTemperature | 6250 |
Contrast | +100 |
ConvertToGrayscale | False |
CreateDate (1) | 2009:03:25 19:09:18.78+01:00 |
CreateDate | 2009:03:25 19:09:18 |
CustomRendered | Normal |
DateTimeDigitized | 2009:03:25 19:09:18.78+01:00 |
DateTimeOriginal (1) | 2009:03:25 19:09:18.78+01:00 |
DateTimeOriginal | 2009:03:25 19:09:18 |
Defringe | 0 |
ExifImageHeight | 3888 |
ExifImageWidth | 2592 |
Exposure | 0.00 |
ExposureCompensation | 0 |
ExposureMode | Manual |
ExposureProgram | Manual |
ExposureTime | 1/25 |
FillLight | 100 |
Firmware | 1.0.8 |
Flash | On, Fired |
FlashCompensation | 0 |
FlashFired | True |
FlashFunction | False |
FlashMode | On |
FlashRedEyeMode | False |
FlashReturn | No return detection |
FNumber | 4.5 |
FocalLength | 50.0 mm |
FocalLength35efl | 50.0 mm (35 mm equivalent: 80.9 mm) |
FOV | 25.1 deg |
GreenHue | 0 |
GreenSaturation | 0 |
HasCrop | False |
HasSettings | True |
HighlightRecovery | 100 |
HueAdjustmentAqua | 0 |
HueAdjustmentBlue | 0 |
HueAdjustmentGreen | 0 |
HueAdjustmentMagenta | 0 |
HueAdjustmentOrange | 0 |
HueAdjustmentPurple | 0 |
HueAdjustmentRed | 0 |
HueAdjustmentYellow | 0 |
HyperfocalDistance | 29.93 m |
ImageHeight | 3888 |
ImageNumber | 0 |
ImageSize | 2592x3888 |
ImageWidth | 2592 |
ISO | 100 |
Lens | EF50mm f/1.8 II |
LensInfo | 50mm f/? |
LightValue | 9.0 |
LuminanceAdjustmentAqua | 0 |
LuminanceAdjustmentBlue | 0 |
LuminanceAdjustmentGreen | 0 |
LuminanceAdjustmentMagenta | 0 |
LuminanceAdjustmentOrange | 0 |
LuminanceAdjustmentPurple | 0 |
LuminanceAdjustmentRed | 0 |
LuminanceAdjustmentYellow | 0 |
LuminanceSmoothing | 0 |
Make | Canon |
MaxApertureValue | 1.8 |
Megapixels | 10.1 |
MeteringMode | Multi-segment |
Model | Canon EOS 40D |
ModifyDate (1) | 2009:04:11 00:30:24+02:00 |
ModifyDate | 2009:04:11 00:30:24 |
ParametricDarks | 0 |
ParametricHighlights | 0 |
ParametricHighlightSplit | 75 |
ParametricLights | 0 |
ParametricMidtoneSplit | 50 |
ParametricShadows | 0 |
ParametricShadowSplit | 25 |
PostCropVignetteAmount | 0 |
ProfileDescription | Adobe RGB (1998) |
Rating | 1 |
RawFileName | _MG_3358.CR2 |
RedHue | 0 |
RedSaturation | 0 |
Saturation | -100 |
SaturationAdjustmentAqua | 0 |
SaturationAdjustmentBlue | 0 |
SaturationAdjustmentGreen | 0 |
SaturationAdjustmentMagenta | 0 |
SaturationAdjustmentOrange | 0 |
SaturationAdjustmentPurple | 0 |
SaturationAdjustmentRed | 0 |
SaturationAdjustmentYellow | 0 |
ScaleFactor35efl | 1.6 |
SceneCaptureType | Standard |
SerialNumber | 1430719480 |
Shadows | 100 |
ShadowTint | 0 |
SharpenDetail | 25 |
SharpenEdgeMasking | 0 |
SharpenRadius | +1.0 |
Sharpness | 25 |
ShutterSpeed | 1/25 |
ShutterSpeedValue | 1/25 |
SplitToningBalance | 0 |
SplitToningHighlightHue | 0 |
SplitToningHighlightSaturation | 0 |
SplitToningShadowHue | 0 |
SplitToningShadowSaturation | 0 |
Tint | -1 |
ToneCurve | 0, 0, 105, 18, 227, 230, 255, 255 |
ToneCurveName | Custom |
Version | 4.6 |
Vibrance | 0 |
VignetteAmount | -100 |
VignetteMidpoint | 0 |
WhiteBalance (2) | As Shot |
WhiteBalance | Auto |