Felt | Verdi |
AlreadyApplied | True |
Aperture | 22.0 |
ApertureValue | 22.0 |
BitsPerSample (1) | 16, 16, 16 |
BitsPerSample (2) | 16 16 16 |
BitsPerSample | 8 |
BlueHue | 0 |
BlueSaturation | 0 |
Brightness | +50 |
CameraProfile | Adobe Standard |
ChromaticAberrationB | 0 |
ChromaticAberrationR | 0 |
CircleOfConfusion | 0.030 mm |
Clarity | +50 |
ColorComponents | 1 |
ColorMode | RGB |
ColorNoiseReduction | 10 |
ColorSpace | sRGB |
ColorTemperature | 5050 |
Contrast | +45 |
ConvertToGrayscale | False |
CopyrightFlag | False |
CreateDate (1) | 2009:03:26 18:28:43+01:00 |
CreateDate | 2009:03:21 14:45:52 |
CreatorTool | Adobe Photoshop CS3 Macintosh |
CropAngle | -0.079749 |
CropBottom | 0.97206 |
CropHeight | 2772 |
CropLeft | 0.008078 |
CropRight | 0.998651 |
CropTop | 0.022245 |
CropUnit | pixels |
CropWidth | 4323 |
CustomRendered | Normal |
DateTimeDigitized | 2009:03:21 14:45:52+01:00 |
DateTimeOriginal (1) | 2009:03:21 14:45:52+01:00 |
DateTimeOriginal | 2009:03:21 14:45:52 |
Defringe | 0 |
ExifImageHeight | 1000 |
ExifImageWidth | 1000 |
Exposure | -0.40 |
ExposureCompensation | 0 |
ExposureMode | Auto |
ExposureProgram (1) | Unknown (9) |
ExposureProgram | Bulb |
ExposureTime | 75 |
FillLight | 12 |
Firmware | 1.1.0 |
Flash | Off, Did not fire |
FlashCompensation | 0 |
FlashFired | False |
FlashFunction | False |
FlashMode | Off |
FlashRedEyeMode | False |
FlashReturn | No return detection |
FNumber | 22.0 |
FocalLength | 35.0 mm |
FocalLength35efl | 35.0 mm (35 mm equivalent: 35.1 mm) |
Format | image/jpeg |
FOV | 54.3 deg |
GradientBasedCorrActive | true |
GradientBasedCorrAmount | 1.000000 |
GradientBasedCorrBrightness | 0.000000 |
GradientBasedCorrClarity | 0.000000 |
GradientBasedCorrContrast | 0.000000 |
GradientBasedCorrExposure | -0.279621 |
GradientBasedCorrHue | 0.000000 |
GradientBasedCorrMaskFullX | 0.473855 |
GradientBasedCorrMaskFullY | 0.004835 |
GradientBasedCorrMaskValue | 1.000000 |
GradientBasedCorrMaskWhat | Mask/Gradient |
GradientBasedCorrMaskZeroX | 0.479446 |
GradientBasedCorrMaskZeroY | 0.283714 |
GradientBasedCorrSaturation | 0.000000 |
GradientBasedCorrSharpness | 0.000000 |
GradientBasedCorrWhat | Correction |
GreenHue | 0 |
GreenSaturation | 0 |
HasCrop | True |
HasSettings | True |
HighlightRecovery | 25 |
HueAdjustmentAqua | 0 |
HueAdjustmentBlue | 0 |
HueAdjustmentGreen | 0 |
HueAdjustmentMagenta | 0 |
HueAdjustmentOrange | 0 |
HueAdjustmentPurple | 0 |
HueAdjustmentRed | 0 |
HueAdjustmentYellow | 0 |
HyperfocalDistance | 1.86 m |
ICCProfileName | sRGB IEC61966-2.1 |
ImageHeight (1) | 4323 |
ImageHeight (2) | 2772 |
ImageHeight | 1000 |
ImageNumber | 3 |
ImageSize | 1000x1000 |
ImageWidth (1) | 4323 |
ImageWidth | 1000 |
ISO | 100 |
Lens | EF35mm f/1.4L USM |
LensInfo | 35mm f/? |
LightValue | 2.7 |
LuminanceAdjustmentAqua | 0 |
LuminanceAdjustmentBlue | 0 |
LuminanceAdjustmentGreen | 0 |
LuminanceAdjustmentMagenta | 0 |
LuminanceAdjustmentOrange | 0 |
LuminanceAdjustmentPurple | 0 |
LuminanceAdjustmentRed | 0 |
LuminanceAdjustmentYellow | 0 |
LuminanceSmoothing | 0 |
Make | Canon |
MaxApertureValue | 1.4 |
Megapixels | 1.0 |
MeteringMode | Unknown |
Model | Canon EOS 5D |
ModifyDate (1) | 2009:03:26 18:28:43+01:00 |
ModifyDate | 2009:03:26 18:28:43 |
Orientation | Horizontal (normal) |
PaintCorrectionActive | true |
PaintCorrectionAmount | 1.000000 |
PaintCorrectionBrightness | 0.000000 |
PaintCorrectionClarity | 0.000000 |
PaintCorrectionContrast (1) | 0.000000 |
PaintCorrectionContrast | 0.848341 |
PaintCorrectionExposure (1) | -0.270142 |
PaintCorrectionExposure | 0.000000 |
PaintCorrectionHue | 0.000000 |
PaintCorrectionMaskCenterWeight | 0.000000 |
PaintCorrectionMaskFlow | 0.200000 |
PaintCorrectionMaskRadius | 0.090470 |
PaintCorrectionMaskValue | 1.000000 |
PaintCorrectionMaskWhat | Mask/Paint |
PaintCorrectionSaturation | 0.000000 |
PaintCorrectionSharpness | 0.000000 |
PaintCorrectionWhat | Correction |
ParametricDarks | -14 |
ParametricHighlights | +7 |
ParametricHighlightSplit | 75 |
ParametricLights | +1 |
ParametricMidtoneSplit | 50 |
ParametricShadows | -25 |
ParametricShadowSplit | 25 |
PhotometricInterpretation | RGB |
PlanarConfiguration | Chunky |
PostCropVignetteAmount | 0 |
ProfileDescription | sRGB IEC61966-2.1 |
RedHue | 0 |
RedSaturation | 0 |
SamplesPerPixel | 3 |
Saturation | -100 |
SaturationAdjustmentAqua | 0 |
SaturationAdjustmentBlue | 0 |
SaturationAdjustmentGreen | 0 |
SaturationAdjustmentMagenta | 0 |
SaturationAdjustmentOrange | 0 |
SaturationAdjustmentPurple | 0 |
SaturationAdjustmentRed | 0 |
SaturationAdjustmentYellow | 0 |
ScaleFactor35efl | 1.0 |
SceneCaptureType | Standard |
SerialNumber | 1531004431 |
Shadows | 0 |
ShadowTint | 0 |
SharpenDetail | 68 |
SharpenEdgeMasking | 68 |
SharpenRadius | +0.8 |
Sharpness | 101 |
ShutterSpeed | 75 |
ShutterSpeedValue | 75 |
Software | Adobe Photoshop CS3 Macintosh |
SplitToningBalance | 0 |
SplitToningHighlightHue | 0 |
SplitToningHighlightSaturation | 0 |
SplitToningShadowHue | 0 |
SplitToningShadowSaturation | 0 |
Tint | +36 |
ToneCurve | 0, 0, 32, 22, 64, 56, 128, 128, 192, 196, 255, 255 |
ToneCurveName | Medium Contrast |
URL_List | |
Version | 5.3 |
Vibrance | +20 |
VignetteAmount | 0 |
WhiteBalance (2) | As Shot |
WhiteBalance | Auto |