Felt | Verdi |
AlreadyApplied | True |
Aperture | 5.6 |
ApertureValue | 5.6 |
Artist | unknown |
BitsPerSample | 8 |
BlueHue | -30 |
BlueSaturation | +36 |
Brightness | +50 |
By-line | unknown |
CameraProfile | ACR 4.4 |
ChromaticAberrationB | -28 |
ChromaticAberrationR | +19 |
CircleOfConfusion | 0.019 mm |
Clarity | 0 |
ColorComponents | 3 |
ColorMode | RGB |
ColorNoiseReduction | 83 |
ColorSpace (1) | Unknown (-1) |
ColorSpace | Uncalibrated |
ColorTemperature | 18000 |
Contrast | +44 |
ConvertToGrayscale | False |
CopyrightFlag | False |
CreateDate (1) | 2009:01:29 14:31:19+01:00 |
CreateDate | 2009:01:29 21:34:12 |
Creator | unknown |
CreatorTool | Adobe Photoshop CS3 Windows |
CropAngle | 0 |
CropBottom | 0.822917 |
CropLeft | 0 |
CropRight | 0.846065 |
CropTop | 0.008681 |
CustomRendered | Normal |
DateTimeDigitized | 2009:01:29 21:34:12+01:00 |
DateTimeOriginal (1) | 2009:01:29 21:34:12+01:00 |
DateTimeOriginal | 2009:01:29 21:34:12 |
Defringe | 0 |
DerivedFrom | |
ExifImageHeight | 2924 |
ExifImageWidth | 1876 |
Exposure | 0.00 |
ExposureCompensation | 0 |
ExposureMode | Manual |
ExposureProgram | Manual |
ExposureTime | 1/640 |
FillLight | 0 |
Firmware | 1.0.3 |
Flash | Off, Did not fire |
FlashCompensation | 0 |
FlashFired | False |
FlashFunction | False |
FlashMode | Off |
FlashRedEyeMode | False |
FlashReturn | No return detection |
FNumber | 5.6 |
FocalLength | 28.0 mm |
FocalLength35efl | 28.0 mm (35 mm equivalent: 45.4 mm) |
Format | image/jpeg |
FOV | 43.2 deg |
GreenHue | +51 |
GreenSaturation | -28 |
HasCrop | True |
HasSettings | True |
HighlightRecovery | 0 |
HueAdjustmentAqua | +38 |
HueAdjustmentBlue | -20 |
HueAdjustmentGreen | +4 |
HueAdjustmentMagenta | -8 |
HueAdjustmentOrange | 0 |
HueAdjustmentPurple | +13 |
HueAdjustmentRed | +18 |
HueAdjustmentYellow | +21 |
HyperfocalDistance | 7.56 m |
ICCProfileName | Adobe RGB (1998) |
ImageHeight | 2924 |
ImageNumber | 5 |
ImageSize | 1876x2924 |
ImageWidth | 1876 |
ISO | 1600 |
Lens | 18.0-55.0 mm |
LensInfo | 18-55mm f/? |
LightValue | 10.3 |
LuminanceAdjustmentAqua | 0 |
LuminanceAdjustmentBlue | 0 |
LuminanceAdjustmentGreen | 0 |
LuminanceAdjustmentMagenta | 0 |
LuminanceAdjustmentOrange | 0 |
LuminanceAdjustmentPurple | 0 |
LuminanceAdjustmentRed | 0 |
LuminanceAdjustmentYellow | 0 |
LuminanceSmoothing | 33 |
Make | Canon |
MaxApertureValue | 4.0 |
Megapixels | 5.5 |
MeteringMode | Multi-segment |
Model | Canon EOS 350D DIGITAL |
ModifyDate (1) | 2009:01:29 14:31:19+01:00 |
ModifyDate | 2009:01:29 14:31:19 |
Orientation | Horizontal (normal) |
OwnerName | unknown |
ParametricDarks | 0 |
ParametricHighlights | 0 |
ParametricHighlightSplit | 75 |
ParametricLights | 0 |
ParametricMidtoneSplit | 50 |
ParametricShadows | 0 |
ParametricShadowSplit | 25 |
PostCropVignetteAmount | 0 |
ProfileDescription | Adobe RGB (1998) |
Rating | 0 |
RawFileName | _MG_4869.CR2 |
RedHue | +22 |
RedSaturation | +23 |
Saturation | 0 |
SaturationAdjustmentAqua | 0 |
SaturationAdjustmentBlue | 0 |
SaturationAdjustmentGreen | 0 |
SaturationAdjustmentMagenta | 0 |
SaturationAdjustmentOrange | 0 |
SaturationAdjustmentPurple | 0 |
SaturationAdjustmentRed | 0 |
SaturationAdjustmentYellow | 0 |
ScaleFactor35efl | 1.6 |
SceneCaptureType | Standard |
SerialNumber | 2530706931 |
Shadows | 5 |
ShadowTint | -80 |
SharpenDetail | 53 |
SharpenEdgeMasking | 0 |
SharpenRadius | +1.5 |
Sharpness | 90 |
ShutterSpeed | 1/640 |
ShutterSpeedValue | 1/640 |
SidecarForExtension | CR2 |
Software | Adobe Photoshop CS3 Windows |
SplitToningBalance | -100 |
SplitToningHighlightHue | 171 |
SplitToningHighlightSaturation | 8 |
SplitToningShadowHue | 0 |
SplitToningShadowSaturation | 0 |
Tint | -12 |
ToneCurve | 0, 0, 32, 22, 64, 56, 128, 128, 192, 196, 255, 255 |
ToneCurveName | Medium Contrast |
URL_List | |
Version | 4.5 |
Vibrance | -2 |
VignetteAmount | -71 |
VignetteMidpoint | 50 |
WhiteBalance (2) | Custom |
WhiteBalance | Manual |