Felt | Verdi |
AlreadyApplied | True |
Aperture | 6.3 |
ApertureValue | 6.3 |
BitsPerSample | 8 |
BlueHue | 0 |
BlueSaturation | 0 |
Brightness | +16 |
CameraProfile | Embedded |
ChromaticAberrationB | 0 |
ChromaticAberrationR | 0 |
Clarity | +15 |
ColorComponents | 3 |
ColorNoiseReduction | 0 |
Contrast | +3 |
ConvertToGrayscale | False |
CreateDate (1) | 2008:07:13 20:18:37-05:00 |
CreateDate | 2008:07:13 20:18:37 |
CreatorTool | Adobe Photoshop Lightroom |
CropAngle | 0 |
CropBottom | 1 |
CropHeight | 3139 |
CropLeft | 0.103093 |
CropRight | 0.868041 |
CropTop | 0.192572 |
CropUnit | pixels |
CropWidth | 1983 |
DateTimeDigitized | 2008:07:13 20:18:37-05:00 |
DateTimeOriginal (1) | 2008:07:13 20:18:37-05:00 |
DateTimeOriginal | 2008:07:13 20:18:37 |
Defringe | 0 |
ExifImageHeight | 3139 |
ExifImageWidth | 1983 |
Exposure | 0.00 |
ExposureCompensation | 0 |
ExposureProgram | Program AE |
ExposureTime | 1/60 |
FillLight | 0 |
Flash | On, Fired |
FlashFired | True |
FlashFunction | False |
FlashMode | On |
FlashRedEyeMode | False |
FlashReturn | No return detection |
FNumber | 6.3 |
FocalLength | 200.0 mm |
FocalLength35efl | 200.0 mm |
GreenHue | 0 |
GreenSaturation | 0 |
HasCrop | True |
HasSettings | True |
HighlightRecovery | 24 |
HueAdjustmentAqua | 0 |
HueAdjustmentBlue | 0 |
HueAdjustmentGreen | 0 |
HueAdjustmentMagenta | 0 |
HueAdjustmentOrange | 0 |
HueAdjustmentPurple | 0 |
HueAdjustmentRed | 0 |
HueAdjustmentYellow | 0 |
ImageHeight | 3139 |
ImageSize | 1983x3139 |
ImageWidth | 1983 |
IncrementalTemperature | 0 |
IncrementalTint | 0 |
ISO | 400 |
LightValue | 9.2 |
LuminanceAdjustmentAqua | 0 |
LuminanceAdjustmentBlue | 0 |
LuminanceAdjustmentGreen | 0 |
LuminanceAdjustmentMagenta | 0 |
LuminanceAdjustmentOrange | 0 |
LuminanceAdjustmentPurple | 0 |
LuminanceAdjustmentRed | 0 |
LuminanceAdjustmentYellow | 0 |
LuminanceSmoothing | 100 |
Make | Canon |
Megapixels | 6.2 |
MeteringMode | Multi-segment |
Model | Canon EOS 40D |
ModifyDate (1) | 2008:12:03 16:13:40-05:00 |
ModifyDate | 2008:12:03 16:13:40 |
ParametricDarks | 0 |
ParametricHighlights | 0 |
ParametricHighlightSplit | 75 |
ParametricLights | 0 |
ParametricMidtoneSplit | 50 |
ParametricShadows | 0 |
ParametricShadowSplit | 25 |
PostCropVignetteAmount | 0 |
ProfileDescription | sRGB IEC61966-2.1 |
RedHue | 0 |
RedSaturation | 0 |
Saturation | 0 |
SaturationAdjustmentAqua | 0 |
SaturationAdjustmentBlue | 0 |
SaturationAdjustmentGreen | 0 |
SaturationAdjustmentMagenta | 0 |
SaturationAdjustmentOrange | 0 |
SaturationAdjustmentPurple | 0 |
SaturationAdjustmentRed | 0 |
SaturationAdjustmentYellow | 0 |
Shadows | 0 |
ShadowTint | 0 |
SharpenDetail | 60 |
SharpenEdgeMasking | 53 |
SharpenRadius | +2.4 |
Sharpness | 78 |
ShutterSpeed | 1/60 |
ShutterSpeedValue | 1/60 |
Software | QuickTime 7.5 |
SplitToningBalance | 0 |
SplitToningHighlightHue | 0 |
SplitToningHighlightSaturation | 0 |
SplitToningShadowHue | 0 |
SplitToningShadowSaturation | 0 |
ToneCurve | 0, 0, 255, 255 |
ToneCurveName | Linear |
Version | 4.6 |
Vibrance | +13 |
VignetteAmount | 0 |
WhiteBalance | As Shot |