Felt | Verdi |
AlreadyApplied | True |
Aperture | 2.0 |
Aperture: 2
ApertureValue | 2.0 |
Artist | Tore Meek |
AuthorsPosition | Lucky 7 Tattoos |
BitsPerSample | 8 |
BlueHue | 0 |
BlueSaturation | 0 |
Brightness | +50 |
By-line | Tore Meek |
By-lineTitle | Lucky 7 Tattoos |
CameraProfile | ACR 4.4 |
Caption-Abstract | OSLO, 20080717
Category | NEW |
ChromaticAberrationB | 0 |
ChromaticAberrationR | 0 |
CircleOfConfusion | 0.030 mm |
Clarity | 0 |
ColorComponents | 3 |
ColorMode | RGB |
ColorNoiseReduction | 25 |
ColorSpace | sRGB |
ColorTemperature | 3000 |
Contrast | +25 |
ConvertToGrayscale | False |
CopyrightFlag | False |
Country | Norge |
Country-PrimaryLocationName | Norge |
CreateDate (1) | 2008:08:04 17:31:17+02:00 |
CreateDate | 2008:07:17 00:00:00 |
Creator | Tore Meek |
CreatorTool | Adobe Photoshop CS3 Macintosh |
Credit | SCANPIX |
CropAngle | 0 |
CropBottom | 0.947295 |
CropHeight | 2759 |
CropLeft | 0 |
CropRight | 0.947295 |
CropTop | 0 |
CropUnit | pixels |
CropWidth | 4138 |
CustomRendered | Normal |
Date and Time: 2008:07:17 00:00:00
DateCreated | 2008:07:17 |
DateTimeDigitized | 2008:07:17 16:33:56+02:00 |
DateTimeOriginal (1) | 2008:07:17 16:33:56+02:00 |
DateTimeOriginal | 2008:07:17 00:00:00 |
Defringe | 0 |
DerivedFrom | |
Description | OSLO, 20080717
ExifCameraInfo | Model: Canon EOS 5D
ExifImageHeight | 667 |
ExifImageWidth | 1000 |
Exposure Bias: 0.000
Exposure Program: Manual
Exposure Time: 1/125 Sec
Exposure | +1.14 |
ExposureCompensation | 0 |
ExposureMode | Manual |
ExposureProgram | Manual |
ExposureTime | 1/125 |
F Number: 2.0
FillLight | 0 |
Firmware | 1.1.0 |
Flash | Off, Did not fire |
Flash: No
FlashCompensation | 0 |
FlashFired | False |
FlashFunction | False |
FlashMode | Off |
FlashRedEyeMode | False |
FlashReturn | No return detection |
FNumber | 2.0 |
FocalLength | 24.0 mm |
FocalLength35efl | 24.0 mm (35 mm equivalent: 24.0 mm) |
Format | image/jpeg |
Foto: Tore Meek / Scanpix |
FOV | 73.6 deg |
GreenHue | 0 |
GreenSaturation | 0 |
HasCrop | True |
HasSettings | True |
Headline | Lucky 7 Tattoos |
HighlightRecovery | 71 |
HueAdjustmentAqua | 0 |
HueAdjustmentBlue | 0 |
HueAdjustmentGreen | 0 |
HueAdjustmentMagenta | 0 |
HueAdjustmentOrange | 0 |
HueAdjustmentPurple | 0 |
HueAdjustmentRed | 0 |
HueAdjustmentYellow | 0 |
Hunden Satan l¿per rundt i Lucky 7 Tattoos-lokaler i Oslo.
Hunden Satan løper rundt i Lucky 7 Tattoos-lokaler i Oslo.
HyperfocalDistance | 9.61 m |
ICCProfileName | sRGB IEC61966-2.1 |
ImageDescription | OSLO, 20080717
ImageHeight (1) | 2759 |
ImageHeight | 667 |
ImageNumber | 16 |
ImageSize | 1000x667 |
ImageWidth (1) | 4138 |
ImageWidth | 1000 |
ISO Speed: 800
ISO | 800 |
Keywords | NEW |
Lens | EF24mm f/1.4L USM |
LensInfo | 24mm f/? |
LightValue | 6.0 |
LuminanceAdjustmentAqua | 0 |
LuminanceAdjustmentBlue | 0 |
LuminanceAdjustmentGreen | 0 |
LuminanceAdjustmentMagenta | 0 |
LuminanceAdjustmentOrange | 0 |
LuminanceAdjustmentPurple | 0 |
LuminanceAdjustmentRed | 0 |
LuminanceAdjustmentYellow | 0 |
LuminanceSmoothing | 0 |
Make | Canon |
MaxApertureValue | 1.4 |
Megapixels | 0.667 |
Metering Mode: Pattern
MeteringMode | Multi-segment |
Model | Canon EOS 5D |
ModifyDate (1) | 2008:08:04 17:31:18+02:00 |
ModifyDate | 2008:08:04 17:31:18 |
Orientation | Horizontal (normal) |
ParametricDarks | 0 |
ParametricHighlights | 0 |
ParametricHighlightSplit | 75 |
ParametricLights | 0 |
ParametricMidtoneSplit | 50 |
ParametricShadows | 0 |
ParametricShadowSplit | 25 |
ProfileDescription | sRGB IEC61966-2.1 |
RedHue | 0 |
RedSaturation | 0 |
Resolution: 240.000
Saturation | 0 |
SaturationAdjustmentAqua | 0 |
SaturationAdjustmentBlue | 0 |
SaturationAdjustmentGreen | 0 |
SaturationAdjustmentMagenta | 0 |
SaturationAdjustmentOrange | 0 |
SaturationAdjustmentPurple | 0 |
SaturationAdjustmentRed | 0 |
SaturationAdjustmentYellow | 0 |
ScaleFactor35efl | 1.0 |
SceneCaptureType | Standard |
SerialNumber | 1931202265 |
Shadows | 7 |
ShadowTint | 0 |
SharpenDetail | 25 |
SharpenEdgeMasking | 0 |
SharpenRadius | +1.0 |
Sharpness | 25 |
Shutter Speed: 1/60 Sec
ShutterSpeed | 1/125 |
ShutterSpeedValue | 1/125 |
Software | Adobe Photoshop CS3 Macintosh |
Source | SCANPIX |
SplitToningBalance | 0 |
SplitToningHighlightHue | 0 |
SplitToningHighlightSaturation | 0 |
SplitToningShadowHue | 0 |
SplitToningShadowSaturation | 0 |
Subject | NEW |
Tint | +4 |
ToneCurve | 0, 0, 32, 22, 64, 56, 128, 128, 192, 196, 255, 255 |
ToneCurveName | Medium Contrast |
URL_List | |
Version | 4.4 |
Vibrance | 0 |
VignetteAmount | 0 |
WhiteBalance (2) | Custom |
WhiteBalance | Auto |
Zoom Length: 24 mm