Felt | Verdi |
AlreadyApplied | True |
BitsPerSample | 8 |
BlueHue | -60 |
BlueSaturation | +3 |
Brightness | +72 |
CameraProfile | ACR 2.4 |
Caption-Abstract | EPSON DSC Picture |
ChromaticAberrationB | 0 |
ChromaticAberrationR | 0 |
Clarity | 0 |
ColorComponents | 3 |
ColorNoiseReduction | 25 |
ColorTemperature | 3650 |
Contrast | +3 |
ConvertToGrayscale | False |
CreateDate | 2008:01:13 15:42:31 |
CreatorTool | Adobe Photoshop Lightroom |
CropAngle | -3.097583 |
CropBottom | 0.887991 |
CropHeight | 540 |
CropLeft | 0.14117 |
CropRight | 0.998739 |
CropTop | 0.115263 |
CropUnit | pixels |
CropWidth | 800 |
CustomRendered | Normal |
DateTimeDigitized | 2008:01:13 15:42:31+01:00 |
DateTimeOriginal (1) | 2008:01:13 15:42:31+01:00 |
DateTimeOriginal | 2008:01:13 15:42:31 |
Defringe | 0 |
Description | EPSON DSC Picture |
Exposure | +1.15 |
ExposureCompensation | 0 |
ExposureMode | Auto |
ExposureProgram | Aperture-priority AE |
ExposureTime | 1/270 |
FillLight | 16 |
Flash | No flash function |
FlashFired | False |
FlashFunction | True |
FlashMode | Unknown |
FlashRedEyeMode | False |
FlashReturn | No return detection |
GainControl | Low gain up |
GreenHue | +100 |
GreenSaturation | +100 |
HasCrop | True |
HasSettings | True |
HighlightRecovery | 0 |
HueAdjustmentAqua | 0 |
HueAdjustmentBlue | 0 |
HueAdjustmentGreen | 0 |
HueAdjustmentMagenta | 0 |
HueAdjustmentOrange | 0 |
HueAdjustmentPurple | 0 |
HueAdjustmentRed | 0 |
HueAdjustmentYellow | 0 |
ImageDescription | EPSON DSC Picture |
ImageHeight | 540 |
ImageSize | 800x540 |
ImageWidth | 800 |
ISO | 800 |
LightSource | Unknown |
LuminanceAdjustmentAqua | 0 |
LuminanceAdjustmentBlue | 0 |
LuminanceAdjustmentGreen | 0 |
LuminanceAdjustmentMagenta | 0 |
LuminanceAdjustmentOrange | 0 |
LuminanceAdjustmentPurple | 0 |
LuminanceAdjustmentRed | 0 |
LuminanceAdjustmentYellow | 0 |
LuminanceSmoothing | 0 |
Make | SEIKO EPSON CORP. |
Megapixels | 0.432 |
MeteringMode | Center-weighted average |
Model | R-D1 |
ModifyDate (1) | 2008:02:25 00:47:20+01:00 |
ModifyDate | 2008:02:25 00:47:20 |
ParametricDarks | -3 |
ParametricHighlights | 0 |
ParametricHighlightSplit | 75 |
ParametricLights | 0 |
ParametricMidtoneSplit | 50 |
ParametricShadows | -14 |
ParametricShadowSplit | 25 |
ProfileDescription | sRGB IEC61966-2.1 |
RedHue | +100 |
RedSaturation | -100 |
Saturation | -86 |
SaturationAdjustmentAqua | 0 |
SaturationAdjustmentBlue | +83 |
SaturationAdjustmentGreen | 0 |
SaturationAdjustmentMagenta | 0 |
SaturationAdjustmentOrange | 0 |
SaturationAdjustmentPurple | +42 |
SaturationAdjustmentRed | 0 |
SaturationAdjustmentYellow | 0 |
SceneCaptureType | Standard |
SceneType | Directly photographed |
Shadows | 13 |
ShadowTint | -4 |
SharpenDetail | 50 |
SharpenEdgeMasking | 0 |
SharpenRadius | +1.0 |
Sharpness | 25 |
ShutterSpeed | 1/270 |
ShutterSpeedValue | 1/270 |
Software | E04106-0200 |
SplitToningBalance | 0 |
SplitToningHighlightHue | 0 |
SplitToningHighlightSaturation | 0 |
SplitToningShadowHue | 0 |
SplitToningShadowSaturation | 0 |
Tint | -74 |
ToneCurve | 0, 0, 255, 255 |
ToneCurveName | Linear |
Version | 1.0 |
Vibrance | +38 |
VignetteAmount | 0 |
WhiteBalance (2) | Custom |
WhiteBalance | Auto |