Felt | Verdi |
AlreadyApplied | True |
Aperture | 5.6 |
ApertureValue | 5.6 |
BitsPerSample | 8 |
BlueHue | 0 |
BlueSaturation | 0 |
Brightness | 0 |
By-line | Eivind Sjursen |
CameraProfile | ACR 2.4 |
CFAPattern | [Blue,Green][Green,Red] |
ChromaticAberrationB | 0 |
ChromaticAberrationR | 0 |
CircleOfConfusion | 0.020 mm |
ColorComponents | 3 |
ColorNoiseReduction | 25 |
ColorTemperature | 6800 |
Contrast (2) | 0 |
Contrast | Normal |
ConvertToGrayscale | False |
Copyright | Eivind Sjursen |
CopyrightNotice | Eivind Sjursen |
CreateDate | 2007:06:10 16:01:01 |
Creator | Eivind Sjursen |
CreatorAddress | Tormodsveg 7 |
CreatorCity | Haugesund |
CreatorCountry | Norway |
CreatorPostalCode | 5518 |
CreatorRegion | Rogaland |
CreatorTool | Adobe Photoshop Lightroom |
CreatorWorkEmail | steelyj0@gmail.com |
CreatorWorkTelephone | 98477507 |
CreatorWorkURL | sjurfoto.googlepages.com |
CustomRendered | Normal |
DateTimeDigitized | 2007:06:10 16:01:01.10+02:00 |
DateTimeOriginal (1) | 2007:06:10 16:01:01.10+02:00 |
DateTimeOriginal | 2007:06:10 16:01:01 |
DigitalZoomRatio | 1 |
Exposure | +1.15 |
ExposureCompensation | 0 |
ExposureMode | Auto |
ExposureProgram | Not Defined |
ExposureTime | 1/500 |
FillLight | 0 |
Flash | Off, Did not fire |
FlashFired | False |
FlashFunction | False |
FlashMode | Off |
FlashRedEyeMode | False |
FlashReturn | No return detection |
FNumber | 5.6 |
FocalLength | 300.0 mm |
FocalLength35efl | 300.0 mm (35 mm equivalent: 450.0 mm) |
FocalLengthIn35mmFormat | 450 mm |
FOV | 4.6 deg |
GainControl | None |
GreenHue | 0 |
GreenSaturation | 0 |
HasCrop | False |
HasSettings | True |
HighlightRecovery | 25 |
HueAdjustmentAqua | 0 |
HueAdjustmentBlue | 0 |
HueAdjustmentGreen | 0 |
HueAdjustmentMagenta | 0 |
HueAdjustmentOrange | 0 |
HueAdjustmentPurple | 0 |
HueAdjustmentRed | 0 |
HueAdjustmentYellow | 0 |
HyperfocalDistance | 802.33 m |
ImageHeight | 768 |
ImageNumber | 12835 |
ImageSize | 1155x768 |
ImageWidth | 1155 |
ISO | 320 |
Keywords | Wildlife, d50, sommer |
Lens | 70.0-300.0 mm f/4.0-5.6 |
LensInfo | 70-300mm f/4-5.6 |
LightSource | Unknown |
LightValue | 12.3 |
LuminanceAdjustmentAqua | 0 |
LuminanceAdjustmentBlue | 0 |
LuminanceAdjustmentGreen | 0 |
LuminanceAdjustmentMagenta | 0 |
LuminanceAdjustmentOrange | 0 |
LuminanceAdjustmentPurple | 0 |
LuminanceAdjustmentRed | 0 |
LuminanceAdjustmentYellow | 0 |
LuminanceSmoothing | 0 |
Make | NIKON CORPORATION |
MaxApertureValue | 5.7 |
Megapixels | 0.887 |
MeteringMode | Multi-segment |
Model | NIKON D50 |
ModifyDate (1) | 2007:06:11 15:25:28+02:00 |
ModifyDate | 2007:06:11 15:25:28 |
ParametricDarks | -20 |
ParametricHighlights | +60 |
ParametricHighlightSplit | 75 |
ParametricLights | +10 |
ParametricMidtoneSplit | 50 |
ParametricShadows | -60 |
ParametricShadowSplit | 25 |
PrivateRTKInfo | cHJpdmF0ZVJUS0luZm8gPSB7Cgl7CgkJZmxhdCA9IHsKCQkJIldpbGRsaWZlIiwKCQl9LAoJCXBhdGggPSB7CgkJCSJXaWxkbGlmZSIsCgkJfSwKCQlwcmltYXJ5ID0gIldpbGRsaWZlIiwKCQl1dWlkID0gIjJDMTFFNEU2LTM4NkItNDIyQS04RUYwLUYyRDJBN0UzNUI2RCIsCgl9LAoJewoJCWZsYXQgPSB7CgkJCSJkNTAiLAoJCX0sCgkJcGF0aCA9IHsKCQkJImQ1MCIsCgkJfSwKCQlwcmltYXJ5ID0gImQ1MCIsCgkJdXVpZCA9ICIzOTQ4RTk1MS1BMzZBLTRBOTItQUY2OC00RUNEODg0QkY5RkYiLAoJfSwKCXsKCQlmbGF0ID0gewoJCQkic29tbWVyIiwKCQl9LAoJCXBhdGggPSB7CgkJCSJzb21tZXIiLAoJCX0sCgkJcHJpbWFyeSA9ICJzb21tZXIiLAoJCXV1aWQgPSAiQTJERTBCNzYtMTMwMC00MDhGLTkzMTctMDc5NTMzQ0E1NzIzIiwKCX0sCn0K |
ProfileDescription | Adobe RGB (1998) |
Rating | 5 |
RedHue | 0 |
RedSaturation | 0 |
Rights | Eivind Sjursen |
Saturation (2) | 0 |
Saturation | Normal |
SaturationAdjustmentAqua | +50 |
SaturationAdjustmentBlue | +58 |
SaturationAdjustmentGreen | +10 |
SaturationAdjustmentMagenta | 0 |
SaturationAdjustmentOrange | +13 |
SaturationAdjustmentPurple | +23 |
SaturationAdjustmentRed | 0 |
SaturationAdjustmentYellow | +23 |
ScaleFactor35efl | 1.5 |
SceneCaptureType | Landscape |
SceneType | Directly photographed |
SensingMethod | One-chip color area |
Shadows | 14 |
ShadowTint | 0 |
Sharpness (2) | 25 |
Sharpness | Hard |
ShutterSpeed | 1/500 |
ShutterSpeedValue | 1/500 |
Software | Ver.1.00 |
SplitToningBalance | 0 |
SplitToningHighlightHue | 0 |
SplitToningHighlightSaturation | 0 |
SplitToningShadowHue | 0 |
SplitToningShadowSaturation | 0 |
Subject | Wildlife, d50, sommer |
SubjectDistanceRange | Unknown |
Tint | -19 |
ToneCurve | 0, 0, 255, 255 |
ToneCurveName | Linear |
Version | 1.0 |
Vibrance | 0 |
VignetteAmount | 0 |
WebStatement | sjurfoto.googlepages.com |
WhiteBalance (2) | As Shot |
WhiteBalance | Auto |