Felt | Verdi |
AlreadyApplied | True |
Aperture | 4.5 |
ApertureValue | 4.5 |
AuthorsPosition | |
BitsPerSample | 8 |
BlueHue | 0 |
BlueSaturation | 0 |
Brightness | +57 |
By-line | Runar DamgŒrd |
CameraProfile | ACR 2.4 |
ChromaticAberrationB | 0 |
ChromaticAberrationR | 0 |
CircleOfConfusion | 0.019 mm |
ColorComponents | 3 |
ColorNoiseReduction | 25 |
ColorTemperature | 4340 |
Contrast | +39 |
ConvertToGrayscale | False |
CreateDate | 2005:09:13 08:17:23 |
Creator | Runar Damgård |
CreatorAddress | Alvestien 5 |
CreatorCity | Kristiansand |
CreatorCountry | Norway |
CreatorPostalCode | 4638 |
CreatorTool | Adobe Photoshop Lightroom |
CreatorWorkEmail | |
CreatorWorkTelephone | +47 971 56 533 |
CreatorWorkURL | |
CropAngle | -0.11147 |
CropBottom | 0.997323 |
CropHeight | 496 |
CropLeft | 0.022831 |
CropRight | 0.941486 |
CropTop | 0.082535 |
CropUnit | pixels |
CropWidth | 744 |
CustomRendered | Normal |
DateTimeDigitized | 2005:09:13 08:17:23+01:00 |
DateTimeOriginal (1) | 2005:09:13 08:17:23+01:00 |
DateTimeOriginal | 2005:09:13 08:17:23 |
Exposure | +0.34 |
ExposureCompensation | -2/3 |
ExposureMode | Auto |
ExposureProgram | Program AE |
ExposureTime | 1/100 |
FillLight | 0 |
Firmware | 1.1.0 |
Flash | Off, Did not fire |
FlashCompensation | 0 |
FlashFired | False |
FlashFunction | False |
FlashMode | Off |
FlashRedEyeMode | False |
FlashReturn | No return detection |
FNumber | 4.5 |
FocalLength | 39.0 mm |
FocalLength35efl | 39.0 mm (35 mm equivalent: 62.5 mm) |
FOV | 32.2 deg |
GreenHue | 0 |
GreenSaturation | 0 |
HasCrop | True |
HasSettings | True |
HighlightRecovery | 0 |
HueAdjustmentAqua | 0 |
HueAdjustmentBlue | 0 |
HueAdjustmentGreen | 0 |
HueAdjustmentMagenta | 0 |
HueAdjustmentOrange | 0 |
HueAdjustmentPurple | 0 |
HueAdjustmentRed | 0 |
HueAdjustmentYellow | 0 |
HyperfocalDistance | 18.02 m |
ImageHeight | 744 |
ImageNumber | 200 |
ImageSize | 496x744 |
ImageWidth | 496 |
ISO | 100 |
Keywords | Berkshire, England, Morgen, Motiv, Newbury, Omgivelse, Slettelandskap, Steder, Storbritania, Tidspunkt |
Label | Green |
Lens | 28.0-70.0 mm |
LensInfo | 28-70mm f/? |
LightValue | 11.0 |
LuminanceAdjustmentAqua | 0 |
LuminanceAdjustmentBlue | 0 |
LuminanceAdjustmentGreen | 0 |
LuminanceAdjustmentMagenta | 0 |
LuminanceAdjustmentOrange | 0 |
LuminanceAdjustmentPurple | 0 |
LuminanceAdjustmentRed | 0 |
LuminanceAdjustmentYellow | 0 |
LuminanceSmoothing | 0 |
Make | Canon |
MaxApertureValue | 2.8 |
Megapixels | 0.369 |
MeteringMode | Multi-segment |
Model | Canon EOS 20D |
ModifyDate (1) | 2007:05:12 18:20:33+02:00 |
ModifyDate | 2007:05:12 18:20:33 |
OwnerName | Runar DamgÂrd |
ParametricDarks | -13 |
ParametricHighlights | -5 |
ParametricHighlightSplit | 75 |
ParametricLights | +40 |
ParametricMidtoneSplit | 50 |
ParametricShadows | -19 |
ParametricShadowSplit | 25 |
ProfileDescription | Adobe RGB (1998) |
Rating | 4 |
RedHue | 0 |
RedSaturation | 0 |
Saturation | 0 |
SaturationAdjustmentAqua | 0 |
SaturationAdjustmentBlue | 0 |
SaturationAdjustmentGreen | 0 |
SaturationAdjustmentMagenta | 0 |
SaturationAdjustmentOrange | 0 |
SaturationAdjustmentPurple | 0 |
SaturationAdjustmentRed | 0 |
SaturationAdjustmentYellow | 0 |
ScaleFactor35efl | 1.6 |
SceneCaptureType | Standard |
SerialNumber | 330120642 |
Shadows | 7 |
ShadowTint | 0 |
Sharpness | 25 |
ShutterSpeed | 1/100 |
ShutterSpeedValue | 1/100 |
SplitToningBalance | 0 |
SplitToningHighlightHue | 0 |
SplitToningHighlightSaturation | 0 |
SplitToningShadowHue | 0 |
SplitToningShadowSaturation | 0 |
Subject | Berkshire, England, Morgen, Motiv, Newbury, Omgivelse, Slettelandskap, Steder, Storbritania, Tidspunkt |
Tint | -6 |
ToneCurve | 0, 0, 255, 255 |
ToneCurveName | Linear |
Version | 1.0 |
Vibrance | +30 |
VignetteAmount | 0 |
WhiteBalance (2) | Custom |
WhiteBalance | Auto |