Felt | Verdi |
AlreadyApplied | True |
Aperture | 22.0 |
ApertureValue | 22.0 |
BitsPerSample | 8 |
BlueHue | 0 |
BlueSaturation | 0 |
Brightness | 0 |
CameraProfile | Embedded |
ChromaticAberrationB | 0 |
ChromaticAberrationR | 0 |
CircleOfConfusion | 0.024 mm |
ColorComponents | 3 |
ColorMode | RGB |
ColorNoiseReduction | 0 |
ColorSpace | Unknown (-1) |
Contrast | 0 |
ConvertToGrayscale | False |
CreateDate (1) | 2006:06:11 23:10:51+02:00 |
CreateDate | 2006:06:10 22:37:24 |
Creator (1) | Tomas Levin |
Creator | |
CreatorTool | Adobe Photoshop Lightroom |
CropAngle | 0 |
CropBottom | 1 |
CropHeight | 768 |
CropLeft | 0 |
CropRight | 0.926686 |
CropTop | 0.096703 |
CropUnit | pixels |
CropWidth | 1182 |
CustomRendered | Normal |
DateTimeDigitized | 2006:06:10 22:37:24+02:00 |
DateTimeOriginal (1) | 2006:06:10 22:37:24+02:00 |
DateTimeOriginal | 2006:06:10 22:37:24 |
ExifImageHeight | 2336 |
ExifImageWidth | 3504 |
Exposure | 0.00 |
ExposureCompensation | +0.67 |
ExposureMode | Auto |
ExposureProgram | Aperture-priority AE |
ExposureTime | 1.3 |
FillLight | 0 |
Firmware | 1.0.4 |
Flash | Off, Did not fire |
FlashCompensation | 0 |
FlashFired | False |
FlashFunction | False |
FlashMode | Off |
FlashRedEyeMode | False |
FlashReturn | No return detection |
FNumber | 22.0 |
FocalLength | 20.0 mm |
FocalLength35efl | 20.0 mm (35 mm equivalent: 25.1 mm) |
Format | application/vnd.adobe.photoshop |
FOV | 71.4 deg |
GreenHue | 0 |
GreenSaturation | 0 |
HasCrop | True |
HasSettings | True |
HighlightRecovery | 0 |
HueAdjustmentAqua | 0 |
HueAdjustmentBlue | 0 |
HueAdjustmentGreen | 0 |
HueAdjustmentMagenta | 0 |
HueAdjustmentOrange | 0 |
HueAdjustmentPurple | 0 |
HueAdjustmentRed | +27 |
HueAdjustmentYellow | 0 |
HyperfocalDistance | 0.76 m |
ICCProfileName | Adobe RGB (1998) |
ImageHeight | 768 |
ImageNumber | 2024 |
ImageSize | 1182x768 |
ImageWidth | 1182 |
IncrementalTemperature | 0 |
IncrementalTint | 0 |
ISO | 50 |
Lens | EF20mm f/2.8 USM |
LensInfo | 20mm f/? |
LightValue | 9.5 |
LuminanceAdjustmentAqua | 0 |
LuminanceAdjustmentBlue | 0 |
LuminanceAdjustmentGreen | 0 |
LuminanceAdjustmentMagenta | 0 |
LuminanceAdjustmentOrange | 0 |
LuminanceAdjustmentPurple | 0 |
LuminanceAdjustmentRed | 0 |
LuminanceAdjustmentYellow | 0 |
LuminanceSmoothing | 0 |
Make | Canon |
MaxApertureValue | 2.8 |
Megapixels | 0.908 |
MeteringMode | Center-weighted average |
Model | Canon EOS-1D Mark II N |
ModifyDate (1) | 2007:05:02 20:19:47+02:00 |
ModifyDate | 2007:05:02 20:19:47 |
OwnerName | Tomas Levin |
ParametricDarks | +6 |
ParametricHighlights | 0 |
ParametricHighlightSplit | 75 |
ParametricLights | 0 |
ParametricMidtoneSplit | 50 |
ParametricShadows | -27 |
ParametricShadowSplit | 25 |
ProfileDescription | Adobe RGB (1998) |
RedHue | 0 |
RedSaturation | 0 |
Saturation | 0 |
SaturationAdjustmentAqua | 0 |
SaturationAdjustmentBlue | 0 |
SaturationAdjustmentGreen | 0 |
SaturationAdjustmentMagenta | 0 |
SaturationAdjustmentOrange | 0 |
SaturationAdjustmentPurple | 0 |
SaturationAdjustmentRed | 0 |
SaturationAdjustmentYellow | 0 |
ScaleFactor35efl | 1.3 |
SceneCaptureType | Standard |
SerialNumber | 407990 |
Shadows | 0 |
ShadowTint | 0 |
Sharpness | 0 |
ShutterSpeed | 1.3 |
ShutterSpeedValue | 1.3 |
Software | Adobe Photoshop CS2 Windows |
SplitToningBalance | 0 |
SplitToningHighlightHue | 0 |
SplitToningHighlightSaturation | 12 |
SplitToningShadowHue | 0 |
SplitToningShadowSaturation | 0 |
ToneCurve | 0, 0, 255, 255 |
ToneCurveName | Linear |
Version | 1.0 |
Vibrance | 0 |
VignetteAmount | 0 |
WhiteBalance (2) | As Shot |
WhiteBalance | Auto |