Felt | Verdi |
AlreadyApplied | True |
AutoLateralCA | 1 |
BitsPerSample | 8 |
Blacks2012 | -14 |
BlueHue | 0 |
BlueSaturation | 0 |
CameraProfile | Embedded |
Clarity2012 | +30 |
ColorComponents | 3 |
ColorGradeBlending | 50 |
ColorGradeGlobalHue | 0 |
ColorGradeGlobalLum | 0 |
ColorGradeGlobalSat | 0 |
ColorGradeHighlightLum | 0 |
ColorGradeMidtoneHue | 46 |
ColorGradeMidtoneLum | 0 |
ColorGradeMidtoneSat | 31 |
ColorGradeShadowLum | 0 |
ColorNoiseReduction | 74 |
ColorNoiseReductionDetail | 50 |
ColorNoiseReductionSmoothness | 50 |
ColorSpace | sRGB |
ColorTransform | YCbCr |
CompatibleVersion | 268435456 |
Contrast2012 | +67 |
ConvertToGrayscale | False |
CreatorTool | Adobe Lightroom 9.2.0 (iOS) |
CropAngle | 7.101425 |
CropBottom | 1 |
CropConstrainToWarp | 0 |
CropLeft | 0.111291 |
CropRight | 0.888709 |
CropTop | 0 |
DateCreated | 2024:03:12 20:42:02 |
DateTimeOriginal | 2024:03:12 20:42:02 |
DefringeGreenAmount | 0 |
DefringeGreenHueHi | 60 |
DefringeGreenHueLo | 40 |
DefringePurpleAmount | 0 |
DefringePurpleHueHi | 70 |
DefringePurpleHueLo | 30 |
Dehaze | +11 |
ExifImageHeight | 1549 |
ExifImageWidth | 2068 |
Exposure2012 | +0.46 |
Format | image/jpeg |
GrainAmount | 92 |
GrainFrequency | 50 |
GrainSize | 25 |
GreenHue | 0 |
GreenSaturation | 0 |
HasCrop | True |
HasSettings | True |
HDREditMode | 1 |
HDRMaxValue | +4.00 |
Highlights2012 | -81 |
HueAdjustmentAqua | 0 |
HueAdjustmentBlue | 0 |
HueAdjustmentGreen | 0 |
HueAdjustmentMagenta | 0 |
HueAdjustmentOrange | 0 |
HueAdjustmentPurple | 0 |
HueAdjustmentRed | 0 |
HueAdjustmentYellow | 0 |
ImageHeight | 1549 |
ImageSize | 2068x1549 |
ImageWidth | 2068 |
IncrementalTemperature | 0 |
IncrementalTint | +19 |
LateralChromaticAberrationCorrectionAlreadyApplied | True |
LensManualDistortionAmount | 0 |
LensProfileEnable | 1 |
LensProfileSetup | LensDefaults |
LuminanceAdjustmentAqua | 0 |
LuminanceAdjustmentBlue | 0 |
LuminanceAdjustmentGreen | 0 |
LuminanceAdjustmentMagenta | 0 |
LuminanceAdjustmentOrange | 0 |
LuminanceAdjustmentPurple | 0 |
LuminanceAdjustmentRed | +20 |
LuminanceAdjustmentYellow | 0 |
LuminanceSmoothing | 0 |
Megapixels | 3.2 |
ModifyDate (1) | 2024:03:12 20:49:56+01:00 |
ModifyDate | 2024:03:12 20:49:56 |
OverrideLookVignette | False |
ParametricDarks | 0 |
ParametricHighlights | 0 |
ParametricHighlightSplit | 75 |
ParametricLights | 0 |
ParametricMidtoneSplit | 50 |
ParametricShadows | 0 |
ParametricShadowSplit | 25 |
PerspectiveAspect | 0 |
PerspectiveHorizontal | 0 |
PerspectiveRotate | 0.0 |
PerspectiveScale | 100 |
PerspectiveUpright | 0 |
PerspectiveVertical | 0 |
PerspectiveX | 0.00 |
PerspectiveY | 0.00 |
PointColors | -1.000000, -1.000000, -1.000000, -1.000000, -1.000000, -1.000000, -1.000000, -1.000000, -1.000000, -1.000000, -1.000000, -1.000000, -1.000000, -1.000000, -1.000000, -1.000000, -1.000000, -1.000000, -1.000000 |
PostCropVignetteAmount | 0 |
ProcessVersion | 15.4 |
ProfileDescription | sRGB IEC61966-2.1 |
RedHue | 0 |
RedSaturation | 0 |
Saturation | +2 |
SaturationAdjustmentAqua | 0 |
SaturationAdjustmentBlue | 0 |
SaturationAdjustmentGreen | 0 |
SaturationAdjustmentMagenta | 0 |
SaturationAdjustmentOrange | 0 |
SaturationAdjustmentPurple | 0 |
SaturationAdjustmentRed | -15 |
SaturationAdjustmentYellow | 0 |
SceneCaptureType | Standard |
SDRBlend | 0 |
SDRBrightness | 0 |
SDRClarity | 0 |
SDRContrast | 0 |
SDRHighlights | 0 |
SDRShadows | 0 |
SDRWhites | 0 |
Shadows2012 | +39 |
ShadowTint | 0 |
SharpenDetail | 75 |
SharpenEdgeMasking | 0 |
SharpenRadius | +1.0 |
Sharpness | 71 |
Software | Adobe Lightroom 9.2.0 (iOS) |
SplitToningBalance | 0 |
SplitToningHighlightHue | 223 |
SplitToningHighlightSaturation | 68 |
SplitToningShadowHue | 283 |
SplitToningShadowSaturation | 9 |
Texture | +79 |
ToneCurveName2012 | Linear |
ToneCurvePV2012 | 0, 0, 255, 255 |
ToneCurvePV2012Blue | 0, 0, 255, 255 |
ToneCurvePV2012Green | 0, 0, 255, 255 |
ToneCurvePV2012Red | 0, 0, 255, 255 |
Version | 16.2 |
Vibrance | +20 |
VignetteAmount | 0 |
WhiteBalance | Custom |
Whites2012 | -68 |