Felt | Verdi |
AlreadyApplied | True |
Aperture | 2.8 |
ApertureValue | 2.8 |
AutoLateralCA | 0 |
BitsPerSample | 8 |
Blacks2012 | 0 |
BlueHue | 0 |
BlueSaturation | 0 |
BrightnessValue | 9.79367071 |
CameraProfile | Apple Embedded Color Profile |
CircleOfConfusion | 0.004 mm |
Clarity2012 | 0 |
ColorComponents | 3 |
ColorGradeBlending | 50 |
ColorGradeGlobalHue | 0 |
ColorGradeGlobalLum | 0 |
ColorGradeGlobalSat | 0 |
ColorGradeHighlightLum | 0 |
ColorGradeMidtoneHue | 0 |
ColorGradeMidtoneLum | 0 |
ColorGradeMidtoneSat | 0 |
ColorGradeShadowLum | 0 |
ColorNoiseReduction | 25 |
ColorNoiseReductionDetail | 50 |
ColorNoiseReductionSmoothness | 50 |
ColorSpace | sRGB |
ColorTemperature | 5200 |
ColorTransform | YCbCr |
CompatibleVersion | 251854848 |
Contrast2012 | 0 |
CreateDate (1) | 2023:11:18 11:16:54.790+01:00 |
CreateDate (2) | 2023:11:18 11:16:54+01:00 |
CreateDate | 2023:11:18 11:16:54 |
CreatorTool | 17.1 |
CropAngle | 0 |
CropBottom | 0.882615 |
CropConstrainToWarp | 0 |
CropLeft | 0.043377 |
CropRight | 0.964461 |
CropTop | 0 |
CurveRefineSaturation | 100 |
DateCreated (1) | 2023:11:18 11:16:54.790+01:00 |
DateCreated (2) | 2023:11:18 11:16:54+01:00 |
DateCreated | 2023:11:18 |
DateTimeOriginal | 2023:11:18 11:16:54 |
DefringeGreenAmount | 0 |
DefringeGreenHueHi | 60 |
DefringeGreenHueLo | 40 |
DefringePurpleAmount | 0 |
DefringePurpleHueHi | 70 |
DefringePurpleHueLo | 30 |
Dehaze | 0 |
ExifImageHeight | 3714 |
ExifImageWidth | 2669 |
Exposure2012 | +0.14 |
ExposureCompensation | +0.335 |
ExposureMode | Auto |
ExposureProgram | Program AE |
ExposureTime | 1/460 |
Flash | Off, Did not fire |
FNumber | 2.8 |
FocalLength | 9.0 mm |
FocalLength35efl | 9.0 mm (35 mm equivalent: 77.0 mm) |
FocalLengthIn35mmFormat | 77 mm |
Format | image/jpeg |
FOV | 26.3 deg |
GPSAltitude (1) | 928 m |
GPSAltitude | 928 m Above Sea Level |
GPSAltitudeRef | Above Sea Level |
GPSDateStamp | 2023:11:18 |
GPSDateTime | 2023:11:18 10:16:54Z |
GPSDestBearing | 166.7641903 |
GPSDestBearingRef | True North |
GPSHPositioningError | 4.758425862 m |
GPSImgDirection | 166.7641903 |
GPSImgDirectionRef | True North |
GPSLatitude (1) | 59 deg 49' 42.67" |
GPSLatitude | 59 deg 49' 42.67" N |
GPSLatitudeRef | North |
GPSLongitude (1) | 6 deg 44' 24.26" |
GPSLongitude | 6 deg 44' 24.26" E |
GPSLongitudeRef | East |
GPSPosition | 59 deg 49' 42.67" N, 6 deg 44' 24.26" E |
GPSSpeed | 0.009081423288 |
GPSSpeedRef | km/h |
GPSTimeStamp | 10:16:54 |
GrainAmount | 0 |
GreenHue | 0 |
GreenSaturation | 0 |
HasCrop | True |
HasSettings | True |
HDREditMode | 0 |
Highlights2012 | -17 |
HueAdjustmentAqua | 0 |
HueAdjustmentBlue | 0 |
HueAdjustmentGreen | 0 |
HueAdjustmentMagenta | 0 |
HueAdjustmentOrange | 0 |
HueAdjustmentPurple | 0 |
HueAdjustmentRed | 0 |
HueAdjustmentYellow | 0 |
HyperfocalDistance | 8.24 m |
ImageHeight | 3714 |
ImageSize | 2669x3714 |
ImageWidth | 2669 |
ISO | 25 |
Lens | iPhone 15 Pro back triple camera 9mm f/2.8 |
LensInfo (1) | 2.22000002861193-9mm f/1.77999997138807-2.8 |
LensInfo | 2.220000029-9mm f/1.779999971-2.8 |
LensMake | Apple |
LensManualDistortionAmount | 0 |
LensModel | iPhone 15 Pro back triple camera 9mm f/2.8 |
LensProfileEnable | 0 |
LightValue | 13.8 |
LookAmount | 1 |
LookCopyright | © 2021 Adobe Systems, Inc. |
LookGroup | Profiles |
LookName | Apple ProRaw |
LookParametersCameraProfile | Apple Embedded Color Profile |
LookParametersConvertToGrayscale | False |
LookParametersProcessVersion | 15.4 |
LookParametersProfileGainTableMap | 100 |
LookParametersVersion | 16.0 |
LookSupportsMonochrome | false |
LookSupportsOutputReferred | false |
LuminanceAdjustmentAqua | 0 |
LuminanceAdjustmentBlue | 0 |
LuminanceAdjustmentGreen | 0 |
LuminanceAdjustmentMagenta | 0 |
LuminanceAdjustmentOrange | 0 |
LuminanceAdjustmentPurple | 0 |
LuminanceAdjustmentRed | 0 |
LuminanceAdjustmentYellow | 0 |
LuminanceSmoothing | 0 |
Make | Apple |
Megapixels | 9.9 |
MeteringMode | Spot |
Model | iPhone 15 Pro |
ModifyDate (1) | 2023:12:20 06:07:19+01:00 |
ModifyDate | 2023:12:20 06:07:19 |
OverrideLookVignette | False |
ParametricDarks | 0 |
ParametricHighlights | 0 |
ParametricHighlightSplit | 75 |
ParametricLights | 0 |
ParametricMidtoneSplit | 50 |
ParametricShadows | 0 |
ParametricShadowSplit | 25 |
PerspectiveAspect | 0 |
PerspectiveHorizontal | 0 |
PerspectiveRotate | 0.0 |
PerspectiveScale | 100 |
PerspectiveUpright | 0 |
PerspectiveVertical | 0 |
PerspectiveX | 0.00 |
PerspectiveY | 0.00 |
PostCropVignetteAmount | 0 |
ProcessVersion | 15.4 |
ProfileDescription | sRGB IEC61966-2.1 |
RangeMaskMapInfoRangeMaskMapInfoLabMax | 0.988907 0.512963 0.514519 |
RangeMaskMapInfoRangeMaskMapInfoLabMin | 0.000549 0.494759 0.470100 |
RangeMaskMapInfoRangeMaskMapInfoRGBMax | 0.704417 0.695888 0.627802 |
RangeMaskMapInfoRangeMaskMapInfoRGBMin | 0.002457 0.002594 0.003662 |
RedHue | 0 |
RedSaturation | 0 |
Saturation | 0 |
SaturationAdjustmentAqua | 0 |
SaturationAdjustmentBlue | 0 |
SaturationAdjustmentGreen | 0 |
SaturationAdjustmentMagenta | 0 |
SaturationAdjustmentOrange | 0 |
SaturationAdjustmentPurple | 0 |
SaturationAdjustmentRed | 0 |
SaturationAdjustmentYellow | 0 |
ScaleFactor35efl | 8.6 |
SceneCaptureType | Standard |
SceneType | Directly photographed |
SensingMethod | One-chip color area |
Shadows2012 | -44 |
ShadowTint | 0 |
SharpenDetail | 25 |
SharpenEdgeMasking | 0 |
SharpenRadius | +1.0 |
Sharpness | 42 |
ShutterSpeed | 1/460 |
ShutterSpeedValue | 1/460 |
Software | 17.1 |
SplitToningBalance | 0 |
SplitToningHighlightHue | 0 |
SplitToningHighlightSaturation | 0 |
SplitToningShadowHue | 0 |
SplitToningShadowSaturation | 0 |
SubjectArea | 2676 1725 747 743 |
Texture | 0 |
Tint | +7 |
ToneCurveName2012 | Custom |
ToneCurvePV2012 | 0, 0, 32, 21, 228, 235, 255, 255 |
ToneCurvePV2012Blue | 0, 0, 255, 255 |
ToneCurvePV2012Green | 0, 0, 255, 255 |
ToneCurvePV2012Red | 0, 0, 255, 255 |
Version | 16.0 |
Vibrance | 0 |
VignetteAmount | 0 |
WhiteBalance (1) | As Shot |
WhiteBalance | Auto |
Whites2012 | +49 |