Felt | Verdi |
AlreadyApplied | True |
Aperture | 2.8 |
ApertureValue | 2.8 |
ApproximateFocusDistance | 2.66 |
AutoLateralCA | 1 |
BitsPerSample (1) | 8 8 8 |
BitsPerSample | 8 |
Blacks2012 | -19 |
BlueHue | 0 |
BlueSaturation | 0 |
CameraProfile | Adobe Standard |
CFAPattern | [Red,Green][Green,Blue] |
CircleOfConfusion | 0.030 mm |
Clarity2012 | +9 |
ColorComponents | 3 |
ColorMode | RGB |
ColorNoiseReduction | 25 |
ColorNoiseReductionDetail | 50 |
ColorNoiseReductionSmoothness | 50 |
ColorSpace | Uncalibrated |
ColorTemperature | 4200 |
ColorTransform | YCbCr |
Contrast | Normal |
Contrast2012 | +3 |
ConvertToGrayscale | False |
CreateDate | 2017:08:12 16:00:57 |
CreatorTool | Adobe Photoshop CC (Windows) |
CropAngle | 0 |
CropBottom | 0.658825 |
CropConstrainToWarp | 0 |
CropHeight | 1 |
CropLeft | 0.342172 |
CropRight | 0.653028 |
CropTop | 0.193046 |
CropUnit | Unknown (3) |
CropWidth | 1 |
CustomRendered | Normal |
DateCreated (1) | 2017:08:12 |
DateCreated | 2017:08:12 16:00:57.002 |
DateTimeOriginal | 2017:08:12 16:00:57 |
DefringeGreenAmount | 0 |
DefringeGreenHueHi | 60 |
DefringeGreenHueLo | 40 |
DefringePurpleAmount | 0 |
DefringePurpleHueHi | 70 |
DefringePurpleHueLo | 30 |
Dehaze | +10 |
DigitalZoomRatio | 1 |
DistortionCorrectionAlreadyApplied | True |
DOF | 0.28 m (2.53 - 2.80 m) |
ExifImageHeight | 2000 |
ExifImageWidth | 2000 |
Exposure2012 | +0.10 |
ExposureCompensation | 0 |
ExposureMode | Auto |
ExposureProgram | Aperture-priority AE |
ExposureTime | 1/400 |
Flash | Off, Did not fire |
FNumber | 2.8 |
FocalLength | 65.0 mm |
FocalLength35efl | 65.0 mm (35 mm equivalent: 65.0 mm) |
FocalLengthIn35mmFormat | 65 mm |
Format | image/jpeg |
FOV | 31.0 deg |
GainControl | None |
GrainAmount | 0 |
GreenHue | 0 |
GreenSaturation | 0 |
HasCrop | True |
HasExtendedXMP | D357175A59B8B1CCF53AD38D76D9B5D7 |
HasSettings | True |
Highlights2012 | -13 |
HueAdjustmentAqua | 0 |
HueAdjustmentBlue | 0 |
HueAdjustmentGreen | 0 |
HueAdjustmentMagenta | 0 |
HueAdjustmentOrange | 0 |
HueAdjustmentPurple | 0 |
HueAdjustmentRed | 0 |
HueAdjustmentYellow | 0 |
HyperfocalDistance | 50.22 m |
ICCProfileName | Adobe RGB (1998) |
ImageHeight | 2000 |
ImageNumber | 12377 |
ImageSize | 2000x2000 |
ImageWidth | 2000 |
ISO | 100 |
LateralChromaticAberrationCorrectionAlreadyApplied | True |
Lens | 24.0-70.0 mm f/2.8 |
LensID (1) | 170 |
LensID | AF-S Nikkor 24-70mm f/2.8E ED VR |
LensInfo | 24-70mm f/2.8 |
LensManualDistortionAmount | 0 |
LensModel | 24.0-70.0 mm f/2.8 |
LensProfileChromaticAberrationScale | 100 |
LensProfileDistortionScale | 100 |
LensProfileEnable | 1 |
LensProfileFilename | NIKON D3 (Nikon AF-S NIKKOR 24-70mm f2.8E ED VR) - RAW.lcp |
LensProfileName | Adobe (Nikon AF-S NIKKOR 24-70mm f/2.8E ED VR) |
LensProfileSetup | LensDefaults |
LensProfileVignettingScale | 100 |
LightSource | Unknown |
LightValue | 11.6 |
LuminanceAdjustmentAqua | 0 |
LuminanceAdjustmentBlue | 0 |
LuminanceAdjustmentGreen | 0 |
LuminanceAdjustmentMagenta | 0 |
LuminanceAdjustmentOrange | 0 |
LuminanceAdjustmentPurple | 0 |
LuminanceAdjustmentRed | 0 |
LuminanceAdjustmentYellow | 0 |
LuminanceSmoothing | 0 |
Make | NIKON CORPORATION |
MaxApertureValue | 2.8 |
Megapixels | 4.0 |
MeteringMode | Spot |
Model | NIKON D800 |
ModifyDate (1) | 2021:05:14 09:23:18+02:00 |
ModifyDate | 2021:05:14 09:23:18 |
Orientation | Horizontal (normal) |
PaintCorrectionActive | true |
PaintCorrectionAmount | 1.000000 |
PaintCorrectionBrightness | 0.000000 |
PaintCorrectionClarity | 0.000000 |
PaintCorrectionClarity2012 | 0.000000 |
PaintCorrectionContrast | 0.000000 |
PaintCorrectionContrast2012 | 0.000000 |
PaintCorrectionDefringe | 0.000000 |
PaintCorrectionExposure | 0.000000 |
PaintCorrectionExposure2012 (1) | -0.075000 |
PaintCorrectionExposure2012 (2) | 0.000000 |
PaintCorrectionExposure2012 (3) | -0.037500 |
PaintCorrectionExposure2012 | -0.287500 |
PaintCorrectionHighlights2012 | 0.000000 |
PaintCorrectionHue | 0.000000 |
PaintCorrectionLocalBlacks2012 | 0.000000 |
PaintCorrectionLocalDehaze (4) | -0.300000 |
PaintCorrectionLocalDehaze | 0.000000 |
PaintCorrectionLocalWhites2012 | 0.000000 |
PaintCorrectionLuminanceNoise | 0.000000 |
PaintCorrectionMaskCenterWeight | 0.000000 |
PaintCorrectionMaskFlow | 0.888889 |
PaintCorrectionMaskRadius (1) | 0.014253 |
PaintCorrectionMaskRadius (10) | 0.010581 |
PaintCorrectionMaskRadius (11) | 0.010563 |
PaintCorrectionMaskRadius (13) | 0.010549 |
PaintCorrectionMaskRadius (14) | 0.010548 |
PaintCorrectionMaskRadius (16) | 0.010552 |
PaintCorrectionMaskRadius (17) | 0.010561 |
PaintCorrectionMaskRadius (19) | 0.010551 |
PaintCorrectionMaskRadius (2) | 0.014250 |
PaintCorrectionMaskRadius (20) | 0.010555 |
PaintCorrectionMaskRadius (21) | 0.010557 |
PaintCorrectionMaskRadius (22) | 0.010574 |
PaintCorrectionMaskRadius (23) | 0.010543 |
PaintCorrectionMaskRadius (24) | 0.010539 |
PaintCorrectionMaskRadius (25) | 0.010533 |
PaintCorrectionMaskRadius (27) | 0.010537 |
PaintCorrectionMaskRadius (28) | 0.010534 |
PaintCorrectionMaskRadius (3) | 0.014239 |
PaintCorrectionMaskRadius (32) | 0.010536 |
PaintCorrectionMaskRadius (33) | 0.010535 |
PaintCorrectionMaskRadius (34) | 0.010550 |
PaintCorrectionMaskRadius (35) | 0.010556 |
PaintCorrectionMaskRadius (37) | 0.010568 |
PaintCorrectionMaskRadius (38) | 0.010571 |
PaintCorrectionMaskRadius (39) | 0.010554 |
PaintCorrectionMaskRadius (4) | 0.014243 |
PaintCorrectionMaskRadius (40) | 0.038919 |
PaintCorrectionMaskRadius (41) | 0.038910 |
PaintCorrectionMaskRadius (42) | 0.038930 |
PaintCorrectionMaskRadius (43) | 0.038908 |
PaintCorrectionMaskRadius (44) | 0.038903 |
PaintCorrectionMaskRadius (45) | 0.039059 |
PaintCorrectionMaskRadius (46) | 0.039065 |
PaintCorrectionMaskRadius (47) | 0.039019 |
PaintCorrectionMaskRadius (48) | 0.039480 |
PaintCorrectionMaskRadius (49) | 0.039363 |
PaintCorrectionMaskRadius (50) | 0.039365 |
PaintCorrectionMaskRadius (52) | 0.039367 |
PaintCorrectionMaskRadius (53) | 0.039329 |
PaintCorrectionMaskRadius (54) | 0.039417 |
PaintCorrectionMaskRadius (55) | 0.039492 |
PaintCorrectionMaskRadius (56) | 0.039448 |
PaintCorrectionMaskRadius (57) | 0.039413 |
PaintCorrectionMaskRadius (58) | 0.039395 |
PaintCorrectionMaskRadius (59) | 0.039589 |
PaintCorrectionMaskRadius (6) | 0.014228 |
PaintCorrectionMaskRadius (7) | 0.012616 |
PaintCorrectionMaskRadius (8) | 0.012619 |
PaintCorrectionMaskRadius (9) | 0.012621 |
PaintCorrectionMaskRadius | 0.039607 |
PaintCorrectionMaskValue | 1.000000 |
PaintCorrectionMaskWhat | Mask/Paint |
PaintCorrectionMoire | 0.000000 |
PaintCorrectionSaturation (3) | 0.110000 |
PaintCorrectionSaturation (9) | -1.000000 |
PaintCorrectionSaturation | 0.000000 |
PaintCorrectionShadows2012 (3) | -0.640000 |
PaintCorrectionShadows2012 | 0.000000 |
PaintCorrectionSharpness (1) | 0.000000 |
PaintCorrectionSharpness (2) | 0.150000 |
PaintCorrectionSharpness | -0.050000 |
PaintCorrectionTemperature | 0.000000 |
PaintCorrectionTint | 0.000000 |
PaintCorrectionWhat | Correction |
ParametricDarks | 0 |
ParametricHighlights | 0 |
ParametricHighlightSplit | 75 |
ParametricLights | 0 |
ParametricMidtoneSplit | 50 |
ParametricShadows | 0 |
ParametricShadowSplit | 25 |
PerspectiveAspect | 0 |
PerspectiveHorizontal | 0 |
PerspectiveRotate | 0.0 |
PerspectiveScale | 100 |
PerspectiveUpright | 0 |
PerspectiveVertical | 0 |
PerspectiveX | 0.00 |
PerspectiveY | 0.00 |
PhotometricInterpretation | RGB |
PlanarConfiguration | Chunky |
PostCropVignetteAmount | -48 |
PostCropVignetteFeather | 100 |
PostCropVignetteHighlightContrast | 50 |
PostCropVignetteMidpoint | 7 |
PostCropVignetteRoundness | -61 |
PostCropVignetteStyle | 1 |
ProcessVersion | 6.7 |
ProfileDescription | Adobe RGB (1998) |
Rating | 0 |
RawFileName | JAE_1314.NEF |
RedHue | 0 |
RedSaturation | 0 |
SamplesPerPixel | 3 |
Saturation (1) | 0 |
Saturation | Normal |
SaturationAdjustmentAqua | 0 |
SaturationAdjustmentBlue | 0 |
SaturationAdjustmentGreen | 0 |
SaturationAdjustmentMagenta | 0 |
SaturationAdjustmentOrange | 0 |
SaturationAdjustmentPurple | 0 |
SaturationAdjustmentRed | 0 |
SaturationAdjustmentYellow | 0 |
ScaleFactor35efl | 1.0 |
SceneCaptureType | Landscape |
SceneType | Directly photographed |
SensingMethod | One-chip color area |
SensitivityType | Recommended Exposure Index |
SerialNumber | 6119751 |
Shadows2012 | -10 |
ShadowTint | 0 |
SharpenDetail | 25 |
SharpenEdgeMasking | 0 |
SharpenRadius | +1.0 |
Sharpness (1) | 45 |
Sharpness | Normal |
ShutterSpeed | 1/400 |
ShutterSpeedValue | 1/400 |
Software | Adobe Photoshop 22.3 (Windows) |
SplitToningBalance | 0 |
SplitToningHighlightHue | 0 |
SplitToningHighlightSaturation | 0 |
SplitToningShadowHue | 0 |
SplitToningShadowSaturation | 0 |
SubjectDistanceRange | Unknown |
Tint | +6 |
ToneCurve | 0, 0, 32, 22, 64, 56, 128, 128, 192, 196, 255, 255 |
ToneCurveBlue | 0, 0, 255, 255 |
ToneCurveGreen | 0, 0, 255, 255 |
ToneCurveName | Medium Contrast |
ToneCurveName2012 | Linear |
ToneCurvePV2012 | 0, 0, 255, 255 |
ToneCurvePV2012Blue | 0, 0, 255, 255 |
ToneCurvePV2012Green | 0, 0, 255, 255 |
ToneCurvePV2012Red | 0, 0, 255, 255 |
ToneCurveRed | 0, 0, 255, 255 |
ToneMapStrength | 0 |
URL_List | |
Version | 9.12.1 |
Vibrance | 0 |
VignetteAmount | 0 |
VignetteCorrectionAlreadyApplied | True |
WhiteBalance (1) | Custom |
WhiteBalance | Auto |
Whites2012 | +8 |