Felt | Verdi |
AlreadyApplied | True |
Aperture | 10.0 |
ApertureValue | 10.0 |
Artist | Hans Jørgen Lindeløff |
AutoLateralCA | 0 |
BitsPerSample | 8 |
Blacks2012 | -46 |
BlueHue | 0 |
BlueSaturation | 0 |
Brightness | +50 |
By-line | Hans Jørgen Lindeløff |
CameraProfile | Embedded |
CircleOfConfusion | 0.031 mm |
Clarity2012 | +7 |
ColorComponents | 3 |
ColorGradeBlending | 50 |
ColorGradeGlobalHue | 0 |
ColorGradeGlobalLum | 0 |
ColorGradeGlobalSat | 0 |
ColorGradeHighlightLum | 0 |
ColorGradeMidtoneHue | 0 |
ColorGradeMidtoneLum | 0 |
ColorGradeMidtoneSat | 0 |
ColorGradeShadowLum | 0 |
ColorNoiseReduction | 24 |
ColorNoiseReductionDetail | 50 |
ColorNoiseReductionSmoothness | 50 |
ColorSpace | sRGB |
ColorTransform | YCbCr |
CompatibleVersion | 251658240 |
Contrast (1) | +25 |
Contrast | Normal |
Contrast2012 | +8 |
ConvertToGrayscale | False |
Copyright | © Hans Jørgen Lindeløff 2022 |
CopyrightFlag | True |
CopyrightNotice | © Hans Jørgen Lindeløff 2022 |
CreateDate (1) | 2023:01:01 00:04:04.96+02:00 |
CreateDate | 2023:01:01 00:04:04 |
Creator | Hans Jørgen Lindeløff |
CreatorAddress | Bjørnevågveien 8 |
CreatorCity | Kråkerøy |
CreatorCountry | Norway |
CreatorPostalCode | 1676 |
CreatorTool | Adobe Lightroom 8.1.0 (iOS) |
CreatorWorkEmail | lundeli@mac.com |
CreatorWorkTelephone | +47 92049534 |
CreatorWorkURL | lundeliphoto.no |
CropAngle | 0 |
CropBottom | 0.901462 |
CropConstrainToWarp | 1 |
CropLeft | 0 |
CropRight | 1 |
CropTop | 0.055954 |
CustomRendered | Custom |
DateCreated (1) | 2018:01:02 14:49:07.571 |
DateCreated | 2018:01:02 |
DateTimeOriginal | 2023:01:01 00:04:04 |
DefringeGreenAmount | 0 |
DefringeGreenHueHi | 60 |
DefringeGreenHueLo | 40 |
DefringePurpleAmount | 0 |
DefringePurpleHueHi | 70 |
DefringePurpleHueLo | 30 |
Dehaze | 0 |
DistortionCorrectionAlreadyApplied | True |
Exposure2012 | +1.25 |
ExposureCompensation | 0 |
ExposureMode | Manual |
ExposureProgram | Manual |
ExposureTime | 5 |
Flash | No Flash |
FNumber | 10.0 |
FocalLength | 24.5 mm |
FocalLength35efl | 24.5 mm (35 mm equivalent: 24.0 mm) |
FocalLengthIn35mmFormat | 24 mm |
Format | image/jpeg |
FOV | 73.7 deg |
GainControl | None |
GrainAmount | 0 |
GreenHue | 0 |
GreenSaturation | 0 |
HasCrop | True |
HasSettings | True |
HierarchicalSubject | oslo |
Highlights2012 | -32 |
HueAdjustmentAqua | 0 |
HueAdjustmentBlue | 0 |
HueAdjustmentGreen | 0 |
HueAdjustmentMagenta | 0 |
HueAdjustmentOrange | 0 |
HueAdjustmentPurple | 0 |
HueAdjustmentRed | 0 |
HueAdjustmentYellow | 0 |
HyperfocalDistance | 1.96 m |
ImageHeight | 1152 |
ImageNumber | 12300 |
ImageSize | 2048x1152 |
ImageWidth | 2048 |
IncrementalTemperature | 0 |
IncrementalTint | 0 |
ISO | 80 |
Keywords | oslo, oslo |
LateralChromaticAberrationCorrectionAlreadyApplied | True |
Lens | NIKKOR Z 24-70mm f/4 S |
LensInfo | 24-70mm f/4 |
LensMake | NIKON |
LensManualDistortionAmount | 0 |
LensModel | NIKKOR Z 24-70mm f/4 S |
LensProfileEnable | 0 |
LensSerialNumber | 20305630 |
LightSource | Unknown |
LightValue | 4.6 |
LuminanceAdjustmentAqua | 0 |
LuminanceAdjustmentBlue | 0 |
LuminanceAdjustmentGreen | 0 |
LuminanceAdjustmentMagenta | 0 |
LuminanceAdjustmentOrange | 0 |
LuminanceAdjustmentPurple | 0 |
LuminanceAdjustmentRed | 0 |
LuminanceAdjustmentYellow | 0 |
LuminanceNoiseReductionContrast | 0 |
LuminanceNoiseReductionDetail | 50 |
LuminanceSmoothing | 24 |
Make | NIKON CORPORATION |
Marked | True |
Megapixels | 2.4 |
MeteringMode | Multi-segment |
Model | NIKON Z 6_2 |
ModifyDate (1) | 2023:01:01 07:27:21+01:00 |
ModifyDate | 2023:01:01 07:27:21 |
ObjectName | 31. Des |
OverrideLookVignette | False |
ParametricDarks | 0 |
ParametricHighlights | 0 |
ParametricHighlightSplit | 75 |
ParametricLights | 0 |
ParametricMidtoneSplit | 50 |
ParametricShadows | 0 |
ParametricShadowSplit | 25 |
PerspectiveAspect | 0 |
PerspectiveHorizontal | 0 |
PerspectiveRotate | 0.0 |
PerspectiveScale | 100 |
PerspectiveUpright | 0 |
PerspectiveVertical | 0 |
PerspectiveX | 0.00 |
PerspectiveY | 0.00 |
PostCropVignetteAmount | 0 |
PreservedFileName | _Z622331.NEF |
ProcessVersion | 11.0 |
ProfileDescription | sRGB IEC61966-2.1 |
Rating | 5 |
RedHue | 0 |
RedSaturation | 0 |
Rights | © Hans Jørgen Lindeløff 2022 |
Rights-en-US | © Hans Jørgen Lindeløff 2022 |
Saturation (1) | +7 |
Saturation | Normal |
SaturationAdjustmentAqua | 0 |
SaturationAdjustmentBlue | 0 |
SaturationAdjustmentGreen | 0 |
SaturationAdjustmentMagenta | 0 |
SaturationAdjustmentOrange | 0 |
SaturationAdjustmentPurple | 0 |
SaturationAdjustmentRed | 0 |
SaturationAdjustmentYellow | 0 |
ScaleFactor35efl | 1.0 |
SceneCaptureType | Landscape |
SceneType | Directly photographed |
SensingMethod | One-chip color area |
SensitivityType | Recommended Exposure Index |
SerialNumber | 6044707 |
Shadows | 5 |
Shadows2012 | +53 |
ShadowTint | 0 |
SharpenDetail | 25 |
SharpenEdgeMasking | 54 |
SharpenRadius | +1.0 |
Sharpness (1) | 70 |
Sharpness | Normal |
ShutterSpeed | 5 |
ShutterSpeedValue | 5 |
Software | Adobe Lightroom 8.1.0 (iOS) |
SplitToningBalance | 0 |
SplitToningHighlightHue | 0 |
SplitToningHighlightSaturation | 0 |
SplitToningShadowHue | 0 |
SplitToningShadowSaturation | 0 |
Subject | oslo, oslo |
SubjectDistanceRange | Unknown |
Texture | 0 |
Title | 31. Des |
Title-en-US | 31. Des |
ToneCurveName2012 | Custom |
ToneCurvePV2012 | 0, 0, 38, 31, 104, 117, 255, 255 |
ToneCurvePV2012Blue | 0, 0, 255, 255 |
ToneCurvePV2012Green | 0, 0, 255, 255 |
ToneCurvePV2012Red | 0, 0, 255, 255 |
UsageTerms | All rights reserved |
UsageTerms-en-US | All rights reserved |
Version | 15.1 |
Vibrance | +21 |
VignetteAmount | 0 |
VignetteCorrectionAlreadyApplied | True |
WeightedFlatSubject | oslo |
WhiteBalance (1) | As Shot |
WhiteBalance | Auto |
Whites2012 | +5 |