Felt | Verdi |
AlreadyApplied | True |
Aperture | 2.8 |
ApertureValue | 2.8 |
Artist | Kjell_Martin_Nordby |
AutoLateralCA | 0 |
AutoWhiteVersion | 134348800 |
BitsPerSample | 8 |
Blacks2012 | +35 |
BlueHue | 0 |
BlueSaturation | 0 |
By-line | Kjell_Martin_Nordby |
CameraProfile (1) | Camera Muted |
CameraProfile | Adobe Standard |
CFAPattern | [Red,Green][Green,Blue] |
CircleOfConfusion | 0.015 mm |
Clarity2012 | +62 |
ColorComponents | 3 |
ColorNoiseReduction | 82 |
ColorNoiseReductionDetail | 33 |
ColorNoiseReductionSmoothness | 50 |
ColorTemperature | 5752 |
ColorTransform | YCbCr |
Contrast | Low |
Contrast2012 | +66 |
ConvertToGrayscale | False |
Copyright | Kjell_Martin_Nordby |
CopyrightNotice | Kjell_Martin_Nordby |
CreateDate (1) | 2022:01:14 23:23:36+01:00 |
CreateDate | 2022:01:14 23:23:36 |
Creator | Kjell_Martin_Nordby |
CreatorTool | Adobe Photoshop Lightroom 6.0 (Macintosh) |
CropAngle | -3.8207 |
CropBottom | 0.863723 |
CropConstrainToWarp | 0 |
CropLeft | 0.051177 |
CropRight | 1 |
CropTop | 0.127865 |
CustomRendered | Normal |
DateCreated (1) | 2022:01:14 23:23:36+01:00 |
DateCreated | 2022:01:14 |
DateTimeOriginal | 2022:01:14 23:23:36 |
DefringeGreenAmount | 0 |
DefringeGreenHueHi | 60 |
DefringeGreenHueLo | 40 |
DefringePurpleAmount | 0 |
DefringePurpleHueHi | 70 |
DefringePurpleHueLo | 30 |
DigitalZoomRatio | 1 |
Exposure2012 | +0.45 |
ExposureCompensation | -0.3 |
ExposureMode | Manual |
ExposureProgram | Aperture-priority AE |
ExposureTime | 1.3 |
Flash | On, Did not fire |
FlashCompensation | 0 |
FNumber | 2.8 |
FocalLength | 12.0 mm |
FocalLength35efl | 12.0 mm (35 mm equivalent: 24.0 mm) |
FocalLengthIn35mmFormat | 24 mm |
Format | image/jpeg |
FOV | 73.7 deg |
GainControl | High gain up |
GradientBasedCorrActive | true |
GradientBasedCorrAmount | 1.000000 |
GradientBasedCorrBrightness | 0.000000 |
GradientBasedCorrClarity2012 | -0.597445 |
GradientBasedCorrContrast2012 | 0.688924 |
GradientBasedCorrDefringe | 0.000000 |
GradientBasedCorrExposure2012 | -0.006735 |
GradientBasedCorrHighlights2012 | -0.609837 |
GradientBasedCorrHue | 240.000000 |
GradientBasedCorrLuminanceNoise | 0.000000 |
GradientBasedCorrMaskFullX | 0.119439 |
GradientBasedCorrMaskFullY | 0.561745 |
GradientBasedCorrMaskValue | 1.000000 |
GradientBasedCorrMaskWhat | Mask/Gradient |
GradientBasedCorrMaskZeroX | 0.196695 |
GradientBasedCorrMaskZeroY | 0.551391 |
GradientBasedCorrMoire | 0.000000 |
GradientBasedCorrSaturation | 0.000000 |
GradientBasedCorrShadows2012 | 1.000000 |
GradientBasedCorrSharpness | 0.000000 |
GradientBasedCorrTemperature | -0.472637 |
GradientBasedCorrTint | 0.000000 |
GradientBasedCorrWhat | Correction |
GrainAmount | 0 |
GreenHue | 0 |
GreenSaturation | 0 |
HasCrop | True |
HasSettings | True |
Highlights2012 | -9 |
HueAdjustmentAqua | 0 |
HueAdjustmentBlue | 0 |
HueAdjustmentGreen | 0 |
HueAdjustmentMagenta | 0 |
HueAdjustmentOrange | 0 |
HueAdjustmentPurple | 0 |
HueAdjustmentRed | 0 |
HueAdjustmentYellow | 0 |
HyperfocalDistance | 3.42 m |
ImageHeight | 1960 |
ImageSize | 1322x1960 |
ImageWidth | 1322 |
ISO | 1000 |
Lens | OLYMPUS M.12-40mm F2.8 |
LensInfo | 12-40mm f/2.8 |
LensManualDistortionAmount | 0 |
LensModel | OLYMPUS M.12-40mm F2.8 |
LensProfileEnable | 0 |
LensProfileSetup | LensDefaults |
LensSerialNumber | AC5298301 |
LightSource | Unknown |
LightValue | -0.7 |
LookName | |
LuminanceAdjustmentAqua | 0 |
LuminanceAdjustmentBlue | 0 |
LuminanceAdjustmentGreen | 0 |
LuminanceAdjustmentMagenta | 0 |
LuminanceAdjustmentOrange | 0 |
LuminanceAdjustmentPurple | 0 |
LuminanceAdjustmentRed | 0 |
LuminanceAdjustmentYellow | 0 |
LuminanceNoiseReductionContrast | 23 |
LuminanceNoiseReductionDetail | 0 |
LuminanceSmoothing | 43 |
Make | OLYMPUS CORPORATION |
MaxApertureValue | 2.8 |
Megapixels | 2.6 |
MeteringMode | Multi-segment |
Model | E-M1MarkIII |
ModifyDate (1) | 2022:01:17 14:33:51+01:00 |
ModifyDate | 2022:01:17 14:33:51 |
Orientation | Horizontal (normal) |
ParametricDarks | 0 |
ParametricHighlights | 0 |
ParametricHighlightSplit | 75 |
ParametricLights | 0 |
ParametricMidtoneSplit | 50 |
ParametricShadows | 0 |
ParametricShadowSplit | 25 |
PerspectiveAspect | 0 |
PerspectiveHorizontal | 0 |
PerspectiveRotate | 0.0 |
PerspectiveScale | 100 |
PerspectiveUpright | 0 |
PerspectiveVertical | 0 |
PostCropVignetteAmount | 0 |
ProcessVersion | 6.7 |
ProfileDescription | sRGB IEC61966-2.1 |
Rating | 3 |
RawFileName | 20220114-_KMN0758-3.jpg |
RedHue | 0 |
RedSaturation | 0 |
Rights | Kjell_Martin_Nordby |
Saturation (1) | +46 |
Saturation | Low |
SaturationAdjustmentAqua | 0 |
SaturationAdjustmentBlue | +6 |
SaturationAdjustmentGreen | +41 |
SaturationAdjustmentMagenta | -95 |
SaturationAdjustmentOrange | -3 |
SaturationAdjustmentPurple | -64 |
SaturationAdjustmentRed | +43 |
SaturationAdjustmentYellow | -2 |
ScaleFactor35efl | 2.0 |
SceneCaptureType | Standard |
SensitivityType | Standard Output Sensitivity |
SerialNumber | BJDA27860 |
Shadows2012 | -68 |
ShadowTint | 0 |
SharpenDetail | 25 |
SharpenEdgeMasking | 0 |
SharpenRadius | +1.0 |
Sharpness (1) | 130 |
Sharpness | Soft |
ShutterSpeed | 1.3 |
ShutterSpeedValue | 1.3 |
Software | Adobe Photoshop Lightroom 6.0 (Macintosh) |
SplitToningBalance | 0 |
SplitToningHighlightHue | 0 |
SplitToningHighlightSaturation | 0 |
SplitToningShadowHue | 0 |
SplitToningShadowSaturation | 0 |
Tint | +27 |
ToneCurve | 0, 0, 255, 255 |
ToneCurveBlue | 0, 0, 255, 255 |
ToneCurveGreen | 0, 0, 255, 255 |
ToneCurveName | Linear |
ToneCurveName2012 | Linear |
ToneCurvePV2012 | 0, 0, 255, 255 |
ToneCurvePV2012Blue | 0, 0, 255, 255 |
ToneCurvePV2012Green | 0, 0, 255, 255 |
ToneCurvePV2012Red | 0, 0, 255, 255 |
ToneCurveRed | 0, 0, 255, 255 |
Version | 9.0 |
Vibrance | +30 |
VignetteAmount | 0 |
WhiteBalance (1) | Custom |
WhiteBalance | Auto |
Whites2012 | 0 |