Felt | Verdi |
AlreadyApplied | True |
Aperture | 22.0 |
ApertureValue | 22.0 |
ApproximateFocusDistance | 4294967295 |
AutoLateralCA | 0 |
BitsPerSample | 8 |
Blacks2012 | 0 |
BlueHue | 0 |
BlueSaturation | 0 |
CameraProfile | Embedded |
CircGradBasedCorrActive | true |
CircGradBasedCorrAmount | 1.000000 |
CircGradBasedCorrBrightness | 0.000000 |
CircGradBasedCorrClarity2012 (1) | 0.287360 |
CircGradBasedCorrClarity2012 (5) | 0.086960 |
CircGradBasedCorrClarity2012 (6) | 0.131780 |
CircGradBasedCorrClarity2012 | 0.000000 |
CircGradBasedCorrContrast2012 (1) | -0.517240 |
CircGradBasedCorrContrast2012 (2) | 0.356320 |
CircGradBasedCorrContrast2012 (4) | 0.000000 |
CircGradBasedCorrContrast2012 (6) | 0.038760 |
CircGradBasedCorrContrast2012 (7) | -0.550390 |
CircGradBasedCorrContrast2012 | -0.488370 |
CircGradBasedCorrCorrectionRangeMaskColorAmount | 0.500000 |
CircGradBasedCorrCorrectionRangeMaskDepthFeather | 0.500000 |
CircGradBasedCorrCorrectionRangeMaskDepthMax | 1.000000 |
CircGradBasedCorrCorrectionRangeMaskDepthMin | 0.000000 |
CircGradBasedCorrCorrectionRangeMaskLumFeather | 0.500000 |
CircGradBasedCorrCorrectionRangeMaskLumMax | 1.000000 |
CircGradBasedCorrCorrectionRangeMaskLumMin | 0.000000 |
CircGradBasedCorrCorrectionRangeMaskType | 0 |
CircGradBasedCorrCorrectionRangeMaskVersion (6) | +2 |
CircGradBasedCorrCorrectionRangeMaskVersion | +1 |
CircGradBasedCorrDefringe | 0.000000 |
CircGradBasedCorrExposure2012 (1) | -0.195500 |
CircGradBasedCorrExposure2012 (6) | 0.007750 |
CircGradBasedCorrExposure2012 | 0.000000 |
CircGradBasedCorrHighlights2012 (1) | 0.586210 |
CircGradBasedCorrHighlights2012 (2) | 0.379310 |
CircGradBasedCorrHighlights2012 | 0.000000 |
CircGradBasedCorrHue (1) | 5.000000 |
CircGradBasedCorrHue | 0.000000 |
CircGradBasedCorrLocalBlacks2012 (1) | -0.166670 |
CircGradBasedCorrLocalBlacks2012 (2) | 0.086960 |
CircGradBasedCorrLocalBlacks2012 (4) | -0.021740 |
CircGradBasedCorrLocalBlacks2012 (6) | 0.000000 |
CircGradBasedCorrLocalBlacks2012 (7) | 0.224810 |
CircGradBasedCorrLocalBlacks2012 | 0.517240 |
CircGradBasedCorrLocalDehaze (3) | 0.038760 |
CircGradBasedCorrLocalDehaze (7) | 0.025970 |
CircGradBasedCorrLocalDehaze | 0.000000 |
CircGradBasedCorrLocalTexture | 0.000000 |
CircGradBasedCorrLocalWhites2012 (1) | -0.080460 |
CircGradBasedCorrLocalWhites2012 (2) | 0.550390 |
CircGradBasedCorrLocalWhites2012 (3) | 0.260870 |
CircGradBasedCorrLocalWhites2012 (5) | 0.000000 |
CircGradBasedCorrLocalWhites2012 | 0.172410 |
CircGradBasedCorrLuminanceNoise | 0.000000 |
CircGradBasedCorrMaskAngle (5) | 20.432100 |
CircGradBasedCorrMaskAngle | 0.000000 |
CircGradBasedCorrMaskBottom (1) | 1.077880 |
CircGradBasedCorrMaskBottom (2) | 0.868421 |
CircGradBasedCorrMaskBottom (3) | 0.643219 |
CircGradBasedCorrMaskBottom (4) | 0.394081 |
CircGradBasedCorrMaskBottom (5) | 0.578877 |
CircGradBasedCorrMaskBottom (6) | 0.706728 |
CircGradBasedCorrMaskBottom (7) | 0.800069 |
CircGradBasedCorrMaskBottom | 0.954522 |
CircGradBasedCorrMaskFeather | +50 |
CircGradBasedCorrMaskFlipped | true |
CircGradBasedCorrMaskLeft (1) | -0.070910 |
CircGradBasedCorrMaskLeft (2) | 0.072618 |
CircGradBasedCorrMaskLeft (3) | -0.366282 |
CircGradBasedCorrMaskLeft (4) | 0.411765 |
CircGradBasedCorrMaskLeft (5) | 0.148877 |
CircGradBasedCorrMaskLeft (6) | 0.891216 |
CircGradBasedCorrMaskLeft (7) | 0.302732 |
CircGradBasedCorrMaskLeft | -0.001223 |
CircGradBasedCorrMaskMidpoint | +50 |
CircGradBasedCorrMaskRight (1) | 0.227236 |
CircGradBasedCorrMaskRight (2) | 0.098337 |
CircGradBasedCorrMaskRight (3) | 0.908496 |
CircGradBasedCorrMaskRight (4) | 0.885576 |
CircGradBasedCorrMaskRight (5) | 0.313653 |
CircGradBasedCorrMaskRight (6) | 1.041890 |
CircGradBasedCorrMaskRight (7) | 0.328443 |
CircGradBasedCorrMaskRight | 0.172027 |
CircGradBasedCorrMaskRoundness | 0 |
CircGradBasedCorrMaskTop (1) | 0.563863 |
CircGradBasedCorrMaskTop (2) | 0.733918 |
CircGradBasedCorrMaskTop (3) | 0.418919 |
CircGradBasedCorrMaskTop (4) | 0.166667 |
CircGradBasedCorrMaskTop (5) | -0.011900 |
CircGradBasedCorrMaskTop (6) | 0.510777 |
CircGradBasedCorrMaskTop (7) | 0.661597 |
CircGradBasedCorrMaskTop | 0.613663 |
CircGradBasedCorrMaskValue | 1.000000 |
CircGradBasedCorrMaskVersion | +2 |
CircGradBasedCorrMaskWhat | Mask/CircularGradient |
CircGradBasedCorrMoire | 0.000000 |
CircGradBasedCorrSaturation (1) | 0.379310 |
CircGradBasedCorrSaturation (13) | 0.391300 |
CircGradBasedCorrSaturation (3) | 0.356320 |
CircGradBasedCorrSaturation (5) | -1.000000 |
CircGradBasedCorrSaturation (7) | -0.173910 |
CircGradBasedCorrSaturation (9) | 0.130430 |
CircGradBasedCorrSaturation | 0.000000 |
CircGradBasedCorrShadows2012 (1) | 1.000000 |
CircGradBasedCorrShadows2012 (2) | 0.586210 |
CircGradBasedCorrShadows2012 (3) | 0.767440 |
CircGradBasedCorrShadows2012 (4) | 0.457360 |
CircGradBasedCorrShadows2012 (5) | 0.000000 |
CircGradBasedCorrShadows2012 (6) | -0.131780 |
CircGradBasedCorrShadows2012 | 0.503880 |
CircGradBasedCorrSharpness | 0.000000 |
CircGradBasedCorrTemperature | 0.000000 |
CircGradBasedCorrTint | 0.000000 |
CircGradBasedCorrWhat | Correction |
CircleOfConfusion | 0.009 mm |
Clarity2012 | +12 |
ColorComponents | 3 |
ColorNoiseReduction | 0 |
ColorSpace | sRGB |
ColorTransform | YCbCr |
Contrast2012 | +4 |
ConvertToGrayscale | False |
CreateDate (1) | 2017:01:14 13:32:45.85 |
CreateDate | 2017:01:14 13:32:45 |
CreatorTool | Adobe Photoshop Lightroom Classic 9.4 (Windows) |
CropAngle | 0 |
CropBottom | 0.971091 |
CropConstrainToWarp | 0 |
CropLeft | 0 |
CropRight | 0.846363 |
CropTop | 0 |
DateCreated (1) | 2017:01:14 |
DateCreated | 2017:01:14 13:32:45.85 |
DateTimeOriginal | 2017:01:14 13:32:45 |
DefringeGreenAmount | 0 |
DefringeGreenHueHi | 60 |
DefringeGreenHueLo | 40 |
DefringePurpleAmount | 0 |
DefringePurpleHueHi | 70 |
DefringePurpleHueLo | 30 |
Dehaze | -26 |
DistortionCorrectionAlreadyApplied | True |
DOF | inf (8.96 m - inf) |
Exposure2012 | -0.30 |
ExposureCompensation | 0 |
ExposureMode | Manual |
ExposureProgram | Manual |
ExposureTime | 1/13 |
Firmware | 1.1.6 |
Flash | Off, Did not fire |
FlashCompensation | 0 |
FNumber | 22.0 |
FocalLength | 42.0 mm |
FocalLength35efl | 42.0 mm (35 mm equivalent: 141.0 mm) |
Format | image/jpeg |
FOV | 14.6 deg |
GradientBasedCorrActive | true |
GradientBasedCorrAmount | 1.000000 |
GradientBasedCorrBrightness | 0.000000 |
GradientBasedCorrClarity2012 | 0.287360 |
GradientBasedCorrContrast2012 | 0.356320 |
GradientBasedCorrCorrectionRangeMaskColorAmount | 0.500000 |
GradientBasedCorrCorrectionRangeMaskDepthFeather | 0.500000 |
GradientBasedCorrCorrectionRangeMaskDepthMax | 1.000000 |
GradientBasedCorrCorrectionRangeMaskDepthMin | 0.000000 |
GradientBasedCorrCorrectionRangeMaskLumFeather | 0.500000 |
GradientBasedCorrCorrectionRangeMaskLumMax | 1.000000 |
GradientBasedCorrCorrectionRangeMaskLumMin | 0.000000 |
GradientBasedCorrCorrectionRangeMaskType | 0 |
GradientBasedCorrCorrectionRangeMaskVersion | +1 |
GradientBasedCorrDefringe | 0.000000 |
GradientBasedCorrExposure2012 | -0.071500 |
GradientBasedCorrHighlights2012 | -0.333330 |
GradientBasedCorrHue | 5.000000 |
GradientBasedCorrLocalBlacks2012 | 0.517240 |
GradientBasedCorrLocalDehaze | 0.000000 |
GradientBasedCorrLocalWhites2012 | -0.494250 |
GradientBasedCorrLuminanceNoise | 0.000000 |
GradientBasedCorrMaskFullX | 0.205718 |
GradientBasedCorrMaskFullY | 1.044260 |
GradientBasedCorrMaskValue | 1.000000 |
GradientBasedCorrMaskWhat | Mask/Gradient |
GradientBasedCorrMaskZeroX | 0.218133 |
GradientBasedCorrMaskZeroY | 0.497800 |
GradientBasedCorrMoire | 0.000000 |
GradientBasedCorrSaturation (1) | -0.724140 |
GradientBasedCorrSaturation | 0.000000 |
GradientBasedCorrShadows2012 | -0.142860 |
GradientBasedCorrSharpness | 0.000000 |
GradientBasedCorrTemperature | 0.000000 |
GradientBasedCorrTint | 0.000000 |
GradientBasedCorrWhat | Correction |
GrainAmount | 0 |
GreenHue | 0 |
GreenSaturation | 0 |
HasCrop | True |
HasSettings | True |
HierarchicalSubject | Umbukta |
Highlights2012 | 0 |
HueAdjustmentAqua | 0 |
HueAdjustmentBlue | 0 |
HueAdjustmentGreen | 0 |
HueAdjustmentMagenta | 0 |
HueAdjustmentOrange | 0 |
HueAdjustmentPurple | 0 |
HueAdjustmentRed | 0 |
HueAdjustmentYellow | 0 |
HyperfocalDistance | 8.96 m |
ImageHeight | 1000 |
ImageNumber | 0 |
ImageSize | 1685x1000 |
ImageWidth | 1685 |
IncrementalTemperature | 0 |
IncrementalTint | 0 |
ISO | 100 |
Keywords | Umbukta |
LateralChromaticAberrationCorrectionAlreadyApplied | True |
Lens | 24-70mm |
LensID (1) | 137 |
LensID | Sigma 24-70mm f/2.8 IF EX DG HSM or Tamron SP 24-70mm f/2.8 Di VC USD |
LensInfo | 24-70mm f/? |
LensManualDistortionAmount | 0 |
LensModel | 24-70mm |
LensProfileEnable | 0 |
LensProfileSetup | LensDefaults |
LensSerialNumber | 0000000000 |
LightValue | 12.6 |
LookName | |
LuminanceAdjustmentAqua | 0 |
LuminanceAdjustmentBlue | 0 |
LuminanceAdjustmentGreen | 0 |
LuminanceAdjustmentMagenta | 0 |
LuminanceAdjustmentOrange | 0 |
LuminanceAdjustmentPurple | 0 |
LuminanceAdjustmentRed | 0 |
LuminanceAdjustmentYellow | 0 |
LuminanceNoiseReductionContrast | 0 |
LuminanceNoiseReductionDetail | 43 |
LuminanceSmoothing | 40 |
Make | Canon |
MaxApertureValue | 2.8 |
Megapixels | 1.7 |
MeteringMode | Multi-segment |
Model | Canon EOS 6D |
ModifyDate (1) | 2020:10:23 10:42:39+02:00 |
ModifyDate | 2020:10:23 10:42:39 |
OverrideLookVignette | False |
ParametricDarks | 0 |
ParametricHighlights | 0 |
ParametricHighlightSplit | 75 |
ParametricLights | 0 |
ParametricMidtoneSplit | 50 |
ParametricShadows | 0 |
ParametricShadowSplit | 25 |
PerspectiveAspect | 0 |
PerspectiveHorizontal | 0 |
PerspectiveRotate | 0.0 |
PerspectiveScale | 100 |
PerspectiveUpright | 0 |
PerspectiveVertical | 0 |
PerspectiveX | 0.00 |
PerspectiveY | 0.00 |
PhotographicSensitivity | 100 |
PostCropVignetteAmount | 0 |
ProcessVersion | 11.0 |
ProfileDescription | sRGB IEC61966-2.1 |
Rating | 5 |
RawFileName | |
RedHue | 0 |
RedSaturation | 0 |
Saturation | 0 |
SaturationAdjustmentAqua | -100 |
SaturationAdjustmentBlue | -49 |
SaturationAdjustmentGreen | -100 |
SaturationAdjustmentMagenta | -100 |
SaturationAdjustmentOrange | -11 |
SaturationAdjustmentPurple | -100 |
SaturationAdjustmentRed | 0 |
SaturationAdjustmentYellow | -53 |
ScaleFactor35efl | 3.4 |
SceneCaptureType | Standard |
SerialNumber | 313051002815 |
Shadows2012 | 0 |
ShadowTint | 0 |
SharpenDetail | 25 |
SharpenEdgeMasking | 0 |
SharpenRadius | +1.0 |
Sharpness | 0 |
ShutterSpeed | 1/13 |
ShutterSpeedValue | 1/13 |
Software | Adobe Photoshop Lightroom Classic 9.4 (Windows) |
SplitToningBalance | 0 |
SplitToningHighlightHue | 0 |
SplitToningHighlightSaturation | 0 |
SplitToningShadowHue | 0 |
SplitToningShadowSaturation | 0 |
Subject | Umbukta |
Texture | 0 |
ToneCurve | 0, 0, 255, 255 |
ToneCurveBlue | 0, 0, 255, 255 |
ToneCurveGreen | 0, 0, 255, 255 |
ToneCurveName | Linear |
ToneCurveName2012 | Linear |
ToneCurvePV2012 | 0, 0, 255, 255 |
ToneCurvePV2012Blue | 0, 0, 255, 255 |
ToneCurvePV2012Green | 0, 0, 255, 255 |
ToneCurvePV2012Red | 0, 0, 255, 255 |
ToneCurveRed | 0, 0, 255, 255 |
ToneMapStrength | 0 |
Version | 12.4 |
Vibrance | 0 |
VignetteAmount | 0 |
VignetteCorrectionAlreadyApplied | True |
WhiteBalance (1) | As Shot |
WhiteBalance | Auto |
Whites2012 | +7 |