Felt | Verdi |
AlreadyApplied | True |
Aperture | 11.0 |
ApertureValue | 11.0 |
ApproximateFocusDistance | 1.33 |
AutoLateralCA | 1 |
BitsPerSample | 8 |
Blacks2012 | 0 |
BlueHue | 0 |
BlueSaturation | 0 |
CameraProfile | Adobe Standard |
CFAPattern | [Red,Green][Green,Blue] |
CircleOfConfusion | 0.030 mm |
Clarity2012 | +18 |
ColorComponents | 3 |
ColorNoiseReduction | 50 |
ColorNoiseReductionDetail | 50 |
ColorNoiseReductionSmoothness | 50 |
ColorSpace | sRGB |
ColorTemperature | 4807 |
Contrast | Normal |
Contrast2012 | +4 |
ConvertToGrayscale | False |
CreateDate (1) | 2020:09:26 12:36:29.39+02:00 |
CreateDate | 2020:09:26 12:36:29 |
CreatorTool | Adobe Photoshop Lightroom Classic 9.4 (Windows) |
CropAngle | 0 |
CropBottom | 0.917375 |
CropConstrainToWarp | 0 |
CropLeft | 0 |
CropRight | 1 |
CropTop | 0.021871 |
CustomRendered | Normal |
DateCreated (1) | 2020:09:26 |
DateCreated | 2020:09:26 12:36:29.39+02:00 |
DateTimeOriginal | 2020:09:26 12:36:29 |
DefringeGreenAmount | 0 |
DefringeGreenHueHi | 60 |
DefringeGreenHueLo | 40 |
DefringePurpleAmount | 0 |
DefringePurpleHueHi | 70 |
DefringePurpleHueLo | 30 |
Dehaze | 0 |
DistortionCorrectionAlreadyApplied | True |
DOF | inf (0.60 m - inf) |
Exposure2012 | +0.70 |
ExposureCompensation | 0 |
ExposureMode | Manual |
ExposureProgram | Manual |
ExposureTime | 5 |
Flash | No Flash |
FNumber | 11.0 |
FocalLength | 19.0 mm |
FocalLength35efl | 19.0 mm (35 mm equivalent: 19.0 mm) |
FocalLengthIn35mmFormat | 19 mm |
Format | image/jpeg |
FOV | 86.9 deg |
GainControl | None |
GrainAmount | 0 |
GreenHue | 0 |
GreenSaturation | 0 |
HasCrop | True |
HasExtendedXMP | 959A50CB9EA2264CA8F40DC1406A6FE8 |
HasSettings | True |
Highlights2012 | -56 |
HueAdjustmentAqua | 0 |
HueAdjustmentBlue | 0 |
HueAdjustmentGreen | 0 |
HueAdjustmentMagenta | 0 |
HueAdjustmentOrange | 0 |
HueAdjustmentPurple | 0 |
HueAdjustmentRed | 0 |
HueAdjustmentYellow | 0 |
HyperfocalDistance | 1.09 m |
ImageHeight | 1528 |
ImageNumber | 60413 |
ImageSize | 2560x1528 |
ImageWidth | 2560 |
ISO | 50 |
LateralChromaticAberrationCorrectionAlreadyApplied | True |
Lens | 16.0-35.0 mm f/4.0 |
LensID (1) | 163 |
LensID | AF-S Nikkor 16-35mm f/4G ED VR |
LensInfo | 16-35mm f/4 |
LensManualDistortionAmount | 0 |
LensModel | 16.0-35.0 mm f/4.0 |
LensProfileChromaticAberrationScale | 100 |
LensProfileDistortionScale | 100 |
LensProfileEnable | 1 |
LensProfileFilename | NIKON D3X (Nikon AF-S NIKKOR 16-35mm f4G ED VR) - RAW.lcp |
LensProfileIsEmbedded | False |
LensProfileName | Adobe (Nikon AF-S NIKKOR 16-35mm f/4G ED VR) |
LensProfileSetup | LensDefaults |
LensProfileVignettingScale | 100 |
LightSource | Unknown |
LightValue | 5.6 |
LookAmount | 1.000000 |
LookGroup | Profiles |
LookName | Adobe Color |
LookParametersCameraProfile | Adobe Standard |
LookParametersConvertToGrayscale | False |
LookParametersLookTable | E1095149FDB39D7A057BAB208837E2E1 |
LookParametersProcessVersion | 11.0 |
LookParametersToneCurvePV2012 | 0, 0, 22, 16, 40, 35, 127, 127, 224, 230, 240, 246, 255, 255 |
LookParametersToneCurvePV2012Blue | 0, 0, 255, 255 |
LookParametersToneCurvePV2012Green | 0, 0, 255, 255 |
LookParametersToneCurvePV2012Red | 0, 0, 255, 255 |
LookParametersVersion | 12.4 |
LookSupportsAmount | false |
LookSupportsMonochrome | false |
LookSupportsOutputReferred | false |
LuminanceAdjustmentAqua | 0 |
LuminanceAdjustmentBlue | 0 |
LuminanceAdjustmentGreen | 0 |
LuminanceAdjustmentMagenta | 0 |
LuminanceAdjustmentOrange | 0 |
LuminanceAdjustmentPurple | 0 |
LuminanceAdjustmentRed | 0 |
LuminanceAdjustmentYellow | 0 |
LuminanceSmoothing | 0 |
Make | NIKON CORPORATION |
MaxApertureValue | 4.0 |
Megapixels | 3.9 |
MeteringMode | Multi-segment |
Model | NIKON D5 |
ModifyDate (1) | 2020:09:27 13:23:53+02:00 |
ModifyDate | 2020:09:27 13:23:53 |
Orientation | Horizontal (normal) |
OverrideLookVignette | False |
PaintCorrectionActive | true |
PaintCorrectionAmount | 1.000000 |
PaintCorrectionBrightness | 0.000000 |
PaintCorrectionClarity2012 | 0.000000 |
PaintCorrectionContrast2012 (2) | 0.042740 |
PaintCorrectionContrast2012 | 0.000000 |
PaintCorrectionCorrectionRangeMaskColorAmount | 0.500000 |
PaintCorrectionCorrectionRangeMaskDepthFeather | 0.500000 |
PaintCorrectionCorrectionRangeMaskDepthMax | 1.000000 |
PaintCorrectionCorrectionRangeMaskDepthMin | 0.000000 |
PaintCorrectionCorrectionRangeMaskLumFeather | 0.500000 |
PaintCorrectionCorrectionRangeMaskLumMax | 1.000000 |
PaintCorrectionCorrectionRangeMaskLumMin | 0.000000 |
PaintCorrectionCorrectionRangeMaskType | 0 |
PaintCorrectionCorrectionRangeMaskVersion | +2 |
PaintCorrectionDefringe | 0.000000 |
PaintCorrectionExposure2012 (1) | 0.162500 |
PaintCorrectionExposure2012 (2) | 0.000000 |
PaintCorrectionExposure2012 | -0.059750 |
PaintCorrectionHighlights2012 (1) | 0.111110 |
PaintCorrectionHighlights2012 (2) | 0.230770 |
PaintCorrectionHighlights2012 | 0.000000 |
PaintCorrectionHue | 0.000000 |
PaintCorrectionLocalBlacks2012 | 0.000000 |
PaintCorrectionLocalDehaze (1) | 0.076920 |
PaintCorrectionLocalDehaze | 0.000000 |
PaintCorrectionLocalHue | 0.000000 |
PaintCorrectionLocalTexture | 0.000000 |
PaintCorrectionLocalWhites2012 (1) | -0.042740 |
PaintCorrectionLocalWhites2012 | 0.000000 |
PaintCorrectionLuminanceNoise | 0.000000 |
PaintCorrectionMaskCenterWeight (47) | 0.380427 |
PaintCorrectionMaskCenterWeight | 0.124420 |
PaintCorrectionMaskFlow (47) | 0.812000 |
PaintCorrectionMaskFlow | 0.850000 |
PaintCorrectionMaskRadius (1) | 0.008326 |
PaintCorrectionMaskRadius (10) | 0.012385 |
PaintCorrectionMaskRadius (11) | 0.010384 |
PaintCorrectionMaskRadius (12) | 0.010412 |
PaintCorrectionMaskRadius (13) | 0.008382 |
PaintCorrectionMaskRadius (15) | 0.008394 |
PaintCorrectionMaskRadius (16) | 0.008395 |
PaintCorrectionMaskRadius (17) | 0.008387 |
PaintCorrectionMaskRadius (18) | 0.008388 |
PaintCorrectionMaskRadius (19) | 0.008378 |
PaintCorrectionMaskRadius (2) | 0.008335 |
PaintCorrectionMaskRadius (20) | 0.006289 |
PaintCorrectionMaskRadius (21) | 0.006278 |
PaintCorrectionMaskRadius (22) | 0.006240 |
PaintCorrectionMaskRadius (23) | 0.006370 |
PaintCorrectionMaskRadius (24) | 0.006372 |
PaintCorrectionMaskRadius (25) | 0.006369 |
PaintCorrectionMaskRadius (26) | 0.006375 |
PaintCorrectionMaskRadius (27) | 0.006364 |
PaintCorrectionMaskRadius (28) | 0.006352 |
PaintCorrectionMaskRadius (29) | 0.006379 |
PaintCorrectionMaskRadius (3) | 0.008353 |
PaintCorrectionMaskRadius (30) | 0.006383 |
PaintCorrectionMaskRadius (31) | 0.006377 |
PaintCorrectionMaskRadius (32) | 0.006407 |
PaintCorrectionMaskRadius (33) | 0.009988 |
PaintCorrectionMaskRadius (34) | 0.010048 |
PaintCorrectionMaskRadius (35) | 0.010039 |
PaintCorrectionMaskRadius (36) | 0.008390 |
PaintCorrectionMaskRadius (37) | 0.009909 |
PaintCorrectionMaskRadius (38) | 0.009791 |
PaintCorrectionMaskRadius (39) | 0.008328 |
PaintCorrectionMaskRadius (4) | 0.008334 |
PaintCorrectionMaskRadius (40) | 0.008280 |
PaintCorrectionMaskRadius (41) | 0.010368 |
PaintCorrectionMaskRadius (42) | 0.010360 |
PaintCorrectionMaskRadius (43) | 0.010342 |
PaintCorrectionMaskRadius (44) | 0.010336 |
PaintCorrectionMaskRadius (45) | 0.040570 |
PaintCorrectionMaskRadius (46) | 0.067942 |
PaintCorrectionMaskRadius (47) | 0.051626 |
PaintCorrectionMaskRadius (48) | 0.023235 |
PaintCorrectionMaskRadius (5) | 0.008321 |
PaintCorrectionMaskRadius (6) | 0.008372 |
PaintCorrectionMaskRadius (8) | 0.008374 |
PaintCorrectionMaskRadius (9) | 0.008373 |
PaintCorrectionMaskRadius | 0.034836 |
PaintCorrectionMaskValue (47) | 0.000000 |
PaintCorrectionMaskValue | 1.000000 |
PaintCorrectionMaskWhat | Mask/Paint |
PaintCorrectionMoire | 0.000000 |
PaintCorrectionSaturation (3) | 0.042740 |
PaintCorrectionSaturation | 0.000000 |
PaintCorrectionShadows2012 | 0.000000 |
PaintCorrectionSharpness | 0.000000 |
PaintCorrectionTemperature | 0.000000 |
PaintCorrectionTint | 0.000000 |
PaintCorrectionWhat | Correction |
ParametricDarks | 0 |
ParametricHighlights | -48 |
ParametricHighlightSplit | 75 |
ParametricLights | +9 |
ParametricMidtoneSplit | 50 |
ParametricShadows | 0 |
ParametricShadowSplit | 25 |
PerspectiveAspect | 0 |
PerspectiveHorizontal | 0 |
PerspectiveRotate | 0.0 |
PerspectiveScale | 100 |
PerspectiveUpright | 0 |
PerspectiveVertical | 0 |
PerspectiveX | 0.00 |
PerspectiveY | 0.00 |
PostCropVignetteAmount | 0 |
PreservedFileName | _SAN1708.NEF |
ProcessVersion | 11.0 |
ProfileDescription | sRGB IEC61966-2.1 |
RawFileName | _SAN1708.NEF |
RedHue | 0 |
RedSaturation | 0 |
Saturation (1) | +7 |
Saturation | Normal |
SaturationAdjustmentAqua | 0 |
SaturationAdjustmentBlue | +85 |
SaturationAdjustmentGreen | +7 |
SaturationAdjustmentMagenta | 0 |
SaturationAdjustmentOrange | +20 |
SaturationAdjustmentPurple | 0 |
SaturationAdjustmentRed | 0 |
SaturationAdjustmentYellow | +30 |
ScaleFactor35efl | 1.0 |
SceneCaptureType | Standard |
SceneType | Directly photographed |
SensingMethod | One-chip color area |
SensitivityType | Recommended Exposure Index |
SerialNumber | 6007761 |
Shadows2012 | +88 |
ShadowTint | 0 |
SharpenDetail | 25 |
SharpenEdgeMasking | 0 |
SharpenRadius | +1.0 |
Sharpness (1) | 40 |
Sharpness | Normal |
ShutterSpeed | 5 |
ShutterSpeedValue | 5 |
Software | Adobe Photoshop Lightroom Classic 9.4 (Windows) |
SplitToningBalance | 0 |
SplitToningHighlightHue | 0 |
SplitToningHighlightSaturation | 0 |
SplitToningShadowHue | 0 |
SplitToningShadowSaturation | 0 |
SubjectDistanceRange | Unknown |
Texture | 0 |
Tint | +2 |
ToneCurve | 0, 0, 255, 255 |
ToneCurveBlue | 0, 0, 255, 255 |
ToneCurveGreen | 0, 0, 255, 255 |
ToneCurveName | Linear |
ToneCurveName2012 | Linear |
ToneCurvePV2012 | 0, 0, 255, 255 |
ToneCurvePV2012Blue | 0, 0, 255, 255 |
ToneCurvePV2012Green | 0, 0, 255, 255 |
ToneCurvePV2012Red | 0, 0, 255, 255 |
ToneCurveRed | 0, 0, 255, 255 |
ToneMapStrength | 0 |
Version | 12.4 |
Vibrance | 0 |
VignetteAmount | 0 |
VignetteCorrectionAlreadyApplied | True |
WhiteBalance (1) | Custom |
WhiteBalance | Manual |
Whites2012 | 0 |