Felt | Verdi |
AbsoluteAltitude | +1.20 |
AlreadyApplied | True |
Aperture | 2.8 |
ApertureValue | 2.8 |
AutoLateralCA | 0 |
BitsPerSample | 8 |
Blacks2012 | 0 |
BlueHue | -7 |
BlueSaturation | +1 |
CameraProfile | Embedded |
CamReverse | 0 |
Caption-Abstract | created by dji camera |
CircleOfConfusion | 0.006 mm |
Clarity2012 | +10 |
ColorComponents | 3 |
ColorNoiseReduction | 0 |
ColorSpace | sRGB |
ColorTransform | YCbCr |
Contrast | Low |
Contrast2012 | +6 |
ConvertToGrayscale | False |
CreateDate | 2020:09:12 16:34:06 |
CreatorTool | Adobe Lightroom 5.4.2 (iOS) |
CustomRendered | Normal |
DateCreated (1) | 2020:09:12 |
DateCreated | 2020:09:12 16:34:06 |
DateTimeOriginal | 2020:09:12 16:34:06 |
DefringeGreenAmount | 0 |
DefringeGreenHueHi | 60 |
DefringeGreenHueLo | 40 |
DefringePurpleAmount | 0 |
DefringePurpleHueHi | 70 |
DefringePurpleHueLo | 30 |
Dehaze | +8 |
DerivedFrom | |
Description | created by dji camera |
Exposure2012 | -0.23 |
ExposureCompensation | +0.7 |
ExposureIndex | 0.25 |
ExposureMode | Manual |
ExposureProgram | Manual |
ExposureTime | 1/800 |
Flash | No flash function |
FlightPitchDegree | +8.60 |
FlightRollDegree | +5.70 |
FlightYawDegree | +110.50 |
FNumber | 2.8 |
FocalLength | 4.5 mm |
FocalLength35efl | 4.5 mm (35 mm equivalent: 24.0 mm) |
FocalLengthIn35mmFormat | 24 mm |
Format | image/jpeg |
FOV | 73.7 deg |
GainControl | None |
GimbalPitchDegree | -38.40 |
GimbalReverse | 0 |
GimbalRollDegree | +0.00 |
GimbalYawDegree | +110.80 |
GrainAmount | 0 |
GreenHue | +13 |
GreenSaturation | -16 |
HasCrop | False |
HasSettings | True |
Highlights2012 | -100 |
HueAdjustmentAqua | -11 |
HueAdjustmentBlue | -11 |
HueAdjustmentGreen | +21 |
HueAdjustmentMagenta | 0 |
HueAdjustmentOrange | 0 |
HueAdjustmentPurple | -10 |
HueAdjustmentRed | +20 |
HueAdjustmentYellow | -40 |
HyperfocalDistance | 1.28 m |
ImageDescription | created by dji camera |
ImageHeight | 2140 |
ImageSize | 6144x2140 |
ImageWidth | 6144 |
IncrementalTemperature | +2 |
IncrementalTint | 0 |
ISO | 100 |
Latitude | 60 deg 51' 21.57" N |
LensManualDistortionAmount | 0 |
LensProfileEnable | 0 |
LensProfileSetup | LensDefaults |
LightSource | Unknown |
LightValue | 12.6 |
Longitude | 8 deg 40' 25.29" E |
LookName | |
LuminanceAdjustmentAqua | 0 |
LuminanceAdjustmentBlue | -30 |
LuminanceAdjustmentGreen | -10 |
LuminanceAdjustmentMagenta | +12 |
LuminanceAdjustmentOrange | -22 |
LuminanceAdjustmentPurple | 0 |
LuminanceAdjustmentRed | -17 |
LuminanceAdjustmentYellow | +58 |
LuminanceSmoothing | 0 |
Make | DJI |
MaxApertureValue | 2.8 |
Megapixels | 13.1 |
MeteringMode | Average |
Model | FC2103 |
ModifyDate (1) | 2020:09:12 16:53:01+02:00 |
ModifyDate | 2020:09:12 16:53:01 |
OverrideLookVignette | False |
ParametricDarks | 0 |
ParametricHighlights | 0 |
ParametricHighlightSplit | 75 |
ParametricLights | 0 |
ParametricMidtoneSplit | 60 |
ParametricShadows | 0 |
ParametricShadowSplit | 14 |
PerspectiveAspect | 0 |
PerspectiveHorizontal | 0 |
PerspectiveRotate | 0.0 |
PerspectiveScale | 100 |
PerspectiveUpright | 0 |
PerspectiveVertical | 0 |
PerspectiveX | 0.00 |
PerspectiveY | 0.00 |
PostCropVignetteAmount | 0 |
ProcessVersion | 11.0 |
ProfileDescription | sRGB IEC61966-2.1 |
RawFileName | |
RedHue | +18 |
RedSaturation | +15 |
RelativeAltitude | +63.90 |
Saturation (1) | -14 |
Saturation | Normal |
SaturationAdjustmentAqua | -19 |
SaturationAdjustmentBlue | -19 |
SaturationAdjustmentGreen | +32 |
SaturationAdjustmentMagenta | 0 |
SaturationAdjustmentOrange | -26 |
SaturationAdjustmentPurple | 0 |
SaturationAdjustmentRed | -15 |
SaturationAdjustmentYellow | -10 |
ScaleFactor35efl | 5.3 |
SceneCaptureType | Standard |
SceneType | Directly photographed |
SelfData | DJI Self data |
Shadows2012 | +100 |
ShadowTint | 0 |
SharpenDetail | 9 |
SharpenEdgeMasking | 0 |
SharpenRadius | +1.0 |
Sharpness (1) | 22 |
Sharpness | Soft |
ShutterSpeed | 1/800 |
ShutterSpeedValue | 1/800 |
Software | Adobe Lightroom 5.4.2 (iOS) |
SplitToningBalance | 0 |
SplitToningHighlightHue | 0 |
SplitToningHighlightSaturation | 0 |
SplitToningShadowHue | 0 |
SplitToningShadowSaturation | 0 |
SubjectDistanceRange | Unknown |
Texture | 0 |
ToneCurve | 0, 0, 255, 255 |
ToneCurveBlue | 0, 0, 255, 255 |
ToneCurveGreen | 0, 0, 255, 255 |
ToneCurveName | Linear |
ToneCurveName2012 | Custom |
ToneCurvePV2012 | 0, 8, 25, 35, 82, 97, 255, 247 |
ToneCurvePV2012Blue | 0, 0, 44, 29, 178, 203, 255, 255 |
ToneCurvePV2012Green | 0, 0, 48, 31, 100, 102, 167, 191, 255, 255 |
ToneCurvePV2012Red | 0, 0, 43, 27, 108, 114, 146, 164, 255, 255 |
ToneCurveRed | 0, 0, 255, 255 |
ToneMapStrength | 0 |
Version | 12.4 |
Vibrance | 0 |
VignetteAmount | 0 |
WhiteBalance (1) | Custom |
WhiteBalance | Auto |
Whites2012 | +8 |