Felt | Verdi |
AlreadyApplied | True |
Aperture | 18.0 |
ApertureValue | 18.0 |
ApproximateFocusDistance | 4294967295 |
Artist | Erik Lerbaek |
AutoLateralCA | 0 |
BitsPerSample | 8 |
Blacks2012 | +15 |
BlueHue | 0 |
BlueSaturation | 0 |
By-line | Erik Lerbaek |
CameraProfile | Embedded |
CFAPattern | [Red,Green][Green,Blue] |
CircleOfConfusion | 0.030 mm |
Clarity2012 | +5 |
ColorComponents | 3 |
ColorNoiseReduction | 0 |
ColorSpace | sRGB |
ColorTransform | YCbCr |
Contrast | Normal |
Contrast2012 | +5 |
ConvertToGrayscale | True |
Copyright | Erik Lerbaek |
CopyrightNotice | Erik Lerbaek |
CreateDate | 2020:02:11 17:58:12 |
Creator | Erik Lerbaek |
CreatorTool | Adobe Photoshop Lightroom Classic 9.1 (Windows) |
CropAngle | 0 |
CropBottom | 1 |
CropConstrainToWarp | 0 |
CropLeft | 0 |
CropRight | 1 |
CropTop | 0.241486 |
CustomRendered | Normal |
DateCreated (1) | 2020:02:11 |
DateCreated | 2020:02:11 17:58:12.025 |
DateTimeOriginal | 2020:02:11 17:58:12 |
Dehaze | -13 |
DigitalZoomRatio | 1 |
DOF | inf (1.78 m - inf) |
Exposure2012 | +0.44 |
ExposureCompensation | -4/3 |
ExposureMode | Manual |
ExposureProgram | Manual |
ExposureTime | 68 |
Flash | Off, Did not fire |
FNumber | 18.0 |
FocalLength | 31.0 mm |
FocalLength35efl | 31.0 mm (35 mm equivalent: 31.0 mm) |
FocalLengthIn35mmFormat | 31 mm |
Format | image/jpeg |
FOV | 60.3 deg |
GainControl | None |
GrainAmount | 0 |
GrayMixerAqua | 0 |
GrayMixerBlue | 0 |
GrayMixerGreen | 0 |
GrayMixerMagenta | 0 |
GrayMixerOrange | 0 |
GrayMixerPurple | 0 |
GrayMixerRed | 0 |
GrayMixerYellow | 0 |
GreenHue | 0 |
GreenSaturation | 0 |
HasCrop | True |
HasSettings | True |
Highlights2012 | 0 |
HyperfocalDistance | 1.78 m |
ImageHeight | 804 |
ImageNumber | 38307 |
ImageSize | 2048x804 |
ImageWidth | 2048 |
IncrementalTemperature | 0 |
IncrementalTint | 0 |
ISO | 64 |
Lens | 24.0-70.0 mm f/2.8 |
LensID (1) | 147 |
LensID | AF-S Zoom-Nikkor 24-70mm f/2.8G ED |
LensInfo | 24-70mm f/2.8 |
LensManualDistortionAmount | 0 |
LensModel | 24.0-70.0 mm f/2.8 |
LensProfileEnable | 0 |
LensProfileSetup | LensDefaults |
LightSource | Unknown |
LightValue | 2.9 |
LookName | |
LuminanceNoiseReductionContrast | 0 |
LuminanceNoiseReductionDetail | 50 |
LuminanceSmoothing | 10 |
Make | NIKON CORPORATION |
MaxApertureValue | 2.8 |
Megapixels | 1.6 |
MeteringMode | Multi-segment |
Model | NIKON D810 |
ModifyDate (1) | 2020:02:11 20:04:31+01:00 |
ModifyDate | 2020:02:11 20:04:31 |
OverrideLookVignette | False |
ParametricDarks | 0 |
ParametricHighlights | 0 |
ParametricHighlightSplit | 75 |
ParametricLights | 0 |
ParametricMidtoneSplit | 50 |
ParametricShadows | 0 |
ParametricShadowSplit | 25 |
PerspectiveAspect | 0 |
PerspectiveHorizontal | 0 |
PerspectiveRotate | 0.0 |
PerspectiveScale | 100 |
PerspectiveUpright | 0 |
PerspectiveVertical | 0 |
PerspectiveX | 0.00 |
PerspectiveY | 0.00 |
PostCropVignetteAmount | 0 |
PreservedFileName | _ELE6711.NEF |
ProcessVersion | 11.0 |
ProfileDescription | sRGB IEC61966-2.1 |
RawFileName | |
RedHue | 0 |
RedSaturation | 0 |
Rights | Erik Lerbaek |
Saturation | Normal |
ScaleFactor35efl | 1.0 |
SceneCaptureType | Standard |
SceneType | Directly photographed |
SensingMethod | One-chip color area |
SensitivityType | Recommended Exposure Index |
SerialNumber | 6010757 |
Shadows2012 | +3 |
ShadowTint | 0 |
SharpenDetail | 25 |
SharpenEdgeMasking | 100 |
SharpenRadius | +1.0 |
Sharpness (1) | 33 |
Sharpness | Normal |
ShutterSpeed | 68 |
ShutterSpeedValue | 68 |
Software | Adobe Photoshop Lightroom Classic 9.1 (Windows) |
SplitToningBalance | 0 |
SplitToningHighlightHue | 0 |
SplitToningHighlightSaturation | 0 |
SplitToningShadowHue | 0 |
SplitToningShadowSaturation | 0 |
SubjectDistanceRange | Unknown |
Texture | +73 |
ToneCurve | 0, 0, 255, 255 |
ToneCurveBlue | 0, 0, 255, 255 |
ToneCurveGreen | 0, 0, 255, 255 |
ToneCurveName | Linear |
ToneCurveName2012 | Linear |
ToneCurvePV2012 | 0, 0, 255, 255 |
ToneCurvePV2012Blue | 0, 0, 255, 255 |
ToneCurvePV2012Green | 0, 0, 255, 255 |
ToneCurvePV2012Red | 0, 0, 255, 255 |
ToneCurveRed | 0, 0, 255, 255 |
ToneMapStrength | 0 |
Version | 12.1 |
VignetteAmount | 0 |
WhiteBalance (1) | As Shot |
WhiteBalance | Auto |
Whites2012 | 0 |