Felt | Verdi |
AlreadyApplied | True |
Aperture | 16.0 |
ApertureValue | 16.0 |
ApproximateFocusDistance | 4294967295 |
AutoLateralCA | 1 |
AutoWhiteVersion | 134348800 |
BitsPerSample | 8 |
Blacks2012 | +24 |
BlueHue | 0 |
BlueSaturation | 0 |
CameraProfile | Camera Standard |
CFAPattern | [Red,Green][Green,Blue] |
CircGradBasedCorrActive | true |
CircGradBasedCorrAmount | 1.000000 |
CircGradBasedCorrBrightness | 0.000000 |
CircGradBasedCorrClarity2012 | 1.000000 |
CircGradBasedCorrContrast2012 | 0.000000 |
CircGradBasedCorrDefringe | 0.000000 |
CircGradBasedCorrExposure2012 (10) | -0.186750 |
CircGradBasedCorrExposure2012 (12) | -0.230750 |
CircGradBasedCorrExposure2012 (13) | -0.121000 |
CircGradBasedCorrExposure2012 | 0.000000 |
CircGradBasedCorrHighlights2012 | 0.000000 |
CircGradBasedCorrHue | 0.000000 |
CircGradBasedCorrLuminanceNoise | 0.000000 |
CircGradBasedCorrMaskAngle (11) | -6.615520 |
CircGradBasedCorrMaskAngle (16) | -5.680320 |
CircGradBasedCorrMaskAngle (17) | -11.281500 |
CircGradBasedCorrMaskAngle | 0.000000 |
CircGradBasedCorrMaskBottom (1) | 0.757017 |
CircGradBasedCorrMaskBottom (10) | 0.621151 |
CircGradBasedCorrMaskBottom (11) | 0.862785 |
CircGradBasedCorrMaskBottom (12) | 0.991484 |
CircGradBasedCorrMaskBottom (13) | 0.945153 |
CircGradBasedCorrMaskBottom (14) | 0.735296 |
CircGradBasedCorrMaskBottom (15) | 0.497122 |
CircGradBasedCorrMaskBottom (16) | 0.766209 |
CircGradBasedCorrMaskBottom (17) | 0.588349 |
CircGradBasedCorrMaskBottom (2) | 0.613601 |
CircGradBasedCorrMaskBottom (3) | 0.737160 |
CircGradBasedCorrMaskBottom (4) | 0.617696 |
CircGradBasedCorrMaskBottom (5) | 0.603566 |
CircGradBasedCorrMaskBottom (6) | 0.624735 |
CircGradBasedCorrMaskBottom (7) | 0.665654 |
CircGradBasedCorrMaskBottom (8) | 0.701481 |
CircGradBasedCorrMaskBottom (9) | 0.627002 |
CircGradBasedCorrMaskBottom | 0.675170 |
CircGradBasedCorrMaskFeather | +100 |
CircGradBasedCorrMaskFlipped | true |
CircGradBasedCorrMaskLeft (1) | 0.531888 |
CircGradBasedCorrMaskLeft (10) | 0.689293 |
CircGradBasedCorrMaskLeft (11) | 0.540448 |
CircGradBasedCorrMaskLeft (12) | -0.002688 |
CircGradBasedCorrMaskLeft (13) | 0.761609 |
CircGradBasedCorrMaskLeft (14) | 0.735154 |
CircGradBasedCorrMaskLeft (15) | 0.446232 |
CircGradBasedCorrMaskLeft (16) | 0.746250 |
CircGradBasedCorrMaskLeft (17) | 0.257697 |
CircGradBasedCorrMaskLeft (2) | 0.305570 |
CircGradBasedCorrMaskLeft (3) | 0.182951 |
CircGradBasedCorrMaskLeft (4) | 0.759647 |
CircGradBasedCorrMaskLeft (5) | 0.613584 |
CircGradBasedCorrMaskLeft (6) | 0.398726 |
CircGradBasedCorrMaskLeft (7) | 0.920809 |
CircGradBasedCorrMaskLeft (8) | 0.045874 |
CircGradBasedCorrMaskLeft (9) | 0.248498 |
CircGradBasedCorrMaskLeft | 0.612720 |
CircGradBasedCorrMaskMidpoint | +50 |
CircGradBasedCorrMaskRight (1) | 0.617478 |
CircGradBasedCorrMaskRight (10) | 0.931044 |
CircGradBasedCorrMaskRight (11) | 0.745594 |
CircGradBasedCorrMaskRight (12) | 0.349617 |
CircGradBasedCorrMaskRight (13) | 1.007900 |
CircGradBasedCorrMaskRight (14) | 0.740851 |
CircGradBasedCorrMaskRight (15) | 0.501426 |
CircGradBasedCorrMaskRight (16) | 0.950201 |
CircGradBasedCorrMaskRight (17) | 0.330709 |
CircGradBasedCorrMaskRight (2) | 0.374061 |
CircGradBasedCorrMaskRight (3) | 0.268871 |
CircGradBasedCorrMaskRight (4) | 0.830289 |
CircGradBasedCorrMaskRight (5) | 0.683982 |
CircGradBasedCorrMaskRight (6) | 0.469062 |
CircGradBasedCorrMaskRight (7) | 0.991615 |
CircGradBasedCorrMaskRight (8) | 0.116637 |
CircGradBasedCorrMaskRight (9) | 0.489956 |
CircGradBasedCorrMaskRight | 0.660239 |
CircGradBasedCorrMaskRoundness | 0 |
CircGradBasedCorrMaskTop (1) | -0.015617 |
CircGradBasedCorrMaskTop (10) | 0.591163 |
CircGradBasedCorrMaskTop (11) | 0.757157 |
CircGradBasedCorrMaskTop (12) | 0.841129 |
CircGradBasedCorrMaskTop (13) | 0.804639 |
CircGradBasedCorrMaskTop (14) | 0.723826 |
CircGradBasedCorrMaskTop (15) | 0.459759 |
CircGradBasedCorrMaskTop (16) | 0.724493 |
CircGradBasedCorrMaskTop (17) | 0.578164 |
CircGradBasedCorrMaskTop (2) | 0.010268 |
CircGradBasedCorrMaskTop (3) | -0.038448 |
CircGradBasedCorrMaskTop (4) | 0.000707 |
CircGradBasedCorrMaskTop (5) | -0.011289 |
CircGradBasedCorrMaskTop (6) | 0.010418 |
CircGradBasedCorrMaskTop (7) | 0.006761 |
CircGradBasedCorrMaskTop (8) | 0.042991 |
CircGradBasedCorrMaskTop (9) | 0.597051 |
CircGradBasedCorrMaskTop | 0.540261 |
CircGradBasedCorrMaskValue | 1.000000 |
CircGradBasedCorrMaskVersion | +2 |
CircGradBasedCorrMaskWhat | Mask/CircularGradient |
CircGradBasedCorrMoire | 0.000000 |
CircGradBasedCorrSaturation | 0.000000 |
CircGradBasedCorrShadows2012 | 0.000000 |
CircGradBasedCorrSharpness | 0.000000 |
CircGradBasedCorrTemperature | 0.000000 |
CircGradBasedCorrTint | 0.000000 |
CircGradBasedCorrWhat | Correction |
CircleOfConfusion | 0.020 mm |
Clarity2012 | -10 |
ColorComponents | 3 |
ColorNoiseReduction | 25 |
ColorNoiseReductionDetail | 50 |
ColorNoiseReductionSmoothness | 50 |
ColorSpace | sRGB |
ColorTemperature | 7714 |
ColorTransform | YCbCr |
Contrast | Normal |
Contrast2012 | 0 |
ConvertToGrayscale | False |
CreateDate (1) | 2016:04:30 06:14:02.80 |
CreateDate | 2016:04:30 06:14:02 |
CreatorTool | Adobe Photoshop Lightroom 6.0 (Windows) |
CustomRendered | Normal |
DateCreated (1) | 2016:04:30 06:14:02.80 |
DateCreated | 2016:04:30 |
DateTimeOriginal | 2016:04:30 06:14:02 |
DefringeGreenAmount | 0 |
DefringeGreenHueHi | 60 |
DefringeGreenHueLo | 40 |
DefringePurpleAmount | 0 |
DefringePurpleHueHi | 70 |
DefringePurpleHueLo | 30 |
DigitalZoomRatio | 1 |
DOF | inf (1.63 m - inf) |
ExifImageHeight | 3264 |
ExifImageWidth | 4928 |
Exposure2012 | -0.24 |
ExposureCompensation | +1/3 |
ExposureMode | Manual |
ExposureProgram | Manual |
ExposureTime | 1/5 |
Flash | Off, Did not fire |
FNumber | 16.0 |
FocalLength | 23.0 mm |
FocalLength35efl | 23.0 mm (35 mm equivalent: 34.0 mm) |
FocalLengthIn35mmFormat | 34 mm |
Format | image/jpeg |
FOV | 55.8 deg |
GainControl | None |
GrainAmount | 0 |
GreenHue | 0 |
GreenSaturation | 0 |
HasCrop | False |
HasSettings | True |
Highlights2012 | -52 |
HueAdjustmentAqua | 0 |
HueAdjustmentBlue | 0 |
HueAdjustmentGreen | 0 |
HueAdjustmentMagenta | 0 |
HueAdjustmentOrange | +2 |
HueAdjustmentPurple | 0 |
HueAdjustmentRed | 0 |
HueAdjustmentYellow | +32 |
HyperfocalDistance | 1.63 m |
ImageHeight | 3264 |
ImageNumber | 12628 |
ImageSize | 4928x3264 |
ImageWidth | 4928 |
ISO | 320 |
Lens | 18.0-35.0 mm f/1.8 |
LensID (2) | 139 |
LensID | Sigma 18-35mm F1.8 DC HSM |
LensInfo | 18-35mm f/1.8 |
LensManualDistortionAmount | 0 |
LensModel | 18.0-35.0 mm f/1.8 |
LensProfileChromaticAberrationScale | 100 |
LensProfileDistortionScale | 100 |
LensProfileEnable | 1 |
LensProfileFilename | NIKON CORPORATION (SIGMA 18-35mm F1.8 DC HSM A013) - RAW.lcp |
LensProfileName | Adobe (SIGMA 18-35mm F1.8 DC HSM A013, NIKON CORPORATION) |
LensProfileSetup | LensDefaults |
LensProfileVignettingScale | 100 |
LightSource | Unknown |
LightValue | 8.6 |
LuminanceAdjustmentAqua | 0 |
LuminanceAdjustmentBlue | 0 |
LuminanceAdjustmentGreen | 0 |
LuminanceAdjustmentMagenta | 0 |
LuminanceAdjustmentOrange | 0 |
LuminanceAdjustmentPurple | 0 |
LuminanceAdjustmentRed | 0 |
LuminanceAdjustmentYellow | 0 |
LuminanceNoiseReductionContrast | 0 |
LuminanceNoiseReductionDetail | 50 |
LuminanceSmoothing | 13 |
Make | NIKON CORPORATION |
MaxApertureValue | 1.7 |
Megapixels | 16.1 |
MeteringMode | Center-weighted average |
Model | NIKON D7000 |
ModifyDate (1) | 2017:04:30 08:41:57+02:00 |
ModifyDate | 2017:04:30 08:41:57 |
Orientation | Horizontal (normal) |
ParametricDarks | 0 |
ParametricHighlights | 0 |
ParametricHighlightSplit | 75 |
ParametricLights | +11 |
ParametricMidtoneSplit | 50 |
ParametricShadows | -20 |
ParametricShadowSplit | 25 |
PerspectiveAspect | 0 |
PerspectiveHorizontal | 0 |
PerspectiveRotate | 0.0 |
PerspectiveScale | 100 |
PerspectiveUpright | 0 |
PerspectiveVertical | 0 |
PostCropVignetteAmount | -21 |
PostCropVignetteFeather | 50 |
PostCropVignetteHighlightContrast | 0 |
PostCropVignetteMidpoint | 50 |
PostCropVignetteRoundness | 0 |
PostCropVignetteStyle | 1 |
ProcessVersion | 6.7 |
ProfileDescription | sRGB IEC61966-2.1 |
RawFileName | DSC_2622.jpg |
RedHue | 0 |
RedSaturation | 0 |
Saturation (1) | +10 |
Saturation | Normal |
SaturationAdjustmentAqua | 0 |
SaturationAdjustmentBlue | 0 |
SaturationAdjustmentGreen | 0 |
SaturationAdjustmentMagenta | 0 |
SaturationAdjustmentOrange | 0 |
SaturationAdjustmentPurple | 0 |
SaturationAdjustmentRed | 0 |
SaturationAdjustmentYellow | 0 |
ScaleFactor35efl | 1.5 |
SceneCaptureType | Standard |
SceneType | Directly photographed |
SensingMethod | One-chip color area |
SensitivityType | Recommended Exposure Index |
SerialNumber | 6564262 |
Shadows2012 | +55 |
ShadowTint | 0 |
SharpenDetail | 25 |
SharpenEdgeMasking | 25 |
SharpenRadius | +1.0 |
Sharpness (1) | 50 |
Sharpness | Normal |
ShutterSpeed | 1/5 |
ShutterSpeedValue | 1/5 |
Software | Adobe Photoshop Lightroom 6.0 (Windows) |
SplitToningBalance | 0 |
SplitToningHighlightHue | 0 |
SplitToningHighlightSaturation | 0 |
SplitToningShadowHue | 0 |
SplitToningShadowSaturation | 0 |
SubjectDistanceRange | Unknown |
Tint | -36 |
ToneCurve | 0, 0, 255, 255 |
ToneCurveBlue | 0, 0, 255, 255 |
ToneCurveGreen | 0, 0, 255, 255 |
ToneCurveName | Linear |
ToneCurveName2012 | Linear |
ToneCurvePV2012 | 0, 0, 255, 255 |
ToneCurvePV2012Blue | 0, 0, 255, 255 |
ToneCurvePV2012Green | 0, 0, 255, 255 |
ToneCurvePV2012Red | 0, 0, 255, 255 |
ToneCurveRed | 0, 0, 255, 255 |
Version | 9.0 |
Vibrance | +7 |
VignetteAmount | 0 |
WhiteBalance (1) | Custom |
WhiteBalance | Auto |
Whites2012 | +40 |