Felt | Verdi |
AlreadyApplied | True |
AutoLateralCA | 0 |
AutoWhiteVersion | 134348800 |
BitsPerSample | 8 |
Blacks2012 | 0 |
BlueHue | 0 |
BlueSaturation | 0 |
CameraProfile | Embedded |
Clarity2012 | +7 |
ColorComponents | 3 |
ColorNoiseReduction | 0 |
ColorTransform | YCbCr |
Contrast2012 | +22 |
ConvertToGrayscale | True |
CreatorTool | Adobe Photoshop Lightroom 5.7 (Macintosh) |
CropAngle | 0 |
CropBottom | 0.685664 |
CropConstrainToWarp | 0 |
CropLeft | 0.016523 |
CropRight | 0.959536 |
CropTop | 0.371338 |
Exposure2012 | +0.89 |
Format | image/jpeg |
GradientBasedCorrActive | true |
GradientBasedCorrAmount | 1.000000 |
GradientBasedCorrBrightness | 0.000000 |
GradientBasedCorrClarity2012 (2) | 0.064732 |
GradientBasedCorrClarity2012 | 0.000000 |
GradientBasedCorrContrast2012 (2) | 0.222321 |
GradientBasedCorrContrast2012 | 0.000000 |
GradientBasedCorrDefringe | 0.000000 |
GradientBasedCorrExposure2012 (1) | 0.106176 |
GradientBasedCorrExposure2012 (2) | 0.228199 |
GradientBasedCorrExposure2012 | -0.310789 |
GradientBasedCorrHighlights2012 | 0.000000 |
GradientBasedCorrHue | 0.000000 |
GradientBasedCorrLuminanceNoise | 0.000000 |
GradientBasedCorrMaskFullX (1) | 0.236672 |
GradientBasedCorrMaskFullX (2) | 0.500932 |
GradientBasedCorrMaskFullX | 0.935352 |
GradientBasedCorrMaskFullY (1) | 0.377611 |
GradientBasedCorrMaskFullY (2) | 0.515215 |
GradientBasedCorrMaskFullY | 0.550635 |
GradientBasedCorrMaskValue | 1.000000 |
GradientBasedCorrMaskWhat | Mask/Gradient |
GradientBasedCorrMaskZeroX (1) | 0.238114 |
GradientBasedCorrMaskZeroX (2) | 0.498750 |
GradientBasedCorrMaskZeroX | 0.809748 |
GradientBasedCorrMaskZeroY (1) | 0.470137 |
GradientBasedCorrMaskZeroY (2) | 0.515209 |
GradientBasedCorrMaskZeroY | 0.552150 |
GradientBasedCorrMoire | 0.000000 |
GradientBasedCorrSaturation | 0.000000 |
GradientBasedCorrShadows2012 (1) | 0.201935 |
GradientBasedCorrShadows2012 (2) | -0.016220 |
GradientBasedCorrShadows2012 | -0.035045 |
GradientBasedCorrSharpness | 0.000000 |
GradientBasedCorrTemperature | 0.000000 |
GradientBasedCorrTint | 0.000000 |
GradientBasedCorrWhat | Correction |
GrainAmount | 0 |
GrayMixerAqua | -19 |
GrayMixerBlue | +8 |
GrayMixerGreen | -27 |
GrayMixerMagenta | +4 |
GrayMixerOrange | -18 |
GrayMixerPurple | +15 |
GrayMixerRed | -9 |
GrayMixerYellow | -22 |
GreenHue | 0 |
GreenSaturation | 0 |
HasCrop | True |
HasSettings | True |
Highlights2012 | 0 |
ImageHeight | 1103 |
ImageSize | 2338x1103 |
ImageWidth | 2338 |
IncrementalTemperature | 0 |
IncrementalTint | 0 |
LensManualDistortionAmount | 0 |
LensProfileEnable | 0 |
LensProfileSetup | LensDefaults |
LuminanceSmoothing | 0 |
Megapixels | 2.6 |
ModifyDate (1) | 2016:09:11 23:13:09+02:00 |
ModifyDate | 2016:09:11 23:13:09 |
ParametricDarks | 0 |
ParametricHighlights | 0 |
ParametricHighlightSplit | 75 |
ParametricLights | 0 |
ParametricMidtoneSplit | 50 |
ParametricShadows | 0 |
ParametricShadowSplit | 25 |
PerspectiveAspect | 0 |
PerspectiveHorizontal | 0 |
PerspectiveRotate | 0.0 |
PerspectiveScale | 100 |
PerspectiveUpright | 0 |
PerspectiveVertical | 0 |
PostCropVignetteAmount | 0 |
ProcessVersion | 6.7 |
ProfileDescription | sRGB IEC61966-2.1 |
RedHue | 0 |
RedSaturation | 0 |
Shadows2012 | 0 |
ShadowTint | 0 |
SharpenDetail | 25 |
SharpenEdgeMasking | 0 |
SharpenRadius | +1.0 |
Sharpness | 4 |
Software | Adobe Photoshop Lightroom 5.7 (Macintosh) |
SplitToningBalance | 0 |
SplitToningHighlightHue | 0 |
SplitToningHighlightSaturation | 0 |
SplitToningShadowHue | 0 |
SplitToningShadowSaturation | 0 |
ToneCurve | 0, 0, 255, 255 |
ToneCurveBlue | 0, 0, 255, 255 |
ToneCurveGreen | 0, 0, 255, 255 |
ToneCurveName | Linear |
ToneCurveName2012 | Linear |
ToneCurvePV2012 | 0, 0, 255, 255 |
ToneCurvePV2012Blue | 0, 0, 255, 255 |
ToneCurvePV2012Green | 0, 0, 255, 255 |
ToneCurvePV2012Red | 0, 0, 255, 255 |
ToneCurveRed | 0, 0, 255, 255 |
Version | 8.7 |
VignetteAmount | 0 |
WhiteBalance | As Shot |
Whites2012 | 0 |