Felt | Verdi |
AlreadyApplied | True |
Aperture | 4.0 |
ApertureValue | 4.0 |
ApproximateFocusDistance | 6.51 |
Artist | Roger Hansson |
AutoLateralCA | 0 |
AutoWhiteVersion | 134348800 |
BitsPerSample (1) | 8 8 8 |
BitsPerSample | 8 |
Blacks2012 | 0 |
BlueHue | 0 |
BlueSaturation | 0 |
By-line | Roger Hansson |
CameraProfile | Embedded |
CircleOfConfusion | 0.011 mm |
Clarity2012 | -32 |
ColorComponents | 3 |
ColorMode | RGB |
ColorNoiseReduction | 0 |
ColorSpace | Uncalibrated |
ColorTransform | YCbCr |
Contrast2012 | +27 |
ConvertToGrayscale | False |
CreateDate (1) | 2015:02:21 08:09 |
CreateDate | 2015:02:21 08:09:00 |
Creator | Roger Hansson |
CreatorTool | Adobe Photoshop CC 2015 (Macintosh) |
CropAngle | 0 |
CropBottom | 1 |
CropConstrainToWarp | 0 |
CropLeft | 0 |
CropRight | 1 |
CropTop | 0 |
CustomRendered | Normal |
DateCreated (1) | 2015:02:21 |
DateCreated | 2015:02:21 08:09 |
DateTimeOriginal | 2015:02:21 08:09:00 |
DefringeGreenAmount | 0 |
DefringeGreenHueHi | 60 |
DefringeGreenHueLo | 40 |
DefringePurpleAmount | 0 |
DefringePurpleHueHi | 70 |
DefringePurpleHueLo | 30 |
Dehaze | 0 |
DOF | 0.51 m (6.27 - 6.77 m) |
ExifImageHeight | 2042 |
ExifImageWidth | 1458 |
Exposure2012 | 0.00 |
ExposureCompensation | 0 |
ExposureMode | Auto |
ExposureProgram | Aperture-priority AE |
ExposureTime | 1/20 |
Firmware | 1.2.1 |
Flash | Off, Did not fire |
FlashCompensation | 0 |
FNumber | 4.0 |
FocalLength | 85.0 mm |
FocalLength35efl | 85.0 mm (35 mm equivalent: 234.5 mm) |
Format | image/jpeg |
FOV | 8.8 deg |
GrainAmount | 0 |
GreenHue | 0 |
GreenSaturation | 0 |
HasCrop | True |
HasExtendedXMP | 8C31AA85EE64D982136AB2AF699614AA |
HasSettings | True |
Highlights2012 | -38 |
HueAdjustmentAqua | 0 |
HueAdjustmentBlue | 0 |
HueAdjustmentGreen | 0 |
HueAdjustmentMagenta | 0 |
HueAdjustmentOrange | 0 |
HueAdjustmentPurple | 0 |
HueAdjustmentRed | 0 |
HueAdjustmentYellow | 0 |
HyperfocalDistance | 165.86 m |
ICCProfileName | ProPhoto RGB |
ImageHeight (1) | 4629 |
ImageHeight | 2042 |
ImageNumber | 0 |
ImageSize | 1458x2042 |
ImageWidth (1) | 3306 |
ImageWidth | 1458 |
IncrementalTemperature | 0 |
IncrementalTint | 0 |
ISO | 400 |
Label | |
Lens | EF24-105mm f/4L IS USM |
LensID (1) | 237 |
LensID | Canon EF 24-105mm f/4L IS USM |
LensInfo | 24-105mm f/? |
LensManualDistortionAmount | 0 |
LensModel | EF24-105mm f/4L IS USM |
LensProfileEnable | 0 |
LensProfileSetup | LensDefaults |
LensSerialNumber | 000030d195 |
LightValue | 6.3 |
LuminanceAdjustmentAqua | 0 |
LuminanceAdjustmentBlue | 0 |
LuminanceAdjustmentGreen | 0 |
LuminanceAdjustmentMagenta | 0 |
LuminanceAdjustmentOrange | 0 |
LuminanceAdjustmentPurple | 0 |
LuminanceAdjustmentRed | 0 |
LuminanceAdjustmentYellow | 0 |
LuminanceNoiseReductionContrast | 0 |
LuminanceNoiseReductionDetail | 50 |
LuminanceSmoothing | 19 |
Make | Canon |
MaxApertureValue | 4.0 |
Megapixels | 3.0 |
MeteringMode | Partial |
Model | Canon EOS 5D Mark III |
ModifyDate (1) | 2016:02:14 20:13:21+01:00 |
ModifyDate | 2016:02:14 20:13:21 |
Orientation | Horizontal (normal) |
PaintCorrectionActive | true |
PaintCorrectionAmount | 1.000000 |
PaintCorrectionBrightness | 0.000000 |
PaintCorrectionClarity | 0.000000 |
PaintCorrectionClarity2012 (3) | 0.000000 |
PaintCorrectionClarity2012 (7) | 0.176828 |
PaintCorrectionClarity2012 | 0.038016 |
PaintCorrectionContrast | 0.000000 |
PaintCorrectionContrast2012 (7) | 0.389230 |
PaintCorrectionContrast2012 (9) | 0.000000 |
PaintCorrectionContrast2012 | 0.038016 |
PaintCorrectionDefringe | 0.000000 |
PaintCorrectionExposure | 0.000000 |
PaintCorrectionExposure2012 (1) | -0.087681 |
PaintCorrectionExposure2012 (2) | -0.189593 |
PaintCorrectionExposure2012 (4) | -0.044573 |
PaintCorrectionExposure2012 | 0.000000 |
PaintCorrectionHighlights2012 (1) | 0.000000 |
PaintCorrectionHighlights2012 (5) | 0.017020 |
PaintCorrectionHighlights2012 (6) | 0.118025 |
PaintCorrectionHighlights2012 (7) | -0.357352 |
PaintCorrectionHighlights2012 (9) | -0.105190 |
PaintCorrectionHighlights2012 | 0.037388 |
PaintCorrectionHue | 240.000000 |
PaintCorrectionLuminanceNoise | 0.000000 |
PaintCorrectionMaskCenterWeight (2) | 0.000000 |
PaintCorrectionMaskCenterWeight | 0.117052 |
PaintCorrectionMaskFlow | 0.900166 |
PaintCorrectionMaskRadius (1) | 0.061298 |
PaintCorrectionMaskRadius (10) | 0.127819 |
PaintCorrectionMaskRadius (11) | 0.022869 |
PaintCorrectionMaskRadius (13) | 0.052719 |
PaintCorrectionMaskRadius (15) | 0.037523 |
PaintCorrectionMaskRadius (2) | 0.211290 |
PaintCorrectionMaskRadius (20) | 0.030128 |
PaintCorrectionMaskRadius (21) | 0.193829 |
PaintCorrectionMaskRadius (3) | 0.093142 |
PaintCorrectionMaskRadius (7) | 0.149908 |
PaintCorrectionMaskRadius (8) | 0.082343 |
PaintCorrectionMaskRadius | 0.015745 |
PaintCorrectionMaskValue | 1.000000 |
PaintCorrectionMaskWhat | Mask/Paint |
PaintCorrectionMoire | 0.000000 |
PaintCorrectionSaturation | 0.000000 |
PaintCorrectionShadows2012 (1) | -0.131906 |
PaintCorrectionShadows2012 (2) | -0.628348 |
PaintCorrectionShadows2012 (3) | -0.922642 |
PaintCorrectionShadows2012 (4) | -0.928781 |
PaintCorrectionShadows2012 (7) | -0.131975 |
PaintCorrectionShadows2012 (9) | 0.000000 |
PaintCorrectionShadows2012 | -0.150181 |
PaintCorrectionSharpness | 0.000000 |
PaintCorrectionTemperature | 0.000000 |
PaintCorrectionTint | 0.000000 |
PaintCorrectionWhat | Correction |
ParametricDarks | 0 |
ParametricHighlights | 0 |
ParametricHighlightSplit | 75 |
ParametricLights | 0 |
ParametricMidtoneSplit | 50 |
ParametricShadows | 0 |
ParametricShadowSplit | 25 |
PerspectiveAspect | 0 |
PerspectiveHorizontal | 0 |
PerspectiveRotate | 0.0 |
PerspectiveScale | 100 |
PerspectiveUpright | 0 |
PerspectiveVertical | 0 |
PhotometricInterpretation | RGB |
PostCropVignetteAmount | 0 |
ProcessVersion | 6.7 |
ProfileDescription | ProPhoto RGB |
Rating | 0 |
RawFileName | _F9A5931.1.tif |
RecommendedExposureIndex | 400 |
RedHue | 0 |
RedSaturation | 0 |
SamplesPerPixel | 3 |
Saturation | 0 |
SaturationAdjustmentAqua | 0 |
SaturationAdjustmentBlue | 0 |
SaturationAdjustmentGreen | 0 |
SaturationAdjustmentMagenta | 0 |
SaturationAdjustmentOrange | 0 |
SaturationAdjustmentPurple | 0 |
SaturationAdjustmentRed | 0 |
SaturationAdjustmentYellow | 0 |
ScaleFactor35efl | 2.8 |
SceneCaptureType | Standard |
SensitivityType | Recommended Exposure Index |
SerialNumber | 053023001599 |
Shadows2012 | 0 |
ShadowTint | 0 |
SharpenDetail | 50 |
SharpenEdgeMasking | 0 |
SharpenRadius | +1.1 |
Sharpness | 35 |
ShutterSpeed | 1/20 |
ShutterSpeedValue | 1/20 |
Software | Adobe Photoshop CC 2015 (Macintosh) |
SplitToningBalance | 0 |
SplitToningHighlightHue | 0 |
SplitToningHighlightSaturation | 0 |
SplitToningShadowHue | 0 |
SplitToningShadowSaturation | 0 |
ToneCurve | 0, 0, 255, 255 |
ToneCurveBlue | 0, 0, 255, 255 |
ToneCurveGreen | 0, 0, 255, 255 |
ToneCurveName | Linear |
ToneCurveName2012 | Linear |
ToneCurvePV2012 | 0, 0, 255, 255 |
ToneCurvePV2012Blue | 0, 0, 255, 255 |
ToneCurvePV2012Green | 0, 0, 255, 255 |
ToneCurvePV2012Red | 0, 0, 255, 255 |
ToneCurveRed | 0, 0, 255, 255 |
ToneMapStrength | 0 |
URL_List | |
Version | 9.3 |
Vibrance | 0 |
VignetteAmount | 0 |
WhiteBalance (1) | As Shot |
WhiteBalance | Auto |
Whites2012 | +27 |