Felt | Verdi |
AlreadyApplied | True |
Aperture | 11.0 |
ApertureValue | 11.0 |
ApproximateFocusDistance | 4294967295 |
Artist | Jorn Odegaard |
AutoLateralCA | 0 |
AutoWhiteVersion | 134348800 |
BitsPerSample | 8 |
Blacks2012 | 0 |
BlueHue | 0 |
BlueSaturation | 0 |
By-line | Jorn Odegaard |
CameraProfile | Embedded |
CircleOfConfusion | 0.030 mm |
Clarity2012 | +7 |
ColorComponents | 3 |
ColorNoiseReduction | 0 |
ColorTransform | YCbCr |
Contrast | Normal |
Contrast2012 | +12 |
ConvertToGrayscale | False |
Copyright | Jorn Odegaad |
CopyrightNotice | Jorn Odegaad |
CreateDate | 2015:11:04 16:32:33 |
Creator | Jorn Odegaard |
CreatorTool | Adobe Photoshop Lightroom 5.7.1 (Macintosh) |
CropAngle | 0 |
CropBottom | 0.788024 |
CropConstrainToWarp | 0 |
CropLeft | 0.100367 |
CropRight | 0.929082 |
CropTop | 0.018355 |
CustomRendered | Normal |
DateCreated (1) | 2015:11:04 |
DateCreated | 2015:11:04 16:32:33.002 |
DateTimeOriginal | 2015:11:04 16:32:33 |
DefringeGreenAmount | 0 |
DefringeGreenHueHi | 60 |
DefringeGreenHueLo | 40 |
DefringePurpleAmount | 0 |
DefringePurpleHueHi | 70 |
DefringePurpleHueLo | 30 |
DigitalZoomRatio | 1 |
DOF | inf (1.74 m - inf) |
Exposure2012 | 0.00 |
ExposureCompensation | -2 |
ExposureMode | Manual |
ExposureProgram | Manual |
ExposureTime | 0.4 |
Flash | Off, Did not fire |
FNumber | 11.0 |
FocalLength | 24.0 mm |
FocalLength35efl | 24.0 mm (35 mm equivalent: 24.0 mm) |
FocalLengthIn35mmFormat | 24 mm |
Format | image/jpeg |
FOV | 73.7 deg |
GainControl | None |
GradientBasedCorrActive | true |
GradientBasedCorrAmount | 1.000000 |
GradientBasedCorrBrightness | 0.000000 |
GradientBasedCorrClarity2012 | 0.106215 |
GradientBasedCorrContrast2012 | 0.145277 |
GradientBasedCorrDefringe | 0.000000 |
GradientBasedCorrExposure2012 | -0.063641 |
GradientBasedCorrHighlights2012 | 0.000000 |
GradientBasedCorrHue | 240.000000 |
GradientBasedCorrLuminanceNoise | 0.000000 |
GradientBasedCorrMaskFullX | 0.608484 |
GradientBasedCorrMaskFullY | 0.079062 |
GradientBasedCorrMaskValue | 1.000000 |
GradientBasedCorrMaskWhat | Mask/Gradient |
GradientBasedCorrMaskZeroX | 0.604346 |
GradientBasedCorrMaskZeroY | 0.776930 |
GradientBasedCorrMoire | 0.000000 |
GradientBasedCorrSaturation (1) | 0.033796 |
GradientBasedCorrSaturation | 0.000000 |
GradientBasedCorrShadows2012 | 0.000000 |
GradientBasedCorrSharpness | 0.000000 |
GradientBasedCorrTemperature | 0.000000 |
GradientBasedCorrTint | 0.000000 |
GradientBasedCorrWhat | Correction |
GrainAmount | 0 |
GreenHue | 0 |
GreenSaturation | 0 |
HasCrop | True |
HasExtendedXMP | 41366CACF2A3F761913DCE9D9FD2C2A9 |
HasSettings | True |
Highlights2012 | -74 |
HueAdjustmentAqua | 0 |
HueAdjustmentBlue | 0 |
HueAdjustmentGreen | 0 |
HueAdjustmentMagenta | 0 |
HueAdjustmentOrange | 0 |
HueAdjustmentPurple | 0 |
HueAdjustmentRed | 0 |
HueAdjustmentYellow | 0 |
HyperfocalDistance | 1.74 m |
ImageHeight | 7701 |
ImageNumber | 18091 |
ImageSize | 12437x7701 |
ImageWidth | 12437 |
IncrementalTemperature | +2 |
IncrementalTint | +6 |
ISO | 100 |
LateralChromaticAberrationCorrectionAlreadyApplied | True |
Lens | 24.0-85.0 mm f/3.5-4.5 |
LensID (1) | 180 |
LensID | AF-S Zoom-Nikkor 24-85mm f/3.5-4.5G IF-ED VR |
LensInfo | 24-85mm f/3.5-4.5 |
LensManualDistortionAmount | 0 |
LensModel | 24.0-85.0 mm f/3.5-4.5 |
LensProfileEnable | 0 |
LensProfileSetup | LensDefaults |
LightSource | Cloudy |
LightValue | 8.2 |
LuminanceAdjustmentAqua | 0 |
LuminanceAdjustmentBlue | 0 |
LuminanceAdjustmentGreen | 0 |
LuminanceAdjustmentMagenta | 0 |
LuminanceAdjustmentOrange | 0 |
LuminanceAdjustmentPurple | 0 |
LuminanceAdjustmentRed | 0 |
LuminanceAdjustmentYellow | 0 |
LuminanceSmoothing | 0 |
Make | NIKON CORPORATION |
MaxApertureValue | 3.5 |
Megapixels | 95.8 |
MeteringMode | Spot |
Model | NIKON D800 |
ModifyDate (1) | 2015:11:10 19:32:16+01:00 |
ModifyDate | 2015:11:10 19:32:16 |
PaintCorrectionActive | true |
PaintCorrectionAmount | 1.000000 |
PaintCorrectionBrightness | 0.000000 |
PaintCorrectionClarity2012 (1) | 0.147735 |
PaintCorrectionClarity2012 (2) | 0.106215 |
PaintCorrectionClarity2012 (4) | 0.098841 |
PaintCorrectionClarity2012 | 0.000000 |
PaintCorrectionContrast2012 (2) | 0.145277 |
PaintCorrectionContrast2012 (4) | 0.133164 |
PaintCorrectionContrast2012 | 0.000000 |
PaintCorrectionDefringe | 0.000000 |
PaintCorrectionExposure2012 (1) | 0.109463 |
PaintCorrectionExposure2012 (2) | 0.000000 |
PaintCorrectionExposure2012 (3) | 0.048894 |
PaintCorrectionExposure2012 (4) | 0.118153 |
PaintCorrectionExposure2012 (5) | -0.098139 |
PaintCorrectionExposure2012 | 0.054320 |
PaintCorrectionHighlights2012 | 0.000000 |
PaintCorrectionHue | 240.000000 |
PaintCorrectionLuminanceNoise | 0.000000 |
PaintCorrectionMaskCenterWeight (9) | 0.179067 |
PaintCorrectionMaskCenterWeight | 1.000000 |
PaintCorrectionMaskFlow | 0.789260 |
PaintCorrectionMaskRadius (10) | 0.075972 |
PaintCorrectionMaskRadius (12) | 0.008135 |
PaintCorrectionMaskRadius (16) | 0.006379 |
PaintCorrectionMaskRadius (2) | 0.011656 |
PaintCorrectionMaskRadius (20) | 0.001353 |
PaintCorrectionMaskRadius (24) | 0.004439 |
PaintCorrectionMaskRadius (27) | 0.003252 |
PaintCorrectionMaskRadius (31) | 0.039507 |
PaintCorrectionMaskRadius (34) | 0.005299 |
PaintCorrectionMaskRadius (36) | 0.001634 |
PaintCorrectionMaskRadius (40) | 0.001361 |
PaintCorrectionMaskRadius | 0.003378 |
PaintCorrectionMaskValue | 0.336152 |
PaintCorrectionMaskWhat | Mask/Paint |
PaintCorrectionMoire | 0.000000 |
PaintCorrectionSaturation (11) | -0.441820 |
PaintCorrectionSaturation (3) | 0.246050 |
PaintCorrectionSaturation (7) | 0.199702 |
PaintCorrectionSaturation | 0.000000 |
PaintCorrectionShadows2012 | 0.000000 |
PaintCorrectionSharpness | 0.000000 |
PaintCorrectionTemperature | 0.000000 |
PaintCorrectionTint | 0.000000 |
PaintCorrectionWhat | Correction |
ParametricDarks | 0 |
ParametricHighlights | 0 |
ParametricHighlightSplit | 75 |
ParametricLights | 0 |
ParametricMidtoneSplit | 50 |
ParametricShadows | 0 |
ParametricShadowSplit | 25 |
PerspectiveAspect | 0 |
PerspectiveHorizontal | 0 |
PerspectiveRotate | 0.0 |
PerspectiveScale | 100 |
PerspectiveUpright | 1 |
PerspectiveVertical | 0 |
PostCropVignetteAmount | -16 |
PostCropVignetteFeather | 60 |
PostCropVignetteHighlightContrast | 0 |
PostCropVignetteMidpoint | 50 |
PostCropVignetteRoundness | 0 |
PostCropVignetteStyle | 1 |
ProcessVersion | 6.7 |
ProfileDescription | sRGB IEC61966-2.1 |
RedHue | 0 |
RedSaturation | 0 |
Rights | Jorn Odegaad |
Saturation (1) | +6 |
Saturation | Normal |
SaturationAdjustmentAqua | 0 |
SaturationAdjustmentBlue | 0 |
SaturationAdjustmentGreen | 0 |
SaturationAdjustmentMagenta | 0 |
SaturationAdjustmentOrange | 0 |
SaturationAdjustmentPurple | 0 |
SaturationAdjustmentRed | 0 |
SaturationAdjustmentYellow | 0 |
ScaleFactor35efl | 1.0 |
SceneCaptureType | Landscape |
SceneType | Directly photographed |
SensingMethod | One-chip color area |
SensitivityType | Recommended Exposure Index |
SerialNumber | 6042024 |
Shadows2012 | +13 |
ShadowTint | 0 |
SharpenDetail | 25 |
SharpenEdgeMasking | 0 |
SharpenRadius | +1.0 |
Sharpness (1) | 0 |
Sharpness | Normal |
ShutterSpeed | 0.4 |
ShutterSpeedValue | 0.4 |
Software | Adobe Photoshop Lightroom 5.7.1 (Macintosh) |
SplitToningBalance | 0 |
SplitToningHighlightHue | 0 |
SplitToningHighlightSaturation | 0 |
SplitToningShadowHue | 0 |
SplitToningShadowSaturation | 0 |
SubjectDistanceRange | Unknown |
ToneCurve | 0, 0, 255, 255 |
ToneCurveBlue | 0, 0, 255, 255 |
ToneCurveGreen | 0, 0, 255, 255 |
ToneCurveName | Linear |
ToneCurveName2012 | Linear |
ToneCurvePV2012 | 0, 0, 255, 255 |
ToneCurvePV2012Blue | 0, 0, 255, 255 |
ToneCurvePV2012Green | 0, 0, 255, 255 |
ToneCurvePV2012Red | 0, 0, 255, 255 |
ToneCurveRed | 0, 0, 255, 255 |
Transformation | Perspective |
Version | 8.7.1 |
Vibrance | 0 |
VignetteAmount | 0 |
VirtualFocalLength | 0.293724 |
VirtualImageXCenter | 0.366298 |
VirtualImageYCenter | 0.453696 |
WhiteBalance (1) | Custom |
WhiteBalance | Manual |
Whites2012 | +7 |