Felt | Verdi |
AlreadyApplied | True |
Aperture | 6.3 |
ApertureValue | 6.3 |
ApproximateFocusDistance | 2.99 |
AutoLateralCA | 0 |
BitsPerSample (1) | 8 8 8 |
BitsPerSample | 8 |
Blacks2012 | +26 |
BlueHue | 0 |
BlueSaturation | 0 |
Brightness | +50 |
CameraProfile | Adobe Standard |
CFAPattern | [Green,Blue][Red,Green] |
CircleOfConfusion | 0.020 mm |
Clarity | +45 |
Clarity2012 | +31 |
ColorComponents | 3 |
ColorMode | RGB |
ColorNoiseReduction | 25 |
ColorNoiseReductionDetail | 50 |
ColorSpace | Uncalibrated |
ColorTemperature | 7500 |
ColorTransform | YCbCr |
Contrast (1) | +25 |
Contrast | Normal |
Contrast2012 | +6 |
ConvertToGrayscale | False |
CreateDate | 2014:10:18 18:47:16 |
CreatorTool | Adobe Photoshop CS6 (Windows) |
CustomRendered | Custom |
DateCreated (1) | 2014:10:18 |
DateCreated | 2014:10:18 18:47:16.001 |
DateTimeOriginal | 2014:10:18 18:47:16 |
Defringe | 0 |
DigitalZoomRatio | 1 |
DOF | inf (1.39 m - inf) |
ExifImageHeight | 3502 |
ExifImageWidth | 6144 |
Exposure | 0.00 |
Exposure2012 | +0.45 |
ExposureCompensation | 0 |
ExposureMode | Manual |
ExposureProgram | Manual |
ExposureTime | 25 |
FillLight | 0 |
Flash | No Flash |
FNumber | 6.3 |
FocalLength | 18.0 mm |
FocalLength35efl | 18.0 mm (35 mm equivalent: 27.0 mm) |
FocalLengthIn35mmFormat | 27 mm |
Format | image/jpeg |
FOV | 67.4 deg |
GainControl | None |
GrainAmount | 0 |
GreenHue | 0 |
GreenSaturation | 0 |
HasCrop | False |
HasSettings | True |
HighlightRecovery | 0 |
Highlights2012 | -7 |
HueAdjustmentAqua | 0 |
HueAdjustmentBlue | +2 |
HueAdjustmentGreen | 0 |
HueAdjustmentMagenta | 0 |
HueAdjustmentOrange | 0 |
HueAdjustmentPurple | +1 |
HueAdjustmentRed | 0 |
HueAdjustmentYellow | 0 |
HyperfocalDistance | 2.57 m |
ICCProfileName | Adobe RGB (1998) |
ImageHeight (1) | 4096 |
ImageHeight | 3502 |
ImageNumber | 14546 |
ImageSize | 6144x3502 |
ImageWidth | 6144 |
ISO | 100 |
Lens | 18.0-200.0 mm f/3.5-6.3 |
LensID (1) | 255 |
LensID | Sigma 18-200mm F3.5-6.3 DC |
LensInfo | 18-200mm f/3.5-6.3 |
LensManualDistortionAmount | 0 |
LensManufacturer | Sigma |
LensModel | 18.0-200.0 mm f/3.5-6.3 |
LensProfileEnable | 0 |
LensProfileSetup | LensDefaults |
LightSource | Unknown |
LightValue | 0.7 |
LuminanceAdjustmentAqua | 0 |
LuminanceAdjustmentBlue | -13 |
LuminanceAdjustmentGreen | 0 |
LuminanceAdjustmentMagenta | 0 |
LuminanceAdjustmentOrange | 0 |
LuminanceAdjustmentPurple | -3 |
LuminanceAdjustmentRed | 0 |
LuminanceAdjustmentYellow | 0 |
LuminanceNoiseReductionContrast | 0 |
LuminanceNoiseReductionDetail | 50 |
LuminanceSmoothing | 14 |
Make | NIKON CORPORATION |
MaxApertureValue | 3.5 |
Megapixels | 21.5 |
MeteringMode | Multi-segment |
Model | NIKON D3100 |
ModifyDate (1) | 2014:10:18 22:19:26+02:00 |
ModifyDate | 2014:10:18 22:19:26 |
Orientation | Horizontal (normal) |
ParametricDarks | -23 |
ParametricHighlights | -27 |
ParametricHighlightSplit | 75 |
ParametricLights | -64 |
ParametricMidtoneSplit | 50 |
ParametricShadows | -49 |
ParametricShadowSplit | 25 |
PerspectiveHorizontal | 0 |
PerspectiveRotate | 0.0 |
PerspectiveScale | 100 |
PerspectiveVertical | 0 |
PhotometricInterpretation | RGB |
PostCropVignetteAmount | 0 |
ProcessVersion | 6.7 |
ProfileDescription | Adobe RGB (1998) |
Rating | 0 |
RawFileName | _DSC5662.NEF |
RedHue | 0 |
RedSaturation | 0 |
SamplesPerPixel | 3 |
Saturation (1) | 0 |
Saturation | Normal |
SaturationAdjustmentAqua | 0 |
SaturationAdjustmentBlue | +10 |
SaturationAdjustmentGreen | 0 |
SaturationAdjustmentMagenta | 0 |
SaturationAdjustmentOrange | 0 |
SaturationAdjustmentPurple | +1 |
SaturationAdjustmentRed | 0 |
SaturationAdjustmentYellow | 0 |
ScaleFactor35efl | 1.5 |
SceneCaptureType | Standard |
SceneType | Directly photographed |
SensingMethod | One-chip color area |
SerialNumber | 6042554 |
Shadows | 25 |
Shadows2012 | +7 |
ShadowTint | 0 |
SharpenDetail | 15 |
SharpenEdgeMasking | 5 |
SharpenRadius | +1.0 |
Sharpness (1) | 85 |
Sharpness | Normal |
ShutterSpeed | 25 |
ShutterSpeedValue | 25 |
Software | Adobe Photoshop CS6 (Windows) |
SplitToningBalance | 0 |
SplitToningHighlightHue | 0 |
SplitToningHighlightSaturation | 0 |
SplitToningShadowHue | 0 |
SplitToningShadowSaturation | 0 |
SubjectDistanceRange | Unknown |
Tint | +21 |
ToneCurve | 0, 0, 32, 16, 64, 50, 128, 128, 192, 202, 255, 255 |
ToneCurveBlue | 0, 0, 255, 255 |
ToneCurveGreen | 0, 0, 255, 255 |
ToneCurveName | Strong Contrast |
ToneCurveName2012 | Strong Contrast |
ToneCurvePV2012 | 0, 0, 32, 16, 64, 50, 128, 128, 192, 202, 255, 255 |
ToneCurvePV2012Blue | 0, 0, 255, 255 |
ToneCurvePV2012Green | 0, 0, 255, 255 |
ToneCurvePV2012Red | 0, 0, 255, 255 |
ToneCurveRed | 0, 0, 255, 255 |
URL_List | |
UserComment | raymojo2@hotmail.com |
Version | 7.0 |
Vibrance | +7 |
VignetteAmount | 0 |
WhiteBalance | Auto |
Whites2012 | +28 |