Felt | Verdi |
AlreadyApplied | True |
Aperture | 4.5 |
ApertureValue | 4.5 |
ApproximateFocusDistance | 5.31 |
AutoLateralCA | 0 |
BitsPerSample (1) | 8 8 8 |
BitsPerSample | 8 |
Blacks2012 | +33 |
BlueHue | 0 |
BlueSaturation | 0 |
CameraProfile | Camera Landscape |
CFAPattern | [Red,Green][Green,Blue] |
CircleOfConfusion | 0.030 mm |
Clarity2012 | +24 |
ColorComponents | 3 |
ColorMode | RGB |
ColorNoiseReduction | 25 |
ColorNoiseReductionDetail | 50 |
ColorSpace | sRGB |
ColorTemperature | 2850 |
ColorTransform | YCbCr |
Contrast | Normal |
Contrast2012 | -50 |
ConvertToGrayscale | False |
CreateDate | 2014:06:05 12:13:16 |
CreatorTool | Adobe Photoshop CS6 (Windows) |
CropAngle | 7.24354 |
CropBottom | 0.949199 |
CropConstrainToWarp | 0 |
CropHeight | 3823 |
CropLeft | 0.069311 |
CropRight | 0.934518 |
CropTop | 0 |
CropUnit | pixels |
CropWidth | 6905 |
CustomRendered | Normal |
DateCreated (1) | 2014:06:05 |
DateCreated | 2014:06:05 12:13:16.001 |
DateTimeOriginal | 2014:06:05 12:13:16 |
DefringeGreenAmount | 0 |
DefringeGreenHueHi | 60 |
DefringeGreenHueLo | 40 |
DefringePurpleAmount | 0 |
DefringePurpleHueHi | 70 |
DefringePurpleHueLo | 30 |
DigitalZoomRatio | 1 |
DOF | 2.03 m (4.48 - 6.51 m) |
ExifImageHeight | 4730 |
ExifImageWidth | 5452 |
Exposure2012 | +1.19 |
ExposureCompensation | -1 |
ExposureMode | Manual |
ExposureProgram | Manual |
ExposureTime | 1/60 |
Flash | Off, Did not fire |
FNumber | 4.5 |
FocalLength | 62.0 mm |
FocalLength35efl | 62.0 mm (35 mm equivalent: 62.0 mm) |
FocalLengthIn35mmFormat | 62 mm |
Format | image/jpeg |
FOV | 32.4 deg |
GainControl | Low gain up |
GrainAmount | 0 |
GreenHue | 0 |
GreenSaturation | 0 |
HasCrop | True |
HasSettings | True |
Highlights2012 | -26 |
HueAdjustmentAqua | 0 |
HueAdjustmentBlue | 0 |
HueAdjustmentGreen | 0 |
HueAdjustmentMagenta | 0 |
HueAdjustmentOrange | 0 |
HueAdjustmentPurple | 0 |
HueAdjustmentRed | 0 |
HueAdjustmentYellow | 0 |
HyperfocalDistance | 28.43 m |
ICCProfileName | sRGB IEC61966-2.1 |
ImageHeight (1) | 3823 |
ImageHeight | 4730 |
ImageNumber | 22518 |
ImageSize | 5452x4730 |
ImageWidth (1) | 6905 |
ImageWidth | 5452 |
ISO | 400 |
Lens | 24.0-85.0 mm f/3.5-4.5 |
LensID (1) | 180 |
LensID | AF-S Zoom-Nikkor 24-85mm f/3.5-4.5G IF-ED VR |
LensInfo | 24-85mm f/3.5-4.5 |
LensManualDistortionAmount | 0 |
LensModel | 24.0-85.0 mm f/3.5-4.5 |
LensProfileChromaticAberrationScale | 100 |
LensProfileDistortionScale | 200 |
LensProfileEnable | 1 |
LensProfileFilename | NIKON D700 (Nikon AF-S NIKKOR 24-85mm f3.5-4.5G ED VR) - RAW.lcp |
LensProfileName | Adobe (Nikon AF-S NIKKOR 24-85mm f/3.5-4.5G ED VR) |
LensProfileSetup | Custom |
LensProfileVignettingScale | 200 |
LightSource | Tungsten (Incandescent) |
LightValue | 8.2 |
LuminanceAdjustmentAqua | 0 |
LuminanceAdjustmentBlue | 0 |
LuminanceAdjustmentGreen | 0 |
LuminanceAdjustmentMagenta | 0 |
LuminanceAdjustmentOrange | 0 |
LuminanceAdjustmentPurple | 0 |
LuminanceAdjustmentRed | 0 |
LuminanceAdjustmentYellow | 0 |
LuminanceNoiseReductionContrast | 35 |
LuminanceNoiseReductionDetail | 50 |
LuminanceSmoothing | 36 |
Make | NIKON CORPORATION |
MaxApertureValue | 4.4 |
Megapixels | 25.8 |
MeteringMode | Multi-segment |
Model | NIKON D800 |
ModifyDate (1) | 2014:07:04 01:16:40+02:00 |
ModifyDate | 2014:07:04 01:16:40 |
Orientation | Horizontal (normal) |
PaintCorrectionActive | true |
PaintCorrectionAmount | 1.000000 |
PaintCorrectionBrightness | 0.000000 |
PaintCorrectionClarity2012 | 0.023810 |
PaintCorrectionContrast2012 | 0.000000 |
PaintCorrectionDefringe | 0.000000 |
PaintCorrectionExposure2012 | 0.000000 |
PaintCorrectionHighlights2012 | 0.000000 |
PaintCorrectionHue | 0.000000 |
PaintCorrectionLuminanceNoise | 0.000000 |
PaintCorrectionMaskCenterWeight | 0.009902 |
PaintCorrectionMaskFlow | 0.942000 |
PaintCorrectionMaskRadius (1) | 0.060493 |
PaintCorrectionMaskRadius (2) | 0.060848 |
PaintCorrectionMaskRadius (3) | 0.064025 |
PaintCorrectionMaskRadius (4) | 0.067078 |
PaintCorrectionMaskRadius (5) | 0.063728 |
PaintCorrectionMaskRadius | 0.060529 |
PaintCorrectionMaskValue | 0.966000 |
PaintCorrectionMaskWhat | Mask/Paint |
PaintCorrectionMoire | 0.000000 |
PaintCorrectionSaturation | 0.000000 |
PaintCorrectionShadows2012 | 0.000000 |
PaintCorrectionSharpness | 0.880950 |
PaintCorrectionTemperature | 0.000000 |
PaintCorrectionTint | 0.000000 |
PaintCorrectionWhat | Correction |
ParametricDarks | 0 |
ParametricHighlights | 0 |
ParametricHighlightSplit | 75 |
ParametricLights | 0 |
ParametricMidtoneSplit | 50 |
ParametricShadows | 0 |
ParametricShadowSplit | 25 |
PerspectiveHorizontal | 0 |
PerspectiveRotate | 0.0 |
PerspectiveScale | 100 |
PerspectiveVertical | 0 |
PhotometricInterpretation | RGB |
PostCropVignetteAmount | -17 |
PostCropVignetteFeather | 100 |
PostCropVignetteHighlightContrast | 0 |
PostCropVignetteMidpoint | 24 |
PostCropVignetteRoundness | +45 |
PostCropVignetteStyle | 1 |
ProcessVersion | 6.7 |
ProfileDescription | sRGB IEC61966-2.1 |
RedHue | 0 |
RedSaturation | 0 |
SamplesPerPixel | 3 |
Saturation (1) | 0 |
Saturation | Normal |
SaturationAdjustmentAqua | 0 |
SaturationAdjustmentBlue | 0 |
SaturationAdjustmentGreen | 0 |
SaturationAdjustmentMagenta | 0 |
SaturationAdjustmentOrange | 0 |
SaturationAdjustmentPurple | 0 |
SaturationAdjustmentRed | 0 |
SaturationAdjustmentYellow | 0 |
ScaleFactor35efl | 1.0 |
SceneCaptureType | Portrait |
SceneType | Directly photographed |
SensingMethod | One-chip color area |
SensitivityType | Recommended Exposure Index |
SerialNumber | 6111556 |
Shadows2012 | -10 |
ShadowTint | 0 |
SharpenDetail | 25 |
SharpenEdgeMasking | 21 |
SharpenRadius | +1.4 |
Sharpness (1) | 129 |
Sharpness | Normal |
ShutterSpeed | 1/60 |
ShutterSpeedValue | 1/60 |
Software | Adobe Photoshop CS6 (Windows) |
SplitToningBalance | 0 |
SplitToningHighlightHue | 0 |
SplitToningHighlightSaturation | 0 |
SplitToningShadowHue | 0 |
SplitToningShadowSaturation | 0 |
SubjectDistanceRange | Unknown |
Tint | 0 |
ToneCurveName2012 | Custom |
ToneCurvePV2012 | 0, 0, 70, 66, 195, 208, 255, 255 |
ToneCurvePV2012Blue | 0, 0, 255, 255 |
ToneCurvePV2012Green | 0, 0, 255, 255 |
ToneCurvePV2012Red | 0, 0, 255, 255 |
URL_List | |
Version | 7.3 |
Vibrance | 0 |
VignetteAmount | 0 |
WhiteBalance (1) | Auto |
WhiteBalance | Manual |
Whites2012 | -45 |