Felt | Verdi |
AlreadyApplied | True |
Aperture | 5.6 |
ApertureValue | 5.6 |
ApproximateFocusDistance | 14.4 |
Artist | Picasa |
AutoLateralCA | 0 |
BitsPerSample | 8 |
Blacks2012 | +12 |
BlueHue | 0 |
BlueSaturation | 0 |
By-line | Picasa |
CameraProfile | Adobe Standard |
CircleOfConfusion | 0.019 mm |
Clarity2012 | +46 |
ColorComponents | 3 |
ColorNoiseReduction | 25 |
ColorNoiseReductionDetail | 50 |
ColorTemperature | 4796 |
Contrast2012 | -25 |
ConvertToGrayscale | False |
CreateDate (1) | 2011:10:18 12:33:50.51 |
CreateDate | 2011:10:18 12:33:50 |
Creator | Picasa |
CreatorTool | Adobe Photoshop Lightroom 4.4 (Windows) |
CropAngle | 0.930784 |
CropBottom | 1 |
CropConstrainToWarp | 0 |
CropHeight | 2969 |
CropLeft | 0.016758 |
CropRight | 0.982818 |
CropTop | 0.039115 |
CropUnit | pixels |
CropWidth | 4640 |
CustomRendered | Normal |
DateCreated (1) | 2011:10:18 12:33:50.51 |
DateCreated | 2011:10:18 |
DateTimeOriginal | 2011:10:18 12:33:50 |
DefringeGreenAmount | 0 |
DefringeGreenHueHi | 60 |
DefringeGreenHueLo | 40 |
DefringePurpleAmount | 0 |
DefringePurpleHueHi | 70 |
DefringePurpleHueLo | 30 |
DOF | 5.88 m (12.04 - 17.92 m) |
ExifImageHeight | 3251 |
ExifImageWidth | 4922 |
Exposure2012 | +1.88 |
ExposureCompensation | -2/3 |
ExposureMode | Auto |
ExposureProgram | Shutter speed priority AE |
ExposureTime | 1/80 |
Firmware | 1.0.7 |
Flash | Off, Did not fire |
FlashCompensation | 0 |
FNumber | 5.6 |
FocalLength | 88.0 mm |
FocalLength35efl | 88.0 mm (35 mm equivalent: 139.4 mm) |
Format | image/jpeg |
FOV | 14.7 deg |
GrainAmount | 0 |
GreenHue | 0 |
GreenSaturation | 0 |
HasCrop | True |
HasSettings | True |
Highlights2012 | +46 |
HueAdjustmentAqua | 0 |
HueAdjustmentBlue | 0 |
HueAdjustmentGreen | 0 |
HueAdjustmentMagenta | 0 |
HueAdjustmentOrange | 0 |
HueAdjustmentPurple | 0 |
HueAdjustmentRed | 0 |
HueAdjustmentYellow | 0 |
HyperfocalDistance | 72.93 m |
ImageHeight | 3251 |
ImageNumber | 0 |
ImageSize | 4922x3251 |
ImageWidth | 4922 |
ISO | 400 |
Lens | 18-200mm |
LensID (1) | 169 |
LensID | Sigma 18-200mm f/3.5-6.3 DC OS |
LensInfo | 18-200mm f/? |
LensManualDistortionAmount | 0 |
LensModel | 18-200mm |
LensProfileEnable | 0 |
LensProfileSetup | LensDefaults |
LightValue | 9.3 |
LuminanceAdjustmentAqua | 0 |
LuminanceAdjustmentBlue | 0 |
LuminanceAdjustmentGreen | 0 |
LuminanceAdjustmentMagenta | 0 |
LuminanceAdjustmentOrange | 0 |
LuminanceAdjustmentPurple | 0 |
LuminanceAdjustmentRed | 0 |
LuminanceAdjustmentYellow | 0 |
LuminanceNoiseReductionContrast | 35 |
LuminanceNoiseReductionDetail | 50 |
LuminanceSmoothing | 67 |
Make | Canon |
MaxApertureValue | 5.7 |
Megapixels | 16.0 |
MeteringMode | Multi-segment |
Model | Canon EOS 50D |
ModifyDate (1) | 2014:05:28 23:53:33+02:00 |
ModifyDate | 2014:05:28 23:53:33 |
ParametricDarks | +38 |
ParametricHighlights | +32 |
ParametricHighlightSplit | 75 |
ParametricLights | +25 |
ParametricMidtoneSplit | 50 |
ParametricShadows | +21 |
ParametricShadowSplit | 25 |
PerspectiveHorizontal | 0 |
PerspectiveRotate | 0.0 |
PerspectiveScale | 100 |
PerspectiveVertical | 0 |
PostCropVignetteAmount | 0 |
ProcessVersion | 6.7 |
RedHue | +10 |
RedSaturation | +18 |
RelatedImageHeight | 2969 |
RelatedImageWidth | 4640 |
Saturation | -87 |
SaturationAdjustmentAqua | 0 |
SaturationAdjustmentBlue | 0 |
SaturationAdjustmentGreen | 0 |
SaturationAdjustmentMagenta | 0 |
SaturationAdjustmentOrange | 0 |
SaturationAdjustmentPurple | 0 |
SaturationAdjustmentRed | 0 |
SaturationAdjustmentYellow | 0 |
ScaleFactor35efl | 1.6 |
SceneCaptureType | Standard |
SerialNumber | 1960703577 |
Shadows2012 | -16 |
ShadowTint | 0 |
SharpenDetail | 44 |
SharpenEdgeMasking | 0 |
SharpenRadius | +1.8 |
Sharpness | 82 |
ShutterSpeed | 1/80 |
ShutterSpeedValue | 1/80 |
Software | Adobe Photoshop Lightroom 4.4 (Windows) |
SplitToningBalance | 0 |
SplitToningHighlightHue | 0 |
SplitToningHighlightSaturation | 0 |
SplitToningShadowHue | 0 |
SplitToningShadowSaturation | 0 |
Tint | +26 |
ToneCurveName2012 | Linear |
ToneCurvePV2012 | 0, 0, 255, 255 |
ToneCurvePV2012Blue | 0, 0, 255, 255 |
ToneCurvePV2012Green | 0, 0, 255, 255 |
ToneCurvePV2012Red | 0, 0, 255, 255 |
Version | 7.4 |
Vibrance | -20 |
VignetteAmount | 0 |
WhiteBalance (1) | Custom |
WhiteBalance | Auto |
Whites2012 | +35 |